BEGIN:VCALENDAR
VERSION:2.0
PRODID:-//Fareconnect Events - ECPv6.15.20//NONSGML v1.0//EN
CALSCALE:GREGORIAN
METHOD:PUBLISH
X-ORIGINAL-URL:https://fareconnectevents.com
X-WR-CALDESC:Events for Fareconnect Events
REFRESH-INTERVAL;VALUE=DURATION:PT1H
X-Robots-Tag:noindex
X-PUBLISHED-TTL:PT1H
BEGIN:VTIMEZONE
TZID:America/Winnipeg
BEGIN:DAYLIGHT
TZOFFSETFROM:-0600
TZOFFSETTO:-0500
TZNAME:CDT
DTSTART:20230312T080000
END:DAYLIGHT
BEGIN:STANDARD
TZOFFSETFROM:-0500
TZOFFSETTO:-0600
TZNAME:CST
DTSTART:20231105T070000
END:STANDARD
BEGIN:DAYLIGHT
TZOFFSETFROM:-0600
TZOFFSETTO:-0500
TZNAME:CDT
DTSTART:20240310T080000
END:DAYLIGHT
BEGIN:STANDARD
TZOFFSETFROM:-0500
TZOFFSETTO:-0600
TZNAME:CST
DTSTART:20241103T070000
END:STANDARD
BEGIN:DAYLIGHT
TZOFFSETFROM:-0600
TZOFFSETTO:-0500
TZNAME:CDT
DTSTART:20250309T080000
END:DAYLIGHT
BEGIN:STANDARD
TZOFFSETFROM:-0500
TZOFFSETTO:-0600
TZNAME:CST
DTSTART:20251102T070000
END:STANDARD
END:VTIMEZONE
BEGIN:VEVENT
DTSTART;TZID=America/Winnipeg:20240314T190000
DTEND;TZID=America/Winnipeg:20240314T200000
DTSTAMP:20260423T221132
CREATED:20240206T164649Z
LAST-MODIFIED:20240206T164929Z
UID:346-1710442800-1710446400@fareconnectevents.com
SUMMARY:Fareconnect Exclusive with Expedia
DESCRIPTION:Please register by click the Zoom link below
URL:https://fareconnectevents.com/event/fareconnect-exclusive-with-expedia/
CATEGORIES:Supplier Webinar
ATTACH;FMTTYPE=image/png:https://fareconnectevents.com/wp-content/uploads/2024/01/2.png
END:VEVENT
BEGIN:VEVENT
DTSTART;TZID=America/Winnipeg:20240312T150000
DTEND;TZID=America/Winnipeg:20240312T160000
DTSTAMP:20260423T221132
CREATED:20240130T183230Z
LAST-MODIFIED:20240301T223617Z
UID:330-1710255600-1710259200@fareconnectevents.com
SUMMARY:Fareconnect Exclusive with Collette
DESCRIPTION:Hi there\, \nYou are invited to a Zoom meeting.\nWhen: Mar 12\, 2024 03:00 PM Winnipeg Time. \nRegister in advance for this meeting by using the Zoom link below. \nAfter registering\, you will receive a confirmation email containing information about joining the meeting.
URL:https://fareconnectevents.com/event/collette-fareconnect-exclusive/
CATEGORIES:Supplier Webinar
ATTACH;FMTTYPE=image/png:https://fareconnectevents.com/wp-content/uploads/2024/01/2.png
END:VEVENT
BEGIN:VEVENT
DTSTART;TZID=America/Winnipeg:20240306T170000
DTEND;TZID=America/Winnipeg:20240306T180000
DTSTAMP:20260423T221132
CREATED:20240302T020418Z
LAST-MODIFIED:20240302T020526Z
UID:1728-1709744400-1709748000@fareconnectevents.com
SUMMARY:Irish Experience May 2025 info night
DESCRIPTION:Jodine Clement from Trafalgar will present the Irish Experience tour on March 6th at 6PM EST \nThe Tour is set to depart at the end of May 2025. \nSherri Anne has booked a bus and all agents and their clients are welcome to attend the information session.\nPlease register in advance for the Zoom presentation by CLICKING HERE. \nPlease share the below link with your clients who may be interested! \nhttps://us06web.zoom.us/meeting/register/tZ0qf-urrzkjGtJ-nJ0YZsC0HUu_M3eGS3tK#/registration \n  \n  \n 
URL:https://fareconnectevents.com/event/irish-experience-may-2025-info-night/
CATEGORIES:Supplier Webinar
ATTACH;FMTTYPE=image/png:https://fareconnectevents.com/wp-content/uploads/2024/01/3.png
END:VEVENT
BEGIN:VEVENT
DTSTART;TZID=America/Winnipeg:20240306T120000
DTEND;TZID=America/Winnipeg:20240306T130000
DTSTAMP:20260423T221132
CREATED:20240306T181933Z
LAST-MODIFIED:20240306T182207Z
UID:1779-1709726400-1709730000@fareconnectevents.com
SUMMARY:G Adventures In the Loop
DESCRIPTION:In The Loop is a regularly scheduled training with G Adventures on the first Wednesday of the month. \nThe topics will vary every month so register now and save the series in your calendar \nRegister for webinar
URL:https://fareconnectevents.com/event/in-the-loop/
CATEGORIES:Supplier Webinar
ATTACH;FMTTYPE=image/png:https://fareconnectevents.com/wp-content/uploads/2024/01/1.png
END:VEVENT
BEGIN:VEVENT
DTSTART;TZID=America/Winnipeg:20240305T180000
DTEND;TZID=America/Winnipeg:20240305T190000
DTSTAMP:20260423T221132
CREATED:20240221T184525Z
LAST-MODIFIED:20240221T184525Z
UID:1649-1709661600-1709665200@fareconnectevents.com
SUMMARY:ACV@Home 2nd Annual SIMPLY THE BEST AWARDS
DESCRIPTION:2nd Annual ACV@Home Simply The Best Awards night is almost here!\n\n\nJoin us for an hour to celebrate the outstanding achievements of your peers and Independent advisors in our community. There will be prizes\, too!\nThe event will be held virtually\, on Tuesday\, March 5th at 7pm EST\n\nhttps://us02web.zoom.us/…/tZYvcOCvqj0iG9WaqTkTPEfqzP8uA… \n\n\n\n\nAll ACV@Home Advisors are welcome\, and we can’t wait to see you!
URL:https://fareconnectevents.com/event/acvhome-2nd-annual-simply-the-best-awards/
CATEGORIES:Supplier Webinar
ATTACH;FMTTYPE=image/png:https://fareconnectevents.com/wp-content/uploads/2024/01/3.png
END:VEVENT
BEGIN:VEVENT
DTSTART;TZID=America/Winnipeg:20240305T150000
DTEND;TZID=America/Winnipeg:20240305T160000
DTSTAMP:20260423T221132
CREATED:20240124T104029Z
LAST-MODIFIED:20240301T225225Z
UID:82-1709650800-1709654400@fareconnectevents.com
SUMMARY:Fareconnect Exclusive with Rocky Mountaineer
DESCRIPTION:You are invited to Fareconnect Exclusive with Rocky Mountaineer.\nWhen: Mar 5\, 2024 03:00 PM CST \nRegister in advance for this meeting by CLICKING HERE\nAfter registering\, you will receive a confirmation email containing information about joining the meeting.
URL:https://fareconnectevents.com/event/rocky-mountaineer-fareconnect-exclusive/
CATEGORIES:Supplier Webinar
ATTACH;FMTTYPE=image/png:https://fareconnectevents.com/wp-content/uploads/2024/01/2.png
END:VEVENT
BEGIN:VEVENT
DTSTART;TZID=America/Winnipeg:20240229T150000
DTEND;TZID=America/Winnipeg:20240229T160000
DTSTAMP:20260423T221132
CREATED:20240124T103945Z
LAST-MODIFIED:20240212T192748Z
UID:80-1709218800-1709222400@fareconnectevents.com
SUMMARY:Manulife: Refresher
DESCRIPTION:Manulife: Refresher (Fareconnect Exclusive) \nYou are invited to a Zoom meeting.\nWhen: Feb 29\, 2024 03:00 PM CST \nRegister in advance for this meeting by using the link below. \nAfter registering\, you will receive a confirmation email containing information about joining the meeting.
URL:https://fareconnectevents.com/event/manulife-refresher-fareconnect-exclusive/
CATEGORIES:Supplier Webinar
ATTACH;FMTTYPE=image/png:https://fareconnectevents.com/wp-content/uploads/2024/01/2.png
END:VEVENT
BEGIN:VEVENT
DTSTART;TZID=America/Winnipeg:20240229T130000
DTEND;TZID=America/Winnipeg:20240229T133000
DTSTAMP:20260423T221132
CREATED:20240214T171747Z
LAST-MODIFIED:20240214T171807Z
UID:1614-1709211600-1709213400@fareconnectevents.com
SUMMARY:Let’s Texas - Travel Brands
DESCRIPTION:Beyond cowboys\, The Lone Star offers a wide variety of activities that you would never imagine. There are an infinite number of trips to Texas\, but the only one that matters to your client. See how convenient\, diverse\, and unique Texas can be. \nJoin us along with Lorenzo Campos and Casey Canevari to learn about Texas and for your chance to WIN a Prize! \nCLICK HERE TO REGISTER
URL:https://fareconnectevents.com/event/lets-texas-travel-brands/
CATEGORIES:Supplier Webinar
ATTACH;FMTTYPE=image/png:https://fareconnectevents.com/wp-content/uploads/2024/01/1.png
END:VEVENT
BEGIN:VEVENT
DTSTART;TZID=America/Winnipeg:20240227T150000
DTEND;TZID=America/Winnipeg:20240227T160000
DTSTAMP:20260423T221132
CREATED:20240124T103807Z
LAST-MODIFIED:20240125T103034Z
UID:78-1709046000-1709049600@fareconnectevents.com
SUMMARY:CIE (Fareconnect Exclusive)
DESCRIPTION:CIE (Fareconnect Exclusive) \nYou are invited to a Zoom meeting.\nWhen: Feb 27\, 2024 03:00 PM CST \nRegister in advance for this meeting:\nhttps://us06web.zoom.us/meeting/register/tZ0pd-mtpj0pHdbptBpydMXPm0EZau5-DDrJ \nAfter registering\, you will receive a confirmation email containing information about joining the meeting.
URL:https://fareconnectevents.com/event/cie-fareconnect-exclusive/
CATEGORIES:Supplier Webinar
ATTACH;FMTTYPE=image/png:https://fareconnectevents.com/wp-content/uploads/2024/01/2.png
END:VEVENT
BEGIN:VEVENT
DTSTART;TZID=America/Winnipeg:20240227T140000
DTEND;TZID=America/Winnipeg:20240227T143000
DTSTAMP:20260423T221132
CREATED:20240212T185701Z
LAST-MODIFIED:20240212T185715Z
UID:1576-1709042400-1709044200@fareconnectevents.com
SUMMARY:Ensemble’s Brand New U of E  Platform
DESCRIPTION:Ensemble’s U of E – featuring Ensemble’s Learning Program Manager \nTo register:\nLog into the Ensemble Learning Platform.\nClick on Training in the Menu\nClick on U of E Anytime.\nThen Click U of E (top Right of the screen) \nNew Window\nClick on Live Webinars\nSelect: 2024-02-27 – Special Edition Webinar on U of E – Ensemble’s Brand New LMS Platform – 100 GENIUS points
URL:https://fareconnectevents.com/event/ensembles-brand-new-u-of-e-platform/
CATEGORIES:Supplier Webinar
ATTACH;FMTTYPE=image/png:https://fareconnectevents.com/wp-content/uploads/2024/01/1.png
END:VEVENT
BEGIN:VEVENT
DTSTART;TZID=America/Winnipeg:20240222T130000
DTEND;TZID=America/Winnipeg:20240222T133000
DTSTAMP:20260423T221132
CREATED:20240214T171544Z
LAST-MODIFIED:20240214T171901Z
UID:1612-1708606800-1708608600@fareconnectevents.com
SUMMARY:Virgin Voyages: Adult-Only Cruising - Travel Brands
DESCRIPTION:Join us along with Sean Russo to learn more about Virgin Voyages and its offerings for your sailors\, their different approach to sailing\, and how setting sail with adult-only cruising drives profits and fun for your Sailors! \nCLICK HERE TO REGISTER
URL:https://fareconnectevents.com/event/virgin-voyages-adult-only-cruising-travel-brands/
CATEGORIES:Supplier Webinar
ATTACH;FMTTYPE=image/png:https://fareconnectevents.com/wp-content/uploads/2024/01/1.png
END:VEVENT
BEGIN:VEVENT
DTSTART;TZID=America/Winnipeg:20240220T150000
DTEND;TZID=America/Winnipeg:20240220T160000
DTSTAMP:20260423T221132
CREATED:20240124T103647Z
LAST-MODIFIED:20240125T103021Z
UID:76-1708441200-1708444800@fareconnectevents.com
SUMMARY:Manulife: Ask Us Anything Session
DESCRIPTION:Manulife: Ask Us Anything Session \nYou are invited to a Zoom meeting.\nWhen: Feb 20\, 2024 03:00 PM CST \nRegister in advance for this meeting:\nhttps://us06web.zoom.us/meeting/register/tZckcuyhqjsqHNfCW_Oj8uJSLP4-v5M9b1rP \nAfter registering\, you will receive a confirmation email containing information about joining the meeting.
URL:https://fareconnectevents.com/event/manulife-ask-us-anything-session-fareconnect-exclusive/
CATEGORIES:Supplier Webinar
ATTACH;FMTTYPE=image/png:https://fareconnectevents.com/wp-content/uploads/2024/01/1.png
END:VEVENT
BEGIN:VEVENT
DTSTART;TZID=America/Winnipeg:20240220T100000
DTEND;TZID=America/Winnipeg:20240220T103000
DTSTAMP:20260423T221132
CREATED:20240212T163426Z
LAST-MODIFIED:20240212T163426Z
UID:1561-1708423200-1708425000@fareconnectevents.com
SUMMARY:Manulife LIA Referral Desk
DESCRIPTION:LIA Referral – Out of province clients // 30 Minutes
URL:https://fareconnectevents.com/event/manulife-lia-referral-desk/
CATEGORIES:Supplier Webinar
ATTACH;FMTTYPE=image/png:https://fareconnectevents.com/wp-content/uploads/2024/01/1.png
END:VEVENT
BEGIN:VEVENT
DTSTART;TZID=America/Winnipeg:20240215T190000
DTEND;TZID=America/Winnipeg:20240215T200000
DTSTAMP:20260423T221132
CREATED:20240202T222824Z
LAST-MODIFIED:20240213T155935Z
UID:337-1708023600-1708027200@fareconnectevents.com
SUMMARY:Special Evening Fareconnect Exclusive With G Adventures
DESCRIPTION:Erin Rogers\, G Adventures’ National Sales Manager is joining Fareconnect for a special evening training! \nErin wants to talk to you about their amazing G Normous Promotion\, Bonus Commission and how you can be a Change Maker! \nPlease register using the Zoom link below. \nhttps://us06web.zoom.us/meeting/register/tZElf-GgqzMsHNIgPjNSCqguT53eOoUTdXG2
URL:https://fareconnectevents.com/event/special-fareconnect-exclusive-with-g-adventure-training/
CATEGORIES:Supplier Webinar
ATTACH;FMTTYPE=image/png:https://fareconnectevents.com/wp-content/uploads/2024/01/2.png
END:VEVENT
BEGIN:VEVENT
DTSTART;TZID=America/Winnipeg:20240215T130000
DTEND;TZID=America/Winnipeg:20240215T133000
DTSTAMP:20260423T221132
CREATED:20240214T171420Z
LAST-MODIFIED:20240214T171420Z
UID:1610-1708002000-1708003800@fareconnectevents.com
SUMMARY:Hit Pause on Winter and Unlock Tampa Bay - Travel Brands
DESCRIPTION:Join us along with Stefanie Zinke to find out why Tampa Bay is one of the leading leisure destinations in Florida. Together we will Unlock Tampa Bay\, the heart of Florida’s Gulf Coast\, and show you how to enjoy this year-round\, exciting\, fun\, and cultured destination that welcomes all. You will discover adventures with a relaxing vibe and learn how to create vacation experiences that are authentically Tampa Bay including dining effortlessly at world-class restaurants with culture rich cuisine\, strolling the Tampa Riverwalk\, stepping into the past in Ybor City\, where Cuban artisans hand-roll cigars as they have since 1885\, Gasparilla -Tampa Bay’s annual pirate-themed party\, and so much more. Treasure awaits. \nDon’t Miss out- we will be giving away 2-nights at a Premium Hotel + 2X Riverwalk Attraction Passes + $150 Dining Voucher to one lucky agent! \nCLICK HERE TO REGISTER
URL:https://fareconnectevents.com/event/hit-pause-on-winter-and-unlock-tampa-bay-travel-brands/
CATEGORIES:Supplier Webinar
ATTACH;FMTTYPE=image/png:https://fareconnectevents.com/wp-content/uploads/2024/01/1.png
END:VEVENT
BEGIN:VEVENT
DTSTART;TZID=America/Winnipeg:20240213T150000
DTEND;TZID=America/Winnipeg:20240213T160000
DTSTAMP:20260423T221132
CREATED:20240130T181614Z
LAST-MODIFIED:20240210T110525Z
UID:322-1707836400-1707840000@fareconnectevents.com
SUMMARY:Lindblad Expeditions (Fareconnect Exclusive)
DESCRIPTION:Join Carla for an information session on Lindblad Expeditions. \nPlease register by using the zoom link below. \nhttps://us06web.zoom.us/meeting/register/tZwtd-ypqT0rGdPL6RoIzq4v6doLTVb7KZeR
URL:https://fareconnectevents.com/event/lindblad-expeditions-fareconnect-exclusive/
CATEGORIES:Supplier Webinar
ATTACH;FMTTYPE=image/png:https://fareconnectevents.com/wp-content/uploads/2024/01/2.png
END:VEVENT
BEGIN:VEVENT
DTSTART;TZID=America/Winnipeg:20240206T150000
DTEND;TZID=America/Winnipeg:20240206T160000
DTSTAMP:20260423T221132
CREATED:20240124T103514Z
LAST-MODIFIED:20240125T103009Z
UID:74-1707231600-1707235200@fareconnectevents.com
SUMMARY:Manulife: IGO Tips and Tricks
DESCRIPTION:Manulife: IGO Tips and Tricks (Fareconnect Exclusive) \nYou are invited to a Zoom meeting.\nWhen: Feb 6\, 2024 03:00 PM CST \nRegister in advance for this meeting:\nhttps://us06web.zoom.us/meeting/register/tZEvfuGoqjkqGtQ5PI4v1VozE6l8kB7jAkgJ \nAfter registering\, you will receive a confirmation email containing information about joining the meeting.
URL:https://fareconnectevents.com/event/manulife-igo-tips-and-tricks/
CATEGORIES:Supplier Webinar
ATTACH;FMTTYPE=image/png:https://fareconnectevents.com/wp-content/uploads/2024/01/1.png
END:VEVENT
BEGIN:VEVENT
DTSTART;TZID=America/Winnipeg:20240201T130000
DTEND;TZID=America/Winnipeg:20240201T140000
DTSTAMP:20260423T221132
CREATED:20240123T192048Z
LAST-MODIFIED:20240530T154551Z
UID:19-1706792400-1706796000@fareconnectevents.com
SUMMARY:Air Canada Vacations at Home (Fareconnect Exclusive)
DESCRIPTION:Hi there\, \nYou are invited to a Zoom meeting.\nWhen: Feb 1\, 2024 07:00 PM CST \nRegister in advance for this meeting:\nhttps://us06web.zoom.us/meeting/register/tZYsfuirrTgiEtJgQhJAqD_R7L0l93GIDck2 \nAfter registering\, you will receive a confirmation email containing information about joining the meeting.
URL:https://fareconnectevents.com/event/air-canada-vacations-at-home-fareconnect-exclusive/
CATEGORIES:Supplier Webinar
ATTACH;FMTTYPE=image/png:https://fareconnectevents.com/wp-content/uploads/2024/01/2.png
END:VEVENT
BEGIN:VEVENT
DTSTART;TZID=America/Winnipeg:20240131T130000
DTEND;TZID=America/Winnipeg:20240131T131000
DTSTAMP:20260423T221132
CREATED:20240126T182911Z
LAST-MODIFIED:20240126T182911Z
UID:317-1706706000-1706706600@fareconnectevents.com
SUMMARY:Manulife Lightning Lounge: MUPS
DESCRIPTION:10 minute refresher on the Medically Underwritten Plans (MUPS)
URL:https://fareconnectevents.com/event/manulife-lightning-lounge-mups/
CATEGORIES:Supplier Webinar
ATTACH;FMTTYPE=image/png:https://fareconnectevents.com/wp-content/uploads/2024/01/2.png
END:VEVENT
BEGIN:VEVENT
DTSTART;TZID=America/Winnipeg:20240130T150000
DTEND;TZID=America/Winnipeg:20240130T160000
DTSTAMP:20260423T221132
CREATED:20240123T191717Z
LAST-MODIFIED:20240125T102941Z
UID:14-1706626800-1706630400@fareconnectevents.com
SUMMARY:Goway (Fareconnect Exclusive)
DESCRIPTION:Goway Supplier Exclusive \nWhen: Jan 30\, 2024 03:00 PM CST \nRegister in advance for this meeting:\nhttps://us06web.zoom.us/meeting/register/tZArcu2qpzkiGNZU9jQBD_J6eryUJS8Ydr4i \nAfter registering\, you will receive a confirmation email containing information about joining the meeting.
URL:https://fareconnectevents.com/event/fareconnect-exclusive-with-goway/
CATEGORIES:Supplier Webinar
ATTACH;FMTTYPE=image/png:https://fareconnectevents.com/wp-content/uploads/2024/01/2.png
END:VEVENT
END:VCALENDAR