BEGIN:VCALENDAR
VERSION:2.0
PRODID:-//Fareconnect Events - ECPv6.15.20//NONSGML v1.0//EN
CALSCALE:GREGORIAN
METHOD:PUBLISH
X-WR-CALNAME:Fareconnect Events
X-ORIGINAL-URL:https://fareconnectevents.com
X-WR-CALDESC:Events for Fareconnect Events
REFRESH-INTERVAL;VALUE=DURATION:PT1H
X-Robots-Tag:noindex
X-PUBLISHED-TTL:PT1H
BEGIN:VTIMEZONE
TZID:America/Winnipeg
BEGIN:DAYLIGHT
TZOFFSETFROM:-0600
TZOFFSETTO:-0500
TZNAME:CDT
DTSTART:20240310T080000
END:DAYLIGHT
BEGIN:STANDARD
TZOFFSETFROM:-0500
TZOFFSETTO:-0600
TZNAME:CST
DTSTART:20241103T070000
END:STANDARD
BEGIN:DAYLIGHT
TZOFFSETFROM:-0600
TZOFFSETTO:-0500
TZNAME:CDT
DTSTART:20250309T080000
END:DAYLIGHT
BEGIN:STANDARD
TZOFFSETFROM:-0500
TZOFFSETTO:-0600
TZNAME:CST
DTSTART:20251102T070000
END:STANDARD
BEGIN:DAYLIGHT
TZOFFSETFROM:-0600
TZOFFSETTO:-0500
TZNAME:CDT
DTSTART:20260308T080000
END:DAYLIGHT
BEGIN:STANDARD
TZOFFSETFROM:-0500
TZOFFSETTO:-0600
TZNAME:CST
DTSTART:20261101T070000
END:STANDARD
BEGIN:DAYLIGHT
TZOFFSETFROM:-0600
TZOFFSETTO:-0500
TZNAME:CDT
DTSTART:20270314T080000
END:DAYLIGHT
BEGIN:STANDARD
TZOFFSETFROM:-0500
TZOFFSETTO:-0600
TZNAME:CST
DTSTART:20271107T070000
END:STANDARD
END:VTIMEZONE
BEGIN:VEVENT
DTSTART;TZID=America/Winnipeg:20260113T150000
DTEND;TZID=America/Winnipeg:20260113T160000
DTSTAMP:20260423T140818
CREATED:20260102T204337Z
LAST-MODIFIED:20260102T204337Z
UID:8573-1768316400-1768320000@fareconnectevents.com
SUMMARY:Fareconnect Exclusive with G Adventures
DESCRIPTION:Fareconnect Exclusive with G Adventures \nWhen: Jan 13\, 2026 03:00 PM Winnipeg \nRegister in advance for this meeting:\nhttps://us06web.zoom.us/meeting/register/bAnLYUMsRwKboiko_YRMLQ \nAfter registering\, you will receive a confirmation email containing information about joining the meeting.
URL:https://fareconnectevents.com/event/fareconnect-exclusive-with-g-adventures-2/
CATEGORIES:Fareconnect Only Events,Supplier Webinar
ATTACH;FMTTYPE=image/jpeg:https://fareconnectevents.com/wp-content/uploads/2025/07/Screenshot_18-7-2025_104546_fareconnectevents.com_.jpeg
END:VEVENT
BEGIN:VEVENT
DTSTART;TZID=America/Winnipeg:20251218T130000
DTEND;TZID=America/Winnipeg:20251218T140000
DTSTAMP:20260423T140818
CREATED:20251209T161743Z
LAST-MODIFIED:20251209T161743Z
UID:8373-1766062800-1766066400@fareconnectevents.com
SUMMARY:Fareconnect Exclusive with Bedsonline
DESCRIPTION:When: Dec 18\, 2025 01:00 PM Winnipeg \nRegister in advance for this meeting:\nhttps://us06web.zoom.us/meeting/register/DP_S1KzZRNKwHQUvJum_EQ \nAfter registering\, you will receive a confirmation email containing information about joining the meeting.
URL:https://fareconnectevents.com/event/fareconnect-exclusive-with-bedsonline-2/
CATEGORIES:Fareconnect Only Events,Supplier Webinar
ATTACH;FMTTYPE=image/jpeg:https://fareconnectevents.com/wp-content/uploads/2025/07/Screenshot_18-7-2025_104546_fareconnectevents.com_.jpeg
END:VEVENT
BEGIN:VEVENT
DTSTART;TZID=America/Winnipeg:20251217T150000
DTEND;TZID=America/Winnipeg:20251217T160000
DTSTAMP:20260423T140818
CREATED:20251209T161903Z
LAST-MODIFIED:20251209T161903Z
UID:8375-1765983600-1765987200@fareconnectevents.com
SUMMARY:Fareconnect Exclusive with Manulife
DESCRIPTION:You are invited to a Zoom meeting.\nWhen: Dec 17\, 2025 03:00 PM Winnipeg \nRegister in advance for this meeting:\nhttps://us06web.zoom.us/meeting/register/_IvKp-j4SqqQuxKkDWawYQ \nAfter registering\, you will receive a confirmation email containing information about joining the meeting.
URL:https://fareconnectevents.com/event/fareconnect-exclusive-with-manulife-6/
CATEGORIES:Fareconnect Only Events,Supplier Webinar
ATTACH;FMTTYPE=image/jpeg:https://fareconnectevents.com/wp-content/uploads/2025/07/Screenshot_18-7-2025_104546_fareconnectevents.com_.jpeg
END:VEVENT
BEGIN:VEVENT
DTSTART;TZID=America/Winnipeg:20251216T150000
DTEND;TZID=America/Winnipeg:20251216T160000
DTSTAMP:20260423T140818
CREATED:20251205T173421Z
LAST-MODIFIED:20251205T173422Z
UID:8316-1765897200-1765900800@fareconnectevents.com
SUMMARY:Fareconnect Exclusive with Ensemble
DESCRIPTION:When: Dec 16\, 2025 03:00 PM Winnipeg \nRegister in advance for this meeting:\nhttps://us06web.zoom.us/meeting/register/uG-E-r69RSCekwcugK28BA \nAfter registering\, you will receive a confirmation email containing information about joining the meeting.
URL:https://fareconnectevents.com/event/fareconnect-exclusive-with-ensemble-3/
CATEGORIES:Fareconnect Only Events,Supplier Webinar
ATTACH;FMTTYPE=image/jpeg:https://fareconnectevents.com/wp-content/uploads/2025/07/Screenshot_18-7-2025_104546_fareconnectevents.com_.jpeg
END:VEVENT
BEGIN:VEVENT
DTSTART;TZID=America/Winnipeg:20251211T130000
DTEND;TZID=America/Winnipeg:20251211T140000
DTSTAMP:20260423T140818
CREATED:20251106T190829Z
LAST-MODIFIED:20251106T190830Z
UID:7941-1765458000-1765461600@fareconnectevents.com
SUMMARY:You are invited to a Fareconnect Exclusive with Lindblad.
DESCRIPTION:You are invited to a Fareconnect Exclusive with Lindblad.\nWhen: Dec 11\, 2025 01:00 PM Winnipeg Time \n  \nRegister in advance for this meeting:\nhttps://us06web.zoom.us/meeting/register/BOUWuHq6QHSH_plYSIiYDg \n  \nAfter registering\, you will receive a confirmation email containing information about joining the meeting. \n  \nIf you do not get the confirmation email here are the joining details: \nhttps://zoom.us/join \nMeeting ID: 857 8741 7434 \nPasscode: 638079
URL:https://fareconnectevents.com/event/you-are-invited-to-a-fareconnect-exclusive-with-lindblad/
CATEGORIES:Fareconnect Only Events,Supplier Webinar
ATTACH;FMTTYPE=image/jpeg:https://fareconnectevents.com/wp-content/uploads/2025/07/Screenshot_18-7-2025_104546_fareconnectevents.com_.jpeg
END:VEVENT
BEGIN:VEVENT
DTSTART;TZID=America/Winnipeg:20251202T150000
DTEND;TZID=America/Winnipeg:20251202T160000
DTSTAMP:20260423T140818
CREATED:20251017T160433Z
LAST-MODIFIED:20251017T180047Z
UID:7695-1764687600-1764691200@fareconnectevents.com
SUMMARY:Fareconnect Exclusive with Disney's Marketing Expert.
DESCRIPTION:Unlock the Magic of Marketing with Disney Marketing. \nJoin the Disney Marketing Team for a special live training designed to help you elevate your social media presence and grow your business. Learn how to apply Disney’s storytelling approach to your own brand—creating posts that connect\, inspire\, and drive engagement across all types of travel. \nThis isn’t just about selling Disney—it’s about discovering strategies you can use to make any destination or experience stand out online. \nThis live session will not be recorded\, so be sure to attend and capture the magic firsthand! \nWhen: Dec 2\, 2025 03:00 PM Winnipeg \nRegister in advance for this meeting: \nhttps://us06web.zoom.us/…/register/7JDI3pJFSumNNqVWMM3peg \nAfter registering\, you will receive a confirmation email containing information about joining the meeting.
URL:https://fareconnectevents.com/event/you-are-invited-to-a-fareconnect-exclusive-with-disneys-marketing-expert/
CATEGORIES:Fareconnect Only Events,Supplier Webinar
ATTACH;FMTTYPE=image/jpeg:https://fareconnectevents.com/wp-content/uploads/2025/07/Screenshot_18-7-2025_104546_fareconnectevents.com_.jpeg
END:VEVENT
BEGIN:VEVENT
DTSTART;TZID=America/Winnipeg:20251128T190000
DTEND;TZID=America/Winnipeg:20251128T200000
DTSTAMP:20260423T140818
CREATED:20251106T191120Z
LAST-MODIFIED:20251106T191121Z
UID:7943-1764356400-1764360000@fareconnectevents.com
SUMMARY:Fareconnect Open Mic Night
DESCRIPTION:Fareconnect Open Mic Night \nWhen: Nov 27\, 2025 07:00 PM Winnipeg \nRegister in advance for this meeting:\nhttps://us06web.zoom.us/meeting/register/d4EUwaUlSFuq0mWo55sxMQ \nAfter registering\, you will receive a confirmation email containing information about joining the meeting.
URL:https://fareconnectevents.com/event/fareconnect-open-mic-night-14/
CATEGORIES:Fareconnect Only Events,Supplier Webinar
ATTACH;FMTTYPE=image/png:https://fareconnectevents.com/wp-content/uploads/2024/01/Open-Mic.png
END:VEVENT
BEGIN:VEVENT
DTSTART;TZID=America/Winnipeg:20251127T130000
DTEND;TZID=America/Winnipeg:20251127T140000
DTSTAMP:20260423T140818
CREATED:20251120T173226Z
LAST-MODIFIED:20251120T173227Z
UID:8122-1764248400-1764252000@fareconnectevents.com
SUMMARY:Fareconnect Exclusive with On the Go Tours
DESCRIPTION:Fareconnect Exclusive with On the Go Tours\n\n\nWhen: Nov 27\, 2025 01:00 PM Winnipeg\n\n\nRegister in advance for this meeting:\n\n\nhttps://us06web.zoom.us/…/register/6Sxi3SMLT9ePbXrGJmxoag\n\n\nAfter registering\, you will receive a confirmation email containing information about joining the meeting.
URL:https://fareconnectevents.com/event/fareconnect-exclusive-with-on-the-go-tours/
CATEGORIES:Fareconnect Only Events,Supplier Webinar
ATTACH;FMTTYPE=image/jpeg:https://fareconnectevents.com/wp-content/uploads/2025/07/Screenshot_18-7-2025_104546_fareconnectevents.com_.jpeg
END:VEVENT
BEGIN:VEVENT
DTSTART;TZID=America/Winnipeg:20251125T150000
DTEND;TZID=America/Winnipeg:20251125T160000
DTSTAMP:20260423T140818
CREATED:20251106T192237Z
LAST-MODIFIED:20251106T192337Z
UID:7948-1764082800-1764086400@fareconnectevents.com
SUMMARY:Fareconnect Exclusive with The Travel Corporation
DESCRIPTION:Fareconnect Exclusive with The Travel Corporation \n\n\n\nWhen: Nov 25\, 2025 03:00 PM Winnipeg\n\nRegister in advance for this meeting:\nhttps://us06web.zoom.us/meeting/register/xczBsxqXRzuB6v21MdUzBQ \nAfter registering\, you will receive a confirmation email containing information about joining the meeting.
URL:https://fareconnectevents.com/event/7948/
CATEGORIES:Fareconnect Only Events,Supplier Webinar
ATTACH;FMTTYPE=image/jpeg:https://fareconnectevents.com/wp-content/uploads/2025/07/Screenshot_18-7-2025_104546_fareconnectevents.com_.jpeg
END:VEVENT
BEGIN:VEVENT
DTSTART;TZID=America/Winnipeg:20251120T130000
DTEND;TZID=America/Winnipeg:20251120T140000
DTSTAMP:20260423T140818
CREATED:20251106T191248Z
LAST-MODIFIED:20251106T191248Z
UID:7945-1763643600-1763647200@fareconnectevents.com
SUMMARY:Fareconnect Exclusive with Palace Resorts
DESCRIPTION:Fareconnect Exclusive with Palace Resorts \nWhen: Nov 20\, 2025 01:00 PM Winnipeg \nRegister in advance for this meeting:\nhttps://us06web.zoom.us/meeting/register/oqhm4zbsQNySGzv76cJe4Q \nAfter registering\, you will receive a confirmation email containing information about joining the meeting.
URL:https://fareconnectevents.com/event/fareconnect-exclusive-with-palace-resorts/
CATEGORIES:Fareconnect Only Events,Supplier Webinar
ATTACH;FMTTYPE=image/jpeg:https://fareconnectevents.com/wp-content/uploads/2025/07/Screenshot_18-7-2025_104546_fareconnectevents.com_.jpeg
END:VEVENT
BEGIN:VEVENT
DTSTART;TZID=America/Winnipeg:20251112T123000
DTEND;TZID=America/Winnipeg:20251112T130000
DTSTAMP:20260423T140818
CREATED:20251107T215035Z
LAST-MODIFIED:20251107T215036Z
UID:7977-1762950600-1762952400@fareconnectevents.com
SUMMARY:AMA Waterway Surprise!!!!
DESCRIPTION:AMA Waterway Surprise!!!! \n\n\n\n\n\n\nWhen: Nov 12\, 2025 12:30 PM Winnipeg\n\n\nRegister in advance for this meeting:\nhttps://us06web.zoom.us/meeting/register/_8a7-kiqRMCrKfgzMzcNxw \nAfter registering\, you will receive a confirmation email containing information about joining the meeting.
URL:https://fareconnectevents.com/event/ama-waterway-surprise/
CATEGORIES:Fareconnect Only Events,Supplier Webinar
ATTACH;FMTTYPE=image/jpeg:https://fareconnectevents.com/wp-content/uploads/2025/07/Screenshot_18-7-2025_104546_fareconnectevents.com_.jpeg
END:VEVENT
BEGIN:VEVENT
DTSTART;TZID=America/Winnipeg:20251104T150000
DTEND;TZID=America/Winnipeg:20251104T160000
DTSTAMP:20260423T140818
CREATED:20251017T180550Z
LAST-MODIFIED:20251017T180550Z
UID:7702-1762268400-1762272000@fareconnectevents.com
SUMMARY:Fareconnect Exclusive with  West Jet Air
DESCRIPTION:When: Nov 4\, 2025 03:00 PM Winnipeg \nRegister in advance for this meeting:\nhttps://us06web.zoom.us/meeting/register/A5yiSZ2HRcC35NpPEB_2lA \nAfter registering\, you will receive a confirmation email containing information about joining the meeting.
URL:https://fareconnectevents.com/event/fareconnect-exclusive-with-west-jet-air/
CATEGORIES:Fareconnect Only Events,Supplier Webinar
ATTACH;FMTTYPE=image/jpeg:https://fareconnectevents.com/wp-content/uploads/2025/07/Screenshot_18-7-2025_104546_fareconnectevents.com_.jpeg
END:VEVENT
BEGIN:VEVENT
DTSTART;TZID=America/Winnipeg:20251030T190000
DTEND;TZID=America/Winnipeg:20251030T200000
DTSTAMP:20260423T140818
CREATED:20251017T180703Z
LAST-MODIFIED:20251017T180731Z
UID:7704-1761850800-1761854400@fareconnectevents.com
SUMMARY:Fareconnect Open Mic Night!
DESCRIPTION:When: Oct 30\, 2025 07:00 PM Winnipeg \nRegister in advance for this meeting:\nhttps://us06web.zoom.us/meeting/register/04THUuc-SI-Wd_dz89KmrQ \nAfter registering\, you will receive a confirmation email containing information about joining the meeting.
URL:https://fareconnectevents.com/event/fareconnect-open-mic-night-13/
CATEGORIES:Fareconnect Only Events,Supplier Webinar
ATTACH;FMTTYPE=image/png:https://fareconnectevents.com/wp-content/uploads/2024/01/Open-Mic.png
END:VEVENT
BEGIN:VEVENT
DTSTART;TZID=America/Winnipeg:20251030T130000
DTEND;TZID=America/Winnipeg:20251030T140000
DTSTAMP:20260423T140818
CREATED:20251022T210058Z
LAST-MODIFIED:20251022T210144Z
UID:7756-1761829200-1761832800@fareconnectevents.com
SUMMARY:Fareconnect Exclusive with Catalonia Hotels & Resorts
DESCRIPTION:When: Oct 30\, 2025 01:00 PM Winnipeg \nRegister in advance for this meeting:\nhttps://us06web.zoom.us/meeting/register/naI128dnRCGfrABVeeA3pg \nAfter registering\, you will receive a confirmation email containing information about joining the meeting.
URL:https://fareconnectevents.com/event/fareconnect-exclusive-with-catalonia-hotels-resorts/
CATEGORIES:Fareconnect Only Events,Supplier Webinar
ATTACH;FMTTYPE=image/jpeg:https://fareconnectevents.com/wp-content/uploads/2025/07/Screenshot_18-7-2025_104546_fareconnectevents.com_.jpeg
END:VEVENT
BEGIN:VEVENT
DTSTART;TZID=America/Winnipeg:20251028T150000
DTEND;TZID=America/Winnipeg:20251028T160000
DTSTAMP:20260423T140818
CREATED:20251017T180348Z
LAST-MODIFIED:20251017T180429Z
UID:7700-1761663600-1761667200@fareconnectevents.com
SUMMARY:Fareconnect Exclusive with Air Canada Vacations GROUPS
DESCRIPTION:When: Oct 28\, 2025 03:00 PM Winnipeg \nRegister in advance for this meeting:\nhttps://us06web.zoom.us/meeting/register/WW6Q3QWeQdOIRirPIXJRDw \nAfter registering\, you will receive a confirmation email containing information about joining the meeting.
URL:https://fareconnectevents.com/event/fareconnect-exclusive-with-air-canada-vacations-groups/
CATEGORIES:Fareconnect Only Events,Supplier Webinar
ATTACH;FMTTYPE=image/jpeg:https://fareconnectevents.com/wp-content/uploads/2025/07/Screenshot_18-7-2025_104546_fareconnectevents.com_.jpeg
END:VEVENT
BEGIN:VEVENT
DTSTART;TZID=America/Winnipeg:20251023T130000
DTEND;TZID=America/Winnipeg:20251023T140000
DTSTAMP:20260423T140818
CREATED:20251017T203443Z
LAST-MODIFIED:20251017T203443Z
UID:7710-1761224400-1761228000@fareconnectevents.com
SUMMARY:Leah Janz's tips on Groups from USA departures. 
DESCRIPTION:When: Oct 23\, 2025 01:00 PM Winnipeg \nRegister in advance for this meeting:\nhttps://us06web.zoom.us/meeting/register/37XZmiZxR7Syy6rJ2G9_RQ \nAfter registering\, you will receive a confirmation email containing information about joining the meeting.
URL:https://fareconnectevents.com/event/leah-janzs-tips-on-groups-from-usa-departures/
CATEGORIES:Fareconnect Only Events,Supplier Webinar
ATTACH;FMTTYPE=image/jpeg:https://fareconnectevents.com/wp-content/uploads/2025/07/Screenshot_18-7-2025_104546_fareconnectevents.com_.jpeg
END:VEVENT
BEGIN:VEVENT
DTSTART;TZID=America/Winnipeg:20250925T190000
DTEND;TZID=America/Winnipeg:20250925T200000
DTSTAMP:20260423T140818
CREATED:20250902T152930Z
LAST-MODIFIED:20250902T152931Z
UID:7126-1758826800-1758830400@fareconnectevents.com
SUMMARY:You are invited to a Fareconnect Open Mic Night
DESCRIPTION:You are invited to a Fareconnect Open Mic Night\nWhen: Sep 25\, 2025 07:00 PM Winnipeg \nRegister in advance for this meeting:\nhttps://us06web.zoom.us/meeting/register/64hE6a6NRfGWeXQAYa-qhA \nAfter registering\, you will receive a confirmation email containing information about joining the meeting.
URL:https://fareconnectevents.com/event/you-are-invited-to-a-fareconnect-open-mic-night-2/
CATEGORIES:Fareconnect Only Events,Supplier Webinar
ATTACH;FMTTYPE=image/png:https://fareconnectevents.com/wp-content/uploads/2024/01/Open-Mic.png
END:VEVENT
BEGIN:VEVENT
DTSTART;TZID=America/Winnipeg:20250923T150000
DTEND;TZID=America/Winnipeg:20250923T160000
DTSTAMP:20260423T140818
CREATED:20250903T163908Z
LAST-MODIFIED:20250903T163909Z
UID:7171-1758639600-1758643200@fareconnectevents.com
SUMMARY:You are invited to a Fareconnect Exclusive with Transat
DESCRIPTION:You are invited to a Fareconnect Exclusive with Transat\nWhen: Sep 23\, 2025 03:00 PM Winnipeg \nRegister in advance for this meeting:\nhttps://us06web.zoom.us/meeting/register/ExV-KMtiRdK9JPMCIN2leA \nAfter registering\, you will receive a confirmation email containing information about joining the meeting.
URL:https://fareconnectevents.com/event/you-are-invited-to-a-fareconnect-exclusive-with-transat/
CATEGORIES:Fareconnect Only Events,Supplier Webinar
ATTACH;FMTTYPE=image/jpeg:https://fareconnectevents.com/wp-content/uploads/2025/07/Screenshot_18-7-2025_104546_fareconnectevents.com_.jpeg
END:VEVENT
BEGIN:VEVENT
DTSTART;TZID=America/Winnipeg:20250916T150000
DTEND;TZID=America/Winnipeg:20250916T160000
DTSTAMP:20260423T140818
CREATED:20250903T164120Z
LAST-MODIFIED:20250903T164805Z
UID:7174-1758034800-1758038400@fareconnectevents.com
SUMMARY:You are invited to a Fareconnect Exclusive with Jamaica Tourism Board
DESCRIPTION:You are invited to a Fareconnect Exclusive with Jamaica Tourism Board \nWhen: Sep 16\, 2025 03:00 PM Winnipeg \nRegister in advance for this meeting:\nhttps://us06web.zoom.us/meeting/register/yTbSnu1STT2vdlalM14yuw \nAfter registering\, you will receive a confirmation email containing information about joining the meeting.
URL:https://fareconnectevents.com/event/you-are-invited-to-a-fareconnect-exclusive-with-jamaica-tourism-board/
CATEGORIES:Fareconnect Only Events,Supplier Webinar
ATTACH;FMTTYPE=image/jpeg:https://fareconnectevents.com/wp-content/uploads/2025/07/Screenshot_18-7-2025_104546_fareconnectevents.com_.jpeg
END:VEVENT
BEGIN:VEVENT
DTSTART;TZID=America/Winnipeg:20250911T130000
DTEND;TZID=America/Winnipeg:20250911T140000
DTSTAMP:20260423T140818
CREATED:20250903T164313Z
LAST-MODIFIED:20250903T164717Z
UID:7176-1757595600-1757599200@fareconnectevents.com
SUMMARY:You are invited to a Fareconnect Exclusive with Barbados Tourism
DESCRIPTION:You are invited to a Fareconnect Exclusive with Barbados Tourism\nWhen: Sep 11\, 2025 01:00 PM Winnipeg \nRegister in advance for this meeting:\nhttps://us06web.zoom.us/meeting/register/drXG3aWXSuSsWUKuTW_NNA \nAfter registering\, you will receive a confirmation email containing information about joining the meeting.
URL:https://fareconnectevents.com/event/you-are-invited-to-a-fareconnect-exclusive-with-barbados-tourism/
CATEGORIES:Fareconnect Only Events,Supplier Webinar
ATTACH;FMTTYPE=image/jpeg:https://fareconnectevents.com/wp-content/uploads/2025/07/Screenshot_18-7-2025_104546_fareconnectevents.com_.jpeg
END:VEVENT
BEGIN:VEVENT
DTSTART;TZID=America/Winnipeg:20250909T150000
DTEND;TZID=America/Winnipeg:20250909T160000
DTSTAMP:20260423T140818
CREATED:20250808T163257Z
LAST-MODIFIED:20250808T163258Z
UID:6810-1757430000-1757433600@fareconnectevents.com
SUMMARY:You are invited to a Fareconnect Exclusive with Visit Orlando
DESCRIPTION:You are invited to a Fareconnect Exclusive with Visit Orlando. \nWhen: Sep 9\, 2025 03:00 PM Winnipeg \n  \nRegister in advance for this meeting:\nhttps://us06web.zoom.us/meeting/register/cf9UviyxSnyu3yOfQYnKnA \n  \nAfter registering\, you will receive a confirmation email containing information about joining the meeting.
URL:https://fareconnectevents.com/event/you-are-invited-to-a-fareconnect-exclusive-with-visit-orlando/
CATEGORIES:Fareconnect Only Events,Supplier Webinar
ATTACH;FMTTYPE=image/jpeg:https://fareconnectevents.com/wp-content/uploads/2025/07/Screenshot_18-7-2025_104546_fareconnectevents.com_.jpeg
END:VEVENT
BEGIN:VEVENT
DTSTART;TZID=America/Winnipeg:20250904T130000
DTEND;TZID=America/Winnipeg:20250904T140000
DTSTAMP:20260423T140818
CREATED:20250820T155957Z
LAST-MODIFIED:20250820T155958Z
UID:6968-1756990800-1756994400@fareconnectevents.com
SUMMARY:You are invited to a Fareconnect Exclusive with Sunwing
DESCRIPTION:You are invited to a Fareconnect Exclusive with Sunwing \nWhen: Sep 4\, 2025 01:00 PM Winnipeg \nRegister in advance for this meeting: \nhttps://us06web.zoom.us/meeting/register/0HuZb2tmT86R64XaG49jAg \nAfter registering\, you will receive a confirmation email containing information about joining the meeting.
URL:https://fareconnectevents.com/event/you-are-invited-to-a-fareconnect-exclusive-with-sunwing-2/
CATEGORIES:Fareconnect Only Events,Supplier Webinar
ATTACH;FMTTYPE=image/jpeg:https://fareconnectevents.com/wp-content/uploads/2025/07/Screenshot_18-7-2025_104546_fareconnectevents.com_.jpeg
END:VEVENT
BEGIN:VEVENT
DTSTART;TZID=America/Winnipeg:20250902T150000
DTEND;TZID=America/Winnipeg:20250902T160000
DTSTAMP:20260423T140818
CREATED:20250808T162221Z
LAST-MODIFIED:20250808T162222Z
UID:6806-1756825200-1756828800@fareconnectevents.com
SUMMARY:You are invited to a Fareconnect Exclusive with Air Canada Vacations.
DESCRIPTION:You are invited to a Fareconnect Exclusive with Air Canada Vacations.\nWhen: Sep 2\, 2025 03:00 PM Winnipeg \nRegister in advance for this meeting:\nhttps://us06web.zoom.us/meeting/register/TZRQqOsiRMWL_WE2cFla0g \nAfter registering\, you will receive a confirmation email containing information about joining the meeting.
URL:https://fareconnectevents.com/event/you-are-invited-to-a-fareconnect-exclusive-with-air-canada-vacations/
CATEGORIES:Fareconnect Only Events,Supplier Webinar
ATTACH;FMTTYPE=image/jpeg:https://fareconnectevents.com/wp-content/uploads/2025/07/Screenshot_18-7-2025_104546_fareconnectevents.com_.jpeg
END:VEVENT
BEGIN:VEVENT
DTSTART;TZID=America/Winnipeg:20250828T190000
DTEND;TZID=America/Winnipeg:20250828T200000
DTSTAMP:20260423T140818
CREATED:20250625T161121Z
LAST-MODIFIED:20250625T161121Z
UID:6133-1756407600-1756411200@fareconnectevents.com
SUMMARY:You are invited to a Fareconnect Open Mic Night
DESCRIPTION:You are invited to a Fareconnect Open Mic Night\nWhen: Aug 28\, 2025 07:00 PM Winnipeg\nRegister in advance for this meeting:\nhttps://us06web.zoom.us/meeting/register/qyfuAeMZR4myrBKTwKHQ_w\nAfter registering\, you will receive a confirmation email containing information about joining the meeting.
URL:https://fareconnectevents.com/event/you-are-invited-to-a-fareconnect-open-mic-night/
CATEGORIES:Fareconnect Only Events,Supplier Webinar
ATTACH;FMTTYPE=image/png:https://fareconnectevents.com/wp-content/uploads/2024/01/Open-Mic.png
END:VEVENT
BEGIN:VEVENT
DTSTART;TZID=America/Winnipeg:20250828T130000
DTEND;TZID=America/Winnipeg:20250828T140000
DTSTAMP:20260423T140818
CREATED:20250808T161457Z
LAST-MODIFIED:20250808T162511Z
UID:6804-1756386000-1756389600@fareconnectevents.com
SUMMARY:You are invited to a Fareconnect Exclusive with WestJet Vacations.
DESCRIPTION:You are invited to a Fareconnect Exclusive with WestJet Vacations.\nWhen: Aug 28\, 2025 01:00 PM Winnipeg \nRegister in advance for this meeting:\nhttps://us06web.zoom.us/meeting/register/bg48VnW4Qq216G6I-mZ9lA \nAfter registering\, you will receive a confirmation email containing information about joining the meeting.
URL:https://fareconnectevents.com/event/you-are-invited-to-a-fareconnect-exclusive-with-westjet-vacations/
CATEGORIES:Fareconnect Only Events,Supplier Webinar
ATTACH;FMTTYPE=image/jpeg:https://fareconnectevents.com/wp-content/uploads/2025/07/Screenshot_18-7-2025_104546_fareconnectevents.com_.jpeg
END:VEVENT
BEGIN:VEVENT
DTSTART;TZID=America/Winnipeg:20250826T150000
DTEND;TZID=America/Winnipeg:20250826T160000
DTSTAMP:20260423T140818
CREATED:20250820T155742Z
LAST-MODIFIED:20250820T155743Z
UID:6966-1756220400-1756224000@fareconnectevents.com
SUMMARY:You are invited to a Fareconnect Exclusive with TravelBrands
DESCRIPTION:You are invited to a Fareconnect Exclusive with TravelBrands\nWhen: Aug 26\, 2025 03:00 PM Winnipeg \nRegister in advance for this meeting:\nhttps://us06web.zoom.us/meeting/register/aJXaHO85Q2SPUBFeCQl6Yw \nAfter registering\, you will receive a confirmation email containing information about joining the meeting.
URL:https://fareconnectevents.com/event/you-are-invited-to-a-fareconnect-exclusive-with-travelbrands/
CATEGORIES:Fareconnect Only Events,Supplier Webinar
ATTACH;FMTTYPE=image/jpeg:https://fareconnectevents.com/wp-content/uploads/2025/07/Screenshot_18-7-2025_104546_fareconnectevents.com_.jpeg
END:VEVENT
BEGIN:VEVENT
DTSTART;TZID=America/Winnipeg:20250821T153000
DTEND;TZID=America/Winnipeg:20250821T163000
DTSTAMP:20260423T140818
CREATED:20250813T140727Z
LAST-MODIFIED:20250813T140828Z
UID:6870-1755790200-1755793800@fareconnectevents.com
SUMMARY:You are invited to a Fareconnect Exclusive with AmaWaterways
DESCRIPTION:You are invited to a Fareconnect Exclusive with AmaWaterways \nWhen: Aug 21\, 2025 03:30 PM Winnipeg \nRegister in advance for this meeting:\nhttps://us06web.zoom.us/meeting/register/cdjaZtqbTF6zMeHGzkLBKw \nAfter registering\, you will receive a confirmation email containing information about joining the meeting.
URL:https://fareconnectevents.com/event/you-are-invited-to-a-fareconnect-exclusive-with-amawaterways/
CATEGORIES:Fareconnect Only Events,Supplier Webinar
ATTACH;FMTTYPE=image/jpeg:https://fareconnectevents.com/wp-content/uploads/2025/07/Screenshot_18-7-2025_104546_fareconnectevents.com_.jpeg
END:VEVENT
BEGIN:VEVENT
DTSTART;TZID=America/Winnipeg:20250819T150000
DTEND;TZID=America/Winnipeg:20250819T160000
DTSTAMP:20260423T140818
CREATED:20250806T134357Z
LAST-MODIFIED:20250806T134358Z
UID:6749-1755615600-1755619200@fareconnectevents.com
SUMMARY:Fareconnect Exclusive with Expedia TAAP
DESCRIPTION:You are invited to a Fareconnect Exclusive with Expedia TAAP \nWhen: Aug 19\, 2025 03:00 PM Winnipeg \nRegister in advance for this meeting: \nhttps://us06web.zoom.us/meeting/register/qLS81pPDQDiERetT4vJxXQ \nAfter registering\, you will receive a confirmation email containing information about joining the meeting.
URL:https://fareconnectevents.com/event/fareconnect-exclusive-with-expedia-taap/
CATEGORIES:Fareconnect Only Events,Supplier Webinar
ATTACH;FMTTYPE=image/jpeg:https://fareconnectevents.com/wp-content/uploads/2025/07/Screenshot_18-7-2025_104546_fareconnectevents.com_.jpeg
END:VEVENT
BEGIN:VEVENT
DTSTART;TZID=America/Winnipeg:20250814T130000
DTEND;TZID=America/Winnipeg:20250814T140000
DTSTAMP:20260423T140818
CREATED:20250806T134244Z
LAST-MODIFIED:20250806T134245Z
UID:6747-1755176400-1755180000@fareconnectevents.com
SUMMARY:Fareconnect Exclusive with Oceania
DESCRIPTION:You are invited to a Fareconnect Exclusive with Oceania \nWhen: Aug 14\, 2025 01:00 PM Winnipeg \nRegister in advance for this meeting: \nhttps://us06web.zoom.us/meeting/register/pC7io2JyQAmmr0cdu8lRNg \nAfter registering\, you will receive a confirmation email containing information about joining the meeting.
URL:https://fareconnectevents.com/event/fareconnect-exclusive-with-oceania/
CATEGORIES:Fareconnect Only Events,Supplier Webinar
ATTACH;FMTTYPE=image/jpeg:https://fareconnectevents.com/wp-content/uploads/2025/07/Screenshot_18-7-2025_104546_fareconnectevents.com_.jpeg
END:VEVENT
BEGIN:VEVENT
DTSTART;TZID=America/Winnipeg:20250812T150000
DTEND;TZID=America/Winnipeg:20250812T160000
DTSTAMP:20260423T140818
CREATED:20250801T164306Z
LAST-MODIFIED:20250801T164308Z
UID:6664-1755010800-1755014400@fareconnectevents.com
SUMMARY:Fareconnect Exclusive with Rocky Mountaineer
DESCRIPTION:You are invited to a Fareconnect Exclusive with Rocky Mountaineer\nWhen: Aug 12\, 2025 03:00 PM Winnipeg \nRegister in advance for this meeting:\nhttps://us06web.zoom.us/meeting/register/ZM55-BjuT86uoRYPUxvtVw \nAfter registering\, you will receive a confirmation email containing information about joining the meeting.
URL:https://fareconnectevents.com/event/fareconnect-exclusive-with-rocky-mountaineer/
CATEGORIES:Fareconnect Only Events,Supplier Webinar
ATTACH;FMTTYPE=image/jpeg:https://fareconnectevents.com/wp-content/uploads/2025/07/Screenshot_18-7-2025_104546_fareconnectevents.com_.jpeg
END:VEVENT
END:VCALENDAR