BEGIN:VCALENDAR
VERSION:2.0
PRODID:-//Fareconnect Events - ECPv6.15.20//NONSGML v1.0//EN
CALSCALE:GREGORIAN
METHOD:PUBLISH
X-ORIGINAL-URL:https://fareconnectevents.com
X-WR-CALDESC:Events for Fareconnect Events
REFRESH-INTERVAL;VALUE=DURATION:PT1H
X-Robots-Tag:noindex
X-PUBLISHED-TTL:PT1H
BEGIN:VTIMEZONE
TZID:America/Winnipeg
BEGIN:DAYLIGHT
TZOFFSETFROM:-0600
TZOFFSETTO:-0500
TZNAME:CDT
DTSTART:20250309T080000
END:DAYLIGHT
BEGIN:STANDARD
TZOFFSETFROM:-0500
TZOFFSETTO:-0600
TZNAME:CST
DTSTART:20251102T070000
END:STANDARD
BEGIN:DAYLIGHT
TZOFFSETFROM:-0600
TZOFFSETTO:-0500
TZNAME:CDT
DTSTART:20260308T080000
END:DAYLIGHT
BEGIN:STANDARD
TZOFFSETFROM:-0500
TZOFFSETTO:-0600
TZNAME:CST
DTSTART:20261101T070000
END:STANDARD
BEGIN:DAYLIGHT
TZOFFSETFROM:-0600
TZOFFSETTO:-0500
TZNAME:CDT
DTSTART:20270314T080000
END:DAYLIGHT
BEGIN:STANDARD
TZOFFSETFROM:-0500
TZOFFSETTO:-0600
TZNAME:CST
DTSTART:20271107T070000
END:STANDARD
END:VTIMEZONE
BEGIN:VEVENT
DTSTART;TZID=America/Winnipeg:20260521T130000
DTEND;TZID=America/Winnipeg:20260521T140000
DTSTAMP:20260423T135229
CREATED:20260116T221301Z
LAST-MODIFIED:20260116T221301Z
UID:8667-1779368400-1779372000@fareconnectevents.com
SUMMARY:Destination Deep Dive: Hidden Gems for Summer 2026
DESCRIPTION:Thu\, May 21\, 2026 \n1:00 PM – 2:00 PM CDT\n\n\nShow in my time zone\n\nStand out by offering unique experiences! Samantha and Bruno will take you on a journey through trending and off-the-beaten-path destinations available on Bedsonline. Participate in a fun Destination Trivia Game and receive an exclusive list of hidden gems to wow your clients this summer.\n\nRegister Here:\nhttps://register.gotowebinar.com/register/1854941439163348565?fbclid=IwY2xjawPXltRleHRuA2FlbQIxMABicmlkETFNQXVNRUY5WUg4R1Q4UDVEc3J0YwZhcHBfaWQQMjIyMDM5MTc4ODIwMDg5MgABHpi2txhBjAYsqsmHNk54wsfc9TM2h7QO0DbDMJFnrKSxdgmil3PWDbwltFJs_aem_OpYH4l_5G3j8VegX-7NdBw
URL:https://fareconnectevents.com/event/destination-deep-dive-hidden-gems-for-summer-2026/
CATEGORIES:Supplier Webinar
ATTACH;FMTTYPE=image/png:https://fareconnectevents.com/wp-content/uploads/2024/01/1.png
END:VEVENT
END:VCALENDAR