BEGIN:VCALENDAR
VERSION:2.0
PRODID:-//Fareconnect Events - ECPv6.15.20//NONSGML v1.0//EN
CALSCALE:GREGORIAN
METHOD:PUBLISH
X-WR-CALNAME:Fareconnect Events
X-ORIGINAL-URL:https://fareconnectevents.com
X-WR-CALDESC:Events for Fareconnect Events
REFRESH-INTERVAL;VALUE=DURATION:PT1H
X-Robots-Tag:noindex
X-PUBLISHED-TTL:PT1H
BEGIN:VTIMEZONE
TZID:America/Winnipeg
BEGIN:DAYLIGHT
TZOFFSETFROM:-0600
TZOFFSETTO:-0500
TZNAME:CDT
DTSTART:20240310T080000
END:DAYLIGHT
BEGIN:STANDARD
TZOFFSETFROM:-0500
TZOFFSETTO:-0600
TZNAME:CST
DTSTART:20241103T070000
END:STANDARD
BEGIN:DAYLIGHT
TZOFFSETFROM:-0600
TZOFFSETTO:-0500
TZNAME:CDT
DTSTART:20250309T080000
END:DAYLIGHT
BEGIN:STANDARD
TZOFFSETFROM:-0500
TZOFFSETTO:-0600
TZNAME:CST
DTSTART:20251102T070000
END:STANDARD
BEGIN:DAYLIGHT
TZOFFSETFROM:-0600
TZOFFSETTO:-0500
TZNAME:CDT
DTSTART:20260308T080000
END:DAYLIGHT
BEGIN:STANDARD
TZOFFSETFROM:-0500
TZOFFSETTO:-0600
TZNAME:CST
DTSTART:20261101T070000
END:STANDARD
END:VTIMEZONE
BEGIN:VEVENT
DTSTART;TZID=America/Winnipeg:20250304T150000
DTEND;TZID=America/Winnipeg:20250304T160000
DTSTAMP:20260424T082239
CREATED:20250227T155839Z
LAST-MODIFIED:20250227T155840Z
UID:4450-1741100400-1741104000@fareconnectevents.com
SUMMARY:Fareconnect Exclusive with Globus Family of Brands
DESCRIPTION:Time: Mar 04\, 2025 03:00 PM Winnipeg\n\n\nRegister in advance for this meeting :\n\n\nhttps://us06web.zoom.us/…/reg…/Kc2IF_sST8WFeO0R-GPr6Q…\n\n\nAfter registering\, you will receive a confirmation email containing information about joining the meeting
URL:https://fareconnectevents.com/event/fareconnect-exclusive-with-globus-family-of-brands/
CATEGORIES:Fareconnect Only Events,Supplier Webinar
ATTACH;FMTTYPE=image/png:https://fareconnectevents.com/wp-content/uploads/2024/01/2.png
END:VEVENT
BEGIN:VEVENT
DTSTART;TZID=America/Winnipeg:20250305T120000
DTEND;TZID=America/Winnipeg:20250305T130000
DTSTAMP:20260424T082239
CREATED:20250227T155947Z
LAST-MODIFIED:20250227T155948Z
UID:4452-1741176000-1741179600@fareconnectevents.com
SUMMARY:Fareconnect Exclusive with Celebrity
DESCRIPTION:Time: Mar 05\, 2025 12:00 PM Winnipeg\n\n\nRegister in advance for this meeting :\n\n\nhttps://us06web.zoom.us/…/reg…/Q0BnBRhMSiuh01m8w-NN8g…\n\n\nAfter registering\, you will receive a confirmation email containing information about joining the meeting
URL:https://fareconnectevents.com/event/fareconnect-exclusive-with-celebrity/
CATEGORIES:Fareconnect Only Events,Supplier Webinar
ATTACH;FMTTYPE=image/png:https://fareconnectevents.com/wp-content/uploads/2024/01/2.png
END:VEVENT
BEGIN:VEVENT
DTSTART;TZID=America/Winnipeg:20250306T130000
DTEND;TZID=America/Winnipeg:20250306T140000
DTSTAMP:20260424T082239
CREATED:20250106T202605Z
LAST-MODIFIED:20250106T202606Z
UID:4017-1741266000-1741269600@fareconnectevents.com
SUMMARY:Fareconnect Exclusive with ADX - Cruises
DESCRIPTION:When: Mar 6\, 2025 01:00 PM Winnipeg Time.\n\n\nRegister in advance for this meeting:\n\n\n\nAfter registering\, you will receive a confirmation email containing information about joining the meeting.
URL:https://fareconnectevents.com/event/fareconnect-exclusive-with-adx-cruises/
CATEGORIES:Fareconnect Only Events,Supplier Webinar
ATTACH;FMTTYPE=image/png:https://fareconnectevents.com/wp-content/uploads/2024/01/2.png
END:VEVENT
BEGIN:VEVENT
DTSTART;TZID=America/Winnipeg:20250311T140000
DTEND;TZID=America/Winnipeg:20250311T150000
DTSTAMP:20260424T082239
CREATED:20250227T160635Z
LAST-MODIFIED:20250227T160636Z
UID:4460-1741701600-1741705200@fareconnectevents.com
SUMMARY:Fareconnect Exclusive with Uniworld
DESCRIPTION:Time: Mar 11\, 2025 02:00 PM Winnipeg\n\n\nRegister in advance for this meeting :\n\n\nhttps://us06web.zoom.us/…/reg…/7gOOfcxyRFaejnqKCLmjqw…\n\n\nAfter registering\, you will receive a confirmation email containing information about joining the meeting
URL:https://fareconnectevents.com/event/fareconnect-exclusive-with-uniworld/
CATEGORIES:Fareconnect Only Events,Supplier Webinar
ATTACH;FMTTYPE=image/png:https://fareconnectevents.com/wp-content/uploads/2024/01/2.png
END:VEVENT
BEGIN:VEVENT
DTSTART;TZID=America/Winnipeg:20250313T150000
DTEND;TZID=America/Winnipeg:20250313T160000
DTSTAMP:20260424T082239
CREATED:20250227T160504Z
LAST-MODIFIED:20250227T160505Z
UID:4458-1741878000-1741881600@fareconnectevents.com
SUMMARY:Fareconnect Exclusive with Riu
DESCRIPTION:Time: Mar 13\, 2025 03:00 PM Winnipeg\n\n\nRegister in advance for this meeting :\n\n\nhttps://us06web.zoom.us/…/register/IaRmJ3m_TIKRzrXfdeHEYw\n\n\nAfter registering\, you will receive a confirmation email containing information about joining the meeting
URL:https://fareconnectevents.com/event/fareconnect-exclusive-with-riu/
CATEGORIES:Fareconnect Only Events,Supplier Webinar
ATTACH;FMTTYPE=image/png:https://fareconnectevents.com/wp-content/uploads/2024/01/2.png
END:VEVENT
BEGIN:VEVENT
DTSTART;TZID=America/Winnipeg:20250318T150000
DTEND;TZID=America/Winnipeg:20250318T160000
DTSTAMP:20260424T082239
CREATED:20250305T174224Z
LAST-MODIFIED:20250305T174319Z
UID:4618-1742310000-1742313600@fareconnectevents.com
SUMMARY:Fareconnect Exclusive with Riverside Luxury
DESCRIPTION:When: Mar 18\, 2025 03:00 PM Winnipeg \nRegister in advance for this meeting: \nhttps://us06web.zoom.us/meeting/register/iiJKj2HiR2y9SKEIRHIX5A#/registration \nAfter registering\, you will receive a confirmation email containing information about joining the meeting.
URL:https://fareconnectevents.com/event/fareconnect-exclusive-with-riverside-luxury/
CATEGORIES:Fareconnect Only Events,Supplier Webinar
ATTACH;FMTTYPE=image/png:https://fareconnectevents.com/wp-content/uploads/2024/01/2.png
END:VEVENT
BEGIN:VEVENT
DTSTART;TZID=America/Winnipeg:20250320T130000
DTEND;TZID=America/Winnipeg:20250320T140000
DTSTAMP:20260424T082239
CREATED:20250305T191333Z
LAST-MODIFIED:20250305T191346Z
UID:4622-1742475600-1742479200@fareconnectevents.com
SUMMARY:Fareconnect Exclusive with Hard Rock Resorts
DESCRIPTION:When: Mar 20\, 2025 01:00 PM Winnipeg \nRegister in advance for this meeting: \nhttps://us06web.zoom.us/meeting/register/jwdS-aVqTAOzEMZw10W-1w \nAfter registering\, you will receive a confirmation email containing information about joining the meeting.\nHi there\,
URL:https://fareconnectevents.com/event/a-fareconnect-exclusive-with-hard-rock-resorts/
CATEGORIES:Fareconnect Only Events,Supplier Webinar
ATTACH;FMTTYPE=image/png:https://fareconnectevents.com/wp-content/uploads/2024/01/2.png
END:VEVENT
BEGIN:VEVENT
DTSTART;TZID=America/Winnipeg:20250325T150000
DTEND;TZID=America/Winnipeg:20250325T160000
DTSTAMP:20260424T082239
CREATED:20250305T175338Z
LAST-MODIFIED:20250305T175338Z
UID:4620-1742914800-1742918400@fareconnectevents.com
SUMMARY:Fareconnect Exclusive with Carnival Cruise Lines
DESCRIPTION:When: Mar 25\, 2025 03:00 PM Winnipeg \nRegister in advance for this meeting: \nhttps://us06web.zoom.us/meeting/register/SDxpqSLvSAOOVt37zbE4bw \nAfter registering\, you will receive a confirmation email containing information about joining the meeting.
URL:https://fareconnectevents.com/event/fareconnect-exclusive-with-carnival-cruise-lines/
CATEGORIES:Fareconnect Only Events,Supplier Webinar
ATTACH;FMTTYPE=image/png:https://fareconnectevents.com/wp-content/uploads/2024/01/2.png
END:VEVENT
BEGIN:VEVENT
DTSTART;TZID=America/Winnipeg:20250327T190000
DTEND;TZID=America/Winnipeg:20250327T200000
DTSTAMP:20260424T082239
CREATED:20250227T161608Z
LAST-MODIFIED:20250227T161828Z
UID:4462-1743102000-1743105600@fareconnectevents.com
SUMMARY:Fareconnect Open Mic Night
DESCRIPTION:Time: Mar 27\, 2025 07:00 PM Winnipeg\n\n\nRegister in advance for this meeting :\n\n\nhttps://us06web.zoom.us/meeting/register/pyh1XiSTRfOvxJ9bEGubdA\n\n\nAfter registering\, you will receive a confirmation email containing information about joining the meeting
URL:https://fareconnectevents.com/event/fareconnect-open-mic-night-9/
CATEGORIES:Fareconnect Only Events,Supplier Webinar
ATTACH;FMTTYPE=image/png:https://fareconnectevents.com/wp-content/uploads/2024/01/2.png
END:VEVENT
END:VCALENDAR