BEGIN:VCALENDAR
VERSION:2.0
PRODID:-//Fareconnect Events - ECPv6.15.20//NONSGML v1.0//EN
CALSCALE:GREGORIAN
METHOD:PUBLISH
X-WR-CALNAME:Fareconnect Events
X-ORIGINAL-URL:https://fareconnectevents.com
X-WR-CALDESC:Events for Fareconnect Events
REFRESH-INTERVAL;VALUE=DURATION:PT1H
X-Robots-Tag:noindex
X-PUBLISHED-TTL:PT1H
BEGIN:VTIMEZONE
TZID:America/Winnipeg
BEGIN:DAYLIGHT
TZOFFSETFROM:-0600
TZOFFSETTO:-0500
TZNAME:CDT
DTSTART:20230312T080000
END:DAYLIGHT
BEGIN:STANDARD
TZOFFSETFROM:-0500
TZOFFSETTO:-0600
TZNAME:CST
DTSTART:20231105T070000
END:STANDARD
BEGIN:DAYLIGHT
TZOFFSETFROM:-0600
TZOFFSETTO:-0500
TZNAME:CDT
DTSTART:20240310T080000
END:DAYLIGHT
BEGIN:STANDARD
TZOFFSETFROM:-0500
TZOFFSETTO:-0600
TZNAME:CST
DTSTART:20241103T070000
END:STANDARD
BEGIN:DAYLIGHT
TZOFFSETFROM:-0600
TZOFFSETTO:-0500
TZNAME:CDT
DTSTART:20250309T080000
END:DAYLIGHT
BEGIN:STANDARD
TZOFFSETFROM:-0500
TZOFFSETTO:-0600
TZNAME:CST
DTSTART:20251102T070000
END:STANDARD
END:VTIMEZONE
BEGIN:VEVENT
DTSTART;TZID=America/Winnipeg:20241001T150000
DTEND;TZID=America/Winnipeg:20241001T160000
DTSTAMP:20260424T154625
CREATED:20240919T193506Z
LAST-MODIFIED:20240919T193507Z
UID:3153-1727794800-1727798400@fareconnectevents.com
SUMMARY:Fareconnect Exclusive with West Jet Vacations
DESCRIPTION:October 1st\,2024 \n3:00pm till 4:00pm
URL:https://fareconnectevents.com/event/fareconnect-exclusive-with-west-jet-vacations/
CATEGORIES:Supplier Webinar
ATTACH;FMTTYPE=image/png:https://fareconnectevents.com/wp-content/uploads/2024/01/2.png
END:VEVENT
BEGIN:VEVENT
DTSTART;TZID=America/Winnipeg:20240306T120000
DTEND;TZID=America/Winnipeg:20240306T130000
DTSTAMP:20260424T154625
CREATED:20240306T181933Z
LAST-MODIFIED:20240306T182207Z
UID:1779-1709726400-1709730000@fareconnectevents.com
SUMMARY:G Adventures In the Loop
DESCRIPTION:In The Loop is a regularly scheduled training with G Adventures on the first Wednesday of the month. \nThe topics will vary every month so register now and save the series in your calendar \nRegister for webinar
URL:https://fareconnectevents.com/event/in-the-loop/
CATEGORIES:Supplier Webinar
ATTACH;FMTTYPE=image/png:https://fareconnectevents.com/wp-content/uploads/2024/01/1.png
END:VEVENT
BEGIN:VEVENT
DTSTART;TZID=America/Winnipeg:20241002T170000
DTEND;TZID=America/Winnipeg:20241002T190000
DTSTAMP:20260424T154625
CREATED:20240924T183525Z
LAST-MODIFIED:20240924T183526Z
UID:3272-1727888400-1727895600@fareconnectevents.com
SUMMARY:Sunwing's Winter Launch Trade Event- Vitual
DESCRIPTION:October 2md\,2024 \njoin us for an exclusive look at our winter campaign and discover what’s new for winter. During this time\, buckle up for a fun virtual trivia game where you’ll have the chance to win prizes like a vacation for two to Riu Palace Baja California in Los Cabos!
URL:https://fareconnectevents.com/event/sunwings-winter-launch-trade-event-vitual/
CATEGORIES:Supplier Webinar
ATTACH;FMTTYPE=image/png:https://fareconnectevents.com/wp-content/uploads/2024/01/1.png
END:VEVENT
BEGIN:VEVENT
DTSTART;TZID=America/Winnipeg:20241003T100000
DTEND;TZID=America/Winnipeg:20241003T110000
DTSTAMP:20260424T154625
CREATED:20240827T192834Z
LAST-MODIFIED:20240911T202300Z
UID:3027-1727949600-1727953200@fareconnectevents.com
SUMMARY:Fareconnect Exclusive with Orbister
DESCRIPTION:You are invited to a Fareconnect Exclusive with Orbister \nDue to low registration Luis and I have decided to reschedule the Fareconnect Exclusive with Orbister to  \nOct 3 at 10 AM Winnipeg Time. \nRegister in advance for this meeting:\nCLICK HERE \nAfter registering\, you will receive a confirmation email containing information about joining the meeting.
URL:https://fareconnectevents.com/event/fareconnect-exclusive-with-orbister/
CATEGORIES:Supplier Webinar
ATTACH;FMTTYPE=image/png:https://fareconnectevents.com/wp-content/uploads/2024/01/2.png
END:VEVENT
BEGIN:VEVENT
DTSTART;TZID=America/Winnipeg:20241022T150000
DTEND;TZID=America/Winnipeg:20241022T160000
DTSTAMP:20260424T154625
CREATED:20240920T155556Z
LAST-MODIFIED:20240920T155557Z
UID:3160-1729609200-1729612800@fareconnectevents.com
SUMMARY:Fareconnect Exclusive with Sunwing Vacations
DESCRIPTION:Oct 22nd\,2024 \n3:00pm till 4:00pm \n 
URL:https://fareconnectevents.com/event/fareconnect-exclusive-with-sunwing-vacations/
CATEGORIES:Supplier Webinar
ATTACH;FMTTYPE=image/png:https://fareconnectevents.com/wp-content/uploads/2024/01/2.png
END:VEVENT
BEGIN:VEVENT
DTSTART;TZID=America/Winnipeg:20241023T090000
DTEND;TZID=America/Winnipeg:20241023T110000
DTSTAMP:20260424T154625
CREATED:20241001T192422Z
LAST-MODIFIED:20241001T192423Z
UID:3316-1729674000-1729681200@fareconnectevents.com
SUMMARY:Training with a Purpose in Winnipeg
DESCRIPTION:Join Playa Resorts and Viking Cruises for Travel Advisor Breakfast Workshop \nThe Leaf \n145 Leaf Way\, Winnipeg MB\, R3P 2N6 \n9:00am till 11:00am
URL:https://fareconnectevents.com/event/training-with-a-purpose-in-winnipeg/
LOCATION:The Leaf\, 145 The Leaf Wy\, Winnipeg\, MB\, R3P2N6\, Canada
CATEGORIES:Supplier Webinar
ATTACH;FMTTYPE=image/png:https://fareconnectevents.com/wp-content/uploads/2024/01/3.png
END:VEVENT
END:VCALENDAR