BEGIN:VCALENDAR
VERSION:2.0
PRODID:-//Fareconnect Events - ECPv6.15.20//NONSGML v1.0//EN
CALSCALE:GREGORIAN
METHOD:PUBLISH
X-ORIGINAL-URL:https://fareconnectevents.com
X-WR-CALDESC:Events for Fareconnect Events
REFRESH-INTERVAL;VALUE=DURATION:PT1H
X-Robots-Tag:noindex
X-PUBLISHED-TTL:PT1H
BEGIN:VTIMEZONE
TZID:America/Winnipeg
BEGIN:DAYLIGHT
TZOFFSETFROM:-0600
TZOFFSETTO:-0500
TZNAME:CDT
DTSTART:20240310T080000
END:DAYLIGHT
BEGIN:STANDARD
TZOFFSETFROM:-0500
TZOFFSETTO:-0600
TZNAME:CST
DTSTART:20241103T070000
END:STANDARD
BEGIN:DAYLIGHT
TZOFFSETFROM:-0600
TZOFFSETTO:-0500
TZNAME:CDT
DTSTART:20250309T080000
END:DAYLIGHT
BEGIN:STANDARD
TZOFFSETFROM:-0500
TZOFFSETTO:-0600
TZNAME:CST
DTSTART:20251102T070000
END:STANDARD
BEGIN:DAYLIGHT
TZOFFSETFROM:-0600
TZOFFSETTO:-0500
TZNAME:CDT
DTSTART:20260308T080000
END:DAYLIGHT
BEGIN:STANDARD
TZOFFSETFROM:-0500
TZOFFSETTO:-0600
TZNAME:CST
DTSTART:20261101T070000
END:STANDARD
BEGIN:DAYLIGHT
TZOFFSETFROM:-0600
TZOFFSETTO:-0500
TZNAME:CDT
DTSTART:20270314T080000
END:DAYLIGHT
BEGIN:STANDARD
TZOFFSETFROM:-0500
TZOFFSETTO:-0600
TZNAME:CST
DTSTART:20271107T070000
END:STANDARD
END:VTIMEZONE
BEGIN:VEVENT
DTSTART;TZID=America/Winnipeg:20251105T163000
DTEND;TZID=America/Winnipeg:20251105T183000
DTSTAMP:20260424T153116
CREATED:20251017T160156Z
LAST-MODIFIED:20251017T160156Z
UID:7692-1762360200-1762367400@fareconnectevents.com
SUMMARY:WINDSTAR CRUISES AND TOURCAN VACATIONS ARE COMING TO TOWN
DESCRIPTION:You’re Invited to a Presentation\nJoin Windstar Cruises and Tourcan Vacations to learn about the world of small ship cruising\nand the wonders of exotic destinations. Product updates\, destinations\, promotions and more!. \nVENUE: Hilton Winnipeg Airport Suites \nPresentation Details \nDate: Wednesday November 05\,2025 \nRegistration and Light Snacks: 4:30PM \nPresentation: 5:00pm til 6:30Pm \nRSVP: Andrea Mendelsohn- andrea.mendelsohn@windstarcruises.com \n 
URL:https://fareconnectevents.com/event/windstar-cruises-and-tourcan-vacations-are-coming-to-town/
LOCATION:HILTON WINNIPEG AIRPORT SUITES\, 1800 Wellington Avenue\, Winnipeg\, Manitoba\, R3H 1B3\, Canada
CATEGORIES:Supplier (in person) Event
ATTACH;FMTTYPE=image/png:https://fareconnectevents.com/wp-content/uploads/2024/01/3.png
END:VEVENT
BEGIN:VEVENT
DTSTART;TZID=America/Winnipeg:20260129T080000
DTEND;TZID=America/Winnipeg:20260204T170000
DTSTAMP:20260424T153116
CREATED:20260129T185432Z
LAST-MODIFIED:20260129T190350Z
UID:8803-1769673600-1770224400@fareconnectevents.com
SUMMARY:Exclusive Invite from Hyatt's Inclusive Collection Event:
DESCRIPTION:  Exclusive Invite from Hyatt’s Inclusive Collection Event: \n\n\n\nYou’re invited to attend the Destination Wedding Road Show with Hyatt Inclusive Collection—an exclusive opportunity designed for partners who want to grow their destination wedding business. \nWhy you shouldn’t miss this event: \n💍 Meet 20 Wedding & Sales Managers\nEngage in a speed-dating–style networking session with wedding and sales managers travelling exclusively from Mexico and the Caribbean. Build direct relationships\, ask questions\, and gain insider knowledge to better serve your wedding clients. \n🌴 Expert Insights from Hyatt Inclusive Collection\nFollowing the networking session\, enjoy a focused presentation led by our Groups BDM Specialist\, highlighting the latest updates\, trends\, and opportunities within the Hyatt Inclusive Collection portfolio. \n🍽️ Meal Included \nThis road show is designed to be high-impact\, informative\, and relationship-driven—making it a must-attend event for anyone serious about destination weddings. \nWe look forward to welcoming you for an evening of connection\, insight\, and inspiration. \nToronto Lunch Event – Monday\, February 9\, 11:00am-2:30pm\nThe Vue & Clubhouse Event Space – 195 Galaxy Blvd\, Etobicoke\n\n\n\n\n\n\n\n\n\n\n\n\n\n\n\n\n\n\nTORONTO RSVP\n\n\n\n\n\n\n\n\n\n\nVancouver Dinner Event – Tuesday\, February 10\, 5:30pm-9:00pm\nMayfair Lakes Golf & Country Club – 5460 Number 7 Rd\, Richmond\n\n\n\n\n\n\n\n\n\n\nVANCOUVER RSVP\n\n\n\n\n\n\n\n\n\n\nSaskatoon Dinner Event – Wednesday\, February 11\, 5:30pm-9:00pm\nDelta Hotels Bess borough – 601 Spadina Crescent East\, Saskatoon\n\n\n\n\n\n\n\n\n\n\nSASKATOON RSVP\n\n\n\n\n\n\n\n\n\n\nCalgary Dinner Event – Thursday\, February 12\, 5:30pm-9:00pm\nThe Hamptons Golf Club – 69 Hamptons Dr NW\, Calgary\, Alberta\n\n\n\n\n\n\n\n\n\n\nCALGARY RSVP\n\n\n\n\n\n\n\n\n\n\n\n\n\n\n\n\n\n\n  \nEdmonton Dinner Event – Friday\, February 13\, 2:30pm-6:00pm \nRoyal Glenora Club – 11160 River Valley Rd NW\, Edmonton\n\n\n\n\n\n\n\n\n\n\n\n\n\n\n\n\n\n\nEDMONTON RSVP\n\n\n\n\n\n\n\n\n\n\n  \n\n\n\n\n\n\n\n          Deadline to Register – Wednesday\, February 4th  \nLimited space available. Prompt RSVP appreciated.
URL:https://fareconnectevents.com/event/exclusive-invite-from-hyatts-inclusive-collection-event/
CATEGORIES:Fareconnect Only Events,Supplier (in person) Event
END:VEVENT
BEGIN:VEVENT
DTSTART;TZID=America/Winnipeg:20260218T000000
DTEND;TZID=America/Winnipeg:20260219T235959
DTSTAMP:20260424T153116
CREATED:20260129T212948Z
LAST-MODIFIED:20260129T212948Z
UID:8810-1771372800-1771545599@fareconnectevents.com
SUMMARY:Travel Market Place Vancouver\, 2026
DESCRIPTION:Travel Market Place Vancouver\, 2026  \nWednesday February 18\, 2026 – Thursday February 19\, 2026 \nJW Marriott Parq\n604-676-0888\n39 Smithe Street\nVancouver\, BC V6B 0R3\, Canada \nRegister Here: \nhttps://na.eventscloud.com/ereg/index.php?eventid=834344&discountcode=Rick26 \nthe code is attach to the registration
URL:https://fareconnectevents.com/event/travel-market-place-vancouver-2026/
CATEGORIES:Supplier (in person) Event
END:VEVENT
BEGIN:VEVENT
DTSTART;TZID=America/Winnipeg:20260623T000000
DTEND;TZID=America/Winnipeg:20260624T235959
DTSTAMP:20260424T153116
CREATED:20260129T213315Z
LAST-MODIFIED:20260129T213316Z
UID:8812-1782172800-1782345599@fareconnectevents.com
SUMMARY:Travel Market Place Toronto\, 2026
DESCRIPTION:Travel Market Place Toronto\, 2026  \nTuesday June 23\, 2026 – Wednesday June 24\, 2026\nDelta Hotels Toronto Airport & Conference Centre\n(416) 244-1711\n655 Dixon Road\nToronto\, Ontario M9W 1J3\, Canada \nRegister Here: \nhttps://na.eventscloud.com/ereg/index.php?eventid=834347&discountcode=Rick26 \nthe code is attach to the registration
URL:https://fareconnectevents.com/event/travel-market-place-toronto-2026/
CATEGORIES:Supplier (in person) Event
END:VEVENT
BEGIN:VEVENT
DTSTART;TZID=America/Winnipeg:20260915T000000
DTEND;TZID=America/Winnipeg:20260916T235959
DTSTAMP:20260424T153117
CREATED:20260129T213743Z
LAST-MODIFIED:20260129T213743Z
UID:8814-1789430400-1789603199@fareconnectevents.com
SUMMARY:Travel Market Place Calgary:
DESCRIPTION:Travel Market Place Calgary: \nSeptember 15th-16th\, 2026\nGrey Eagle Resort and Casino\n(403) 385-3777\n3777 Grey Eagle Drive\,\nCalgary\, AB T3E 3X8\, Canada \nRegister Here: \nhttps://na.eventscloud.com/ereg/index.php?eventid=849567&discountcode=Rick26 \nthe code is attach to the registration
URL:https://fareconnectevents.com/event/travel-market-place-calgary/
CATEGORIES:Supplier (in person) Event
ATTACH;FMTTYPE=image/png:https://fareconnectevents.com/wp-content/uploads/2024/01/3.png
END:VEVENT
BEGIN:VEVENT
DTSTART;TZID=America/Winnipeg:20261015T140000
DTEND;TZID=America/Winnipeg:20261018T110000
DTSTAMP:20260424T153117
CREATED:20260226T211201Z
LAST-MODIFIED:20260306T190452Z
UID:9001-1792072800-1792321200@fareconnectevents.com
SUMMARY:Fareconnect Conference 2026
DESCRIPTION:Fareconnect Conference 2026  \nOctober 15–18\, 2026  \n Sandman Signature Winnipeg Airport Hotel & Suites\n1760 Sargent Ave\, Winnipeg\, MB R3H 0C7  \nWe are excited to welcome you to the Fareconnect Conference 2026 — four days of connection\, education\, supplier engagement\, and celebration with your Fareconnect community.  \nTentative Schedule  \nOctober 15 (Starting at 2PM CT)\nAfternoon Business Development Session\nEvening Meet & Greet  \nOctober 16\nMorning & Afternoon Training Sessions\nEvening Fun Night  \nOctober 17\nMorning & Afternoon Training Sessions\nEvening Gala Celebration  \nOctober 18\nDeparture Day  \n  \nConference Registration Fees  \nEarly Bird Rate: $100 + GST (until June 30\, 2026)\nAgents who register at the Early Bird rate will be entered to win one of two $250 WestJet gift cards.  \nStandard Rate: $150 + GST (as of July 1\, 2026)  \nPlease note: The conference fee is a flat rate. There are no discounted rates for partial attendance.  \nGala Dinner Guest: $75 + GST\nGuest fees will be charged at the time you submit payment for your conference registration. \nHotel Information  \nGroup Rate: $199.00 per night\nAvailable October 14–19\, 2026\nUse this link to book your stay: \nhttps://reservations.sandmanhotels.com/9879385?&groupID=5140317#/\n  \nThe hotel offers a complimentary airport shuttle.\nCall 204-421-7263 ext. 0 to arrange pickup.  \nPlease pre-book your departure shuttles the night before. \nFlights \nWestJet Airlines Discount Code \n\nEvent in Canada:    \n\n5% off Econo* and 10% off EconoFlex and Premium base fares for travel within Canada and 2% off Econo*\, 5% off EconoFlex and 10% off Premium base fares for travel between Canada and US \nNo discount will apply to Ultra Basic or Business class bookings. To take advantage of this offer\, you will need the discount code listed. Please visit WestJet Direct to make a booking online\n*or copy and paste this link into your browser.\nhttps://westjetagentdirect.westjet.com/login-agent.html \nApplicable Rules \n\nThe booking is to be made to the following city: Winnipeg\nThe travel period begins: 10/7/2026\nThe travel period ends: 10/26/2026\n\n\n\n\nCoupon Code: Guest web/Travel Agent web\n5O6L7ZW\n\n\n\n Confirmed Suppliers (More to Come)  \n\nVirgin Voyages \n\n\nRiverside Luxury Cruises \n\n\nSilversea \n\n\nCollette \n\n\nBedsonline \n\n\nGoway Travel \n\n\nPrincess Cruises \n\n…with more to be announced.  \nWe look forward to bringing our Fareconnect community together in Winnipeg to grow your business\, strengthen supplier partnerships\, and celebrate your success.  \nPlease complete the registration form to reserve your place at the conference. \nOnce your form has been submitted\, you will receive a secure payment link by email to remit your conference fee. Your registration will be confirmed once full payment has been received. \nTo access the registration form\, visit the Fareconnect Resource Site\, select Forms from the menu\, and click Fareconnect Conference 2026. \nhttp://www.fareconnectagent.com \n*Registration closes September 15\, 2026  \nWe look forward to welcoming you once your spot is secured. 
URL:https://fareconnectevents.com/event/fareconnect-conference-2026/
LOCATION:Sandman Signature Winnipeg Airport Hotel & Suites\, 1750 Sargent Ave\, Winnipeg\, MB\, R3H 0C7\, Canada
CATEGORIES:Fareconnect Only Events,Supplier (in person) Event
ATTACH;FMTTYPE=image/jpeg:https://fareconnectevents.com/wp-content/uploads/2026/02/c168df66-1a04-4db4-8c80-33557a66cb2d.jpg
END:VEVENT
END:VCALENDAR