BEGIN:VCALENDAR
VERSION:2.0
PRODID:-//Fareconnect Events - ECPv6.15.20//NONSGML v1.0//EN
CALSCALE:GREGORIAN
METHOD:PUBLISH
X-WR-CALNAME:Fareconnect Events
X-ORIGINAL-URL:https://fareconnectevents.com
X-WR-CALDESC:Events for Fareconnect Events
REFRESH-INTERVAL;VALUE=DURATION:PT1H
X-Robots-Tag:noindex
X-PUBLISHED-TTL:PT1H
BEGIN:VTIMEZONE
TZID:America/Winnipeg
BEGIN:DAYLIGHT
TZOFFSETFROM:-0600
TZOFFSETTO:-0500
TZNAME:CDT
DTSTART:20250309T080000
END:DAYLIGHT
BEGIN:STANDARD
TZOFFSETFROM:-0500
TZOFFSETTO:-0600
TZNAME:CST
DTSTART:20251102T070000
END:STANDARD
BEGIN:DAYLIGHT
TZOFFSETFROM:-0600
TZOFFSETTO:-0500
TZNAME:CDT
DTSTART:20260308T080000
END:DAYLIGHT
BEGIN:STANDARD
TZOFFSETFROM:-0500
TZOFFSETTO:-0600
TZNAME:CST
DTSTART:20261101T070000
END:STANDARD
BEGIN:DAYLIGHT
TZOFFSETFROM:-0600
TZOFFSETTO:-0500
TZNAME:CDT
DTSTART:20270314T080000
END:DAYLIGHT
BEGIN:STANDARD
TZOFFSETFROM:-0500
TZOFFSETTO:-0600
TZNAME:CST
DTSTART:20271107T070000
END:STANDARD
END:VTIMEZONE
BEGIN:VEVENT
DTSTART;TZID=America/Winnipeg:20260129T080000
DTEND;TZID=America/Winnipeg:20260204T170000
DTSTAMP:20260423T155152
CREATED:20260129T185432Z
LAST-MODIFIED:20260129T190350Z
UID:8803-1769673600-1770224400@fareconnectevents.com
SUMMARY:Exclusive Invite from Hyatt's Inclusive Collection Event:
DESCRIPTION:  Exclusive Invite from Hyatt’s Inclusive Collection Event: \n\n\n\nYou’re invited to attend the Destination Wedding Road Show with Hyatt Inclusive Collection—an exclusive opportunity designed for partners who want to grow their destination wedding business. \nWhy you shouldn’t miss this event: \n💍 Meet 20 Wedding & Sales Managers\nEngage in a speed-dating–style networking session with wedding and sales managers travelling exclusively from Mexico and the Caribbean. Build direct relationships\, ask questions\, and gain insider knowledge to better serve your wedding clients. \n🌴 Expert Insights from Hyatt Inclusive Collection\nFollowing the networking session\, enjoy a focused presentation led by our Groups BDM Specialist\, highlighting the latest updates\, trends\, and opportunities within the Hyatt Inclusive Collection portfolio. \n🍽️ Meal Included \nThis road show is designed to be high-impact\, informative\, and relationship-driven—making it a must-attend event for anyone serious about destination weddings. \nWe look forward to welcoming you for an evening of connection\, insight\, and inspiration. \nToronto Lunch Event – Monday\, February 9\, 11:00am-2:30pm\nThe Vue & Clubhouse Event Space – 195 Galaxy Blvd\, Etobicoke\n\n\n\n\n\n\n\n\n\n\n\n\n\n\n\n\n\n\nTORONTO RSVP\n\n\n\n\n\n\n\n\n\n\nVancouver Dinner Event – Tuesday\, February 10\, 5:30pm-9:00pm\nMayfair Lakes Golf & Country Club – 5460 Number 7 Rd\, Richmond\n\n\n\n\n\n\n\n\n\n\nVANCOUVER RSVP\n\n\n\n\n\n\n\n\n\n\nSaskatoon Dinner Event – Wednesday\, February 11\, 5:30pm-9:00pm\nDelta Hotels Bess borough – 601 Spadina Crescent East\, Saskatoon\n\n\n\n\n\n\n\n\n\n\nSASKATOON RSVP\n\n\n\n\n\n\n\n\n\n\nCalgary Dinner Event – Thursday\, February 12\, 5:30pm-9:00pm\nThe Hamptons Golf Club – 69 Hamptons Dr NW\, Calgary\, Alberta\n\n\n\n\n\n\n\n\n\n\nCALGARY RSVP\n\n\n\n\n\n\n\n\n\n\n\n\n\n\n\n\n\n\n  \nEdmonton Dinner Event – Friday\, February 13\, 2:30pm-6:00pm \nRoyal Glenora Club – 11160 River Valley Rd NW\, Edmonton\n\n\n\n\n\n\n\n\n\n\n\n\n\n\n\n\n\n\nEDMONTON RSVP\n\n\n\n\n\n\n\n\n\n\n  \n\n\n\n\n\n\n\n          Deadline to Register – Wednesday\, February 4th  \nLimited space available. Prompt RSVP appreciated.
URL:https://fareconnectevents.com/event/exclusive-invite-from-hyatts-inclusive-collection-event/
LOCATION:MB
CATEGORIES:Fareconnect Only Events,Supplier (in person) Event
END:VEVENT
BEGIN:VEVENT
DTSTART;TZID=America/Winnipeg:20260218T000000
DTEND;TZID=America/Winnipeg:20260219T235959
DTSTAMP:20260423T155152
CREATED:20260129T212948Z
LAST-MODIFIED:20260129T212948Z
UID:8810-1771372800-1771545599@fareconnectevents.com
SUMMARY:Travel Market Place Vancouver\, 2026
DESCRIPTION:Travel Market Place Vancouver\, 2026  \nWednesday February 18\, 2026 – Thursday February 19\, 2026 \nJW Marriott Parq\n604-676-0888\n39 Smithe Street\nVancouver\, BC V6B 0R3\, Canada \nRegister Here: \nhttps://na.eventscloud.com/ereg/index.php?eventid=834344&discountcode=Rick26 \nthe code is attach to the registration
URL:https://fareconnectevents.com/event/travel-market-place-vancouver-2026/
LOCATION:MB
CATEGORIES:Supplier (in person) Event
END:VEVENT
END:VCALENDAR