BEGIN:VCALENDAR
VERSION:2.0
PRODID:-//Fareconnect Events - ECPv6.15.20//NONSGML v1.0//EN
CALSCALE:GREGORIAN
METHOD:PUBLISH
X-ORIGINAL-URL:https://fareconnectevents.com
X-WR-CALDESC:Events for Fareconnect Events
REFRESH-INTERVAL;VALUE=DURATION:PT1H
X-Robots-Tag:noindex
X-PUBLISHED-TTL:PT1H
BEGIN:VTIMEZONE
TZID:America/Winnipeg
BEGIN:DAYLIGHT
TZOFFSETFROM:-0600
TZOFFSETTO:-0500
TZNAME:CDT
DTSTART:20240310T080000
END:DAYLIGHT
BEGIN:STANDARD
TZOFFSETFROM:-0500
TZOFFSETTO:-0600
TZNAME:CST
DTSTART:20241103T070000
END:STANDARD
BEGIN:DAYLIGHT
TZOFFSETFROM:-0600
TZOFFSETTO:-0500
TZNAME:CDT
DTSTART:20250309T080000
END:DAYLIGHT
BEGIN:STANDARD
TZOFFSETFROM:-0500
TZOFFSETTO:-0600
TZNAME:CST
DTSTART:20251102T070000
END:STANDARD
BEGIN:DAYLIGHT
TZOFFSETFROM:-0600
TZOFFSETTO:-0500
TZNAME:CDT
DTSTART:20260308T080000
END:DAYLIGHT
BEGIN:STANDARD
TZOFFSETFROM:-0500
TZOFFSETTO:-0600
TZNAME:CST
DTSTART:20261101T070000
END:STANDARD
END:VTIMEZONE
BEGIN:VEVENT
DTSTART;TZID=America/Winnipeg:20250603T180000
DTEND;TZID=America/Winnipeg:20250603T200000
DTSTAMP:20260424T033922
CREATED:20250528T150445Z
LAST-MODIFIED:20250528T150452Z
UID:5770-1748973600-1748980800@fareconnectevents.com
SUMMARY:Winnipeg Event: Beyond the Check-In
DESCRIPTION:WE WOULD LOVE TO HAVE YOU JOIN US! \nWe’re hitting the road with our Beyond Check In – Summer Training Series and bringing the AIC Hotel Group experience to YOU! \nJoin us for an evening of exclusive training\, exciting brand updates\, and a chance to connect with fellow travel pros over great food & drinks! \nWe’ll cover everything you need to confidently sell: \nHard Rock All Inclusive Hotels \nUNICO 20°87° & UNICO 20°105° \nAVA Resort Cancun \nWinnipeg Manitoba \nJune 3rd 6-8 PM \nJOEY Kenaston \nRSVP:   https://forms.gle/QX44QFCYbm3PLAVRA \nIF YOU ARE ABLE TO ATTEND PLEASE CHOOSE YOUR MEAL PREFERENCE: https://forms.gle/g6GaR43dpimn6xDF7 \nWe can’t wait to host you! \nStacy
URL:https://fareconnectevents.com/event/winnipeg-event-beyond-the-check-in/
LOCATION:Joey Kenaston\, 1550 Kenaston Blvd\, Winnipeg\, MB\, R3P0Y4\, Canada
CATEGORIES:Supplier (in person) Event
ATTACH;FMTTYPE=image/png:https://fareconnectevents.com/wp-content/uploads/2024/01/3.png
END:VEVENT
END:VCALENDAR