BEGIN:VCALENDAR
VERSION:2.0
PRODID:-//Fareconnect Events - ECPv6.15.20//NONSGML v1.0//EN
CALSCALE:GREGORIAN
METHOD:PUBLISH
X-WR-CALNAME:Fareconnect Events
X-ORIGINAL-URL:https://fareconnectevents.com
X-WR-CALDESC:Events for Fareconnect Events
REFRESH-INTERVAL;VALUE=DURATION:PT1H
X-Robots-Tag:noindex
X-PUBLISHED-TTL:PT1H
BEGIN:VTIMEZONE
TZID:America/Winnipeg
BEGIN:DAYLIGHT
TZOFFSETFROM:-0600
TZOFFSETTO:-0500
TZNAME:CDT
DTSTART:20230312T080000
END:DAYLIGHT
BEGIN:STANDARD
TZOFFSETFROM:-0500
TZOFFSETTO:-0600
TZNAME:CST
DTSTART:20231105T070000
END:STANDARD
BEGIN:DAYLIGHT
TZOFFSETFROM:-0600
TZOFFSETTO:-0500
TZNAME:CDT
DTSTART:20240310T080000
END:DAYLIGHT
BEGIN:STANDARD
TZOFFSETFROM:-0500
TZOFFSETTO:-0600
TZNAME:CST
DTSTART:20241103T070000
END:STANDARD
BEGIN:DAYLIGHT
TZOFFSETFROM:-0600
TZOFFSETTO:-0500
TZNAME:CDT
DTSTART:20250309T080000
END:DAYLIGHT
BEGIN:STANDARD
TZOFFSETFROM:-0500
TZOFFSETTO:-0600
TZNAME:CST
DTSTART:20251102T070000
END:STANDARD
END:VTIMEZONE
BEGIN:VEVENT
DTSTART;TZID=America/Winnipeg:20241105T113000
DTEND;TZID=America/Winnipeg:20241105T140000
DTSTAMP:20260424T135956
CREATED:20241024T170842Z
LAST-MODIFIED:20241024T170843Z
UID:3476-1730806200-1730815200@fareconnectevents.com
SUMMARY:Ensemble & The Travel Corporation Lunch and Learn - Winnipeg
DESCRIPTION:When: November 5th Time: 11:30 to 2:00 p.m. \nWhere: 500-167 Lombard at the Launch Exchange https://launchcoworking.ca/exchange/ \nCome and learn about the brands underneath The Travel Corporation – Trafalgar\, Insight Vacations\, Contiki and More as well as getting updates and learning about all of Ensemble’s programs. \nPlease RSVP via email lee.zanello@ensembletravel.com. \nWith your first name\, last name\, @fareconnect email address and dietary needs. 😊
URL:https://fareconnectevents.com/event/ensemble-the-travel-corporation-lunch-and-learn-winnipeg/
LOCATION:Launch Coworking Space\, 500-167 Lombard Ave\, Winnipeg\, MB\, Canada
CATEGORIES:Supplier (in person) Event
ATTACH;FMTTYPE=image/png:https://fareconnectevents.com/wp-content/uploads/2024/01/3.png
END:VEVENT
BEGIN:VEVENT
DTSTART;TZID=America/Winnipeg:20241107T100000
DTEND;TZID=America/Winnipeg:20241107T120000
DTSTAMP:20260424T135956
CREATED:20241001T192937Z
LAST-MODIFIED:20241001T192938Z
UID:3318-1730973600-1730980800@fareconnectevents.com
SUMMARY:Training with a Purpose in Calgary
DESCRIPTION:Hello Calgary/Area Travel Advisors. Kim Tobias (Viking) and Freddie Marsh (Playa) are teaming up to provide Training with a Purpose on Thursday\, November 7th. \nJoin us to learn about the latest trends \, group opportunities \, with Playa and Viking we look forward to growing our business together \nNov 7\,2024 \n9:00am till 11:00am \nHyatt Place Calgary Airport \n10 Aero Crescent\, Northeast Calgary AB\, T2E 7Y5
URL:https://fareconnectevents.com/event/training-with-a-purpose-in-calgary/
LOCATION:Hyatt Place Calgary Airport\, 10 Aero Crescent\, Northeast Calgary\, AB\, T2E 7Y5\, Canada
CATEGORIES:Supplier (in person) Event
ATTACH;FMTTYPE=image/png:https://fareconnectevents.com/wp-content/uploads/2024/01/3.png
END:VEVENT
BEGIN:VEVENT
DTSTART;TZID=America/Winnipeg:20241107T190000
DTEND;TZID=America/Winnipeg:20241107T210000
DTSTAMP:20260424T135956
CREATED:20241024T151416Z
LAST-MODIFIED:20241024T151658Z
UID:3471-1731006000-1731013200@fareconnectevents.com
SUMMARY:AmaWaterways’ Unparalleled River Cruise Experience- Winnipeg MB
DESCRIPTION:  \nDon’t miss out! Join us in Winnipeg for an exclusive event with AmaWaterways—your gateway to extraordinary river cruise adventures. Bring your client and sign up now on the Fareconnect event page! and Please email your form to terirecunyk@amawaterways.com \n 
URL:https://fareconnectevents.com/event/amawaterways-unparalleled-river-cruise-experience/
LOCATION:HILTON WINNIPEG AIRPORT SUITES\, 1800 Wellington Avenue\, Winnipeg\, Manitoba\, R3H 1B3\, Canada
CATEGORIES:Fareconnect Only Events,Supplier (in person) Event
ATTACH;FMTTYPE=image/png:https://fareconnectevents.com/wp-content/uploads/2024/01/4.png
END:VEVENT
END:VCALENDAR