BEGIN:VCALENDAR
VERSION:2.0
PRODID:-//Fareconnect Events - ECPv6.15.20//NONSGML v1.0//EN
CALSCALE:GREGORIAN
METHOD:PUBLISH
X-ORIGINAL-URL:https://fareconnectevents.com
X-WR-CALDESC:Events for Fareconnect Events
REFRESH-INTERVAL;VALUE=DURATION:PT1H
X-Robots-Tag:noindex
X-PUBLISHED-TTL:PT1H
BEGIN:VTIMEZONE
TZID:America/Winnipeg
BEGIN:DAYLIGHT
TZOFFSETFROM:-0600
TZOFFSETTO:-0500
TZNAME:CDT
DTSTART:20230312T080000
END:DAYLIGHT
BEGIN:STANDARD
TZOFFSETFROM:-0500
TZOFFSETTO:-0600
TZNAME:CST
DTSTART:20231105T070000
END:STANDARD
BEGIN:DAYLIGHT
TZOFFSETFROM:-0600
TZOFFSETTO:-0500
TZNAME:CDT
DTSTART:20240310T080000
END:DAYLIGHT
BEGIN:STANDARD
TZOFFSETFROM:-0500
TZOFFSETTO:-0600
TZNAME:CST
DTSTART:20241103T070000
END:STANDARD
BEGIN:DAYLIGHT
TZOFFSETFROM:-0600
TZOFFSETTO:-0500
TZNAME:CDT
DTSTART:20250309T080000
END:DAYLIGHT
BEGIN:STANDARD
TZOFFSETFROM:-0500
TZOFFSETTO:-0600
TZNAME:CST
DTSTART:20251102T070000
END:STANDARD
END:VTIMEZONE
BEGIN:VEVENT
DTSTART;TZID=America/Winnipeg:20241001T120000
DTEND;TZID=America/Winnipeg:20241001T150000
DTSTAMP:20260424T152452
CREATED:20240911T153511Z
LAST-MODIFIED:20240911T194117Z
UID:3113-1727784000-1727794800@fareconnectevents.com
SUMMARY:EXCLUSIVE ACV@Home Event Mini Trade show and Update - Edmonton
DESCRIPTION:Edmonton International Airport \nOct 1st\,2024 \n11:00am till 2:00pm
URL:https://fareconnectevents.com/event/exclusive-acvhome-event-mini-trade-show-and-update-edmonton/
LOCATION:Edmonton International Airport\, 1\,100 Airport Road\, Edmonton\, AB\, T9E 0V3\, Canada
CATEGORIES:Supplier (in person) Event
ATTACH;FMTTYPE=image/png:https://fareconnectevents.com/wp-content/uploads/2024/01/3.png
END:VEVENT
BEGIN:VEVENT
DTSTART;TZID=America/Winnipeg:20241002T083000
DTEND;TZID=America/Winnipeg:20241002T110000
DTSTAMP:20260424T152452
CREATED:20240911T154305Z
LAST-MODIFIED:20240925T193741Z
UID:3116-1727857800-1727866800@fareconnectevents.com
SUMMARY:Breakfast Training with Rail Bookers & Azamara Cruises
DESCRIPTION:Winnipeg Area Agents: \nBreakfast Training with Rail Bookers & Azamara Cruises \nThis is exclusive is an Exclusive in Person event for Fareconnect so we need to fill all the seats. Colin and Ivan will open it up to other agencies if we cannot fill the seats.  \nTime: 8:30am till 11:00am
URL:https://fareconnectevents.com/event/breakfast-training-with-rail-bookers-azamara-cruises/
LOCATION:Resto Gare\, 630 Des Meurons St\, Winnipeg\, Manitoba\, R2H 2P9\, Canada
CATEGORIES:Supplier (in person) Event
ATTACH;FMTTYPE=image/png:https://fareconnectevents.com/wp-content/uploads/2024/01/4.png
END:VEVENT
BEGIN:VEVENT
DTSTART;TZID=America/Winnipeg:20241002T120000
DTEND;TZID=America/Winnipeg:20241002T150000
DTSTAMP:20260424T152452
CREATED:20240911T152956Z
LAST-MODIFIED:20240911T152957Z
UID:3110-1727870400-1727881200@fareconnectevents.com
SUMMARY:EXCLUSIVE ACV@Home Event Mini Trade show and update - Calgary
DESCRIPTION:Calgary International Airport \nOct 2nd\,2024 \n11:00am till 2:00pm
URL:https://fareconnectevents.com/event/exclusive-acvhome-event-mini-trade-show-and-update-calgary/
LOCATION:Calgary International Airport\, 2000 Airport Rd NE\, Calgary\, AB\, T2E 6WE\, Canada
CATEGORIES:Supplier (in person) Event
ATTACH;FMTTYPE=image/png:https://fareconnectevents.com/wp-content/uploads/2024/01/3.png
END:VEVENT
BEGIN:VEVENT
DTSTART;TZID=America/Winnipeg:20241003T050000
DTEND;TZID=America/Winnipeg:20241003T073000
DTSTAMP:20260424T152452
CREATED:20240923T201452Z
LAST-MODIFIED:20240923T202621Z
UID:3221-1727931600-1727940600@fareconnectevents.com
SUMMARY:Air Canada Vacations for the Breakfast Seminars- St. John's NL
DESCRIPTION:Join Air Canada Vacations for the 2024/2025 #ACVDreamMakers Breakfast Seminars \nOctober 3rd\,2024 \n7:30am till 10:00am \nSt John’s\, NL
URL:https://fareconnectevents.com/event/air-canada-vacations-for-the-breakfast-seminars-st-johns-nl/
LOCATION:Bally Haly Golf Course\, 100 Golf Course Road\, St John's\, NL\, A1A 0A6\, Canada
CATEGORIES:Supplier (in person) Event
ATTACH;FMTTYPE=image/png:https://fareconnectevents.com/wp-content/uploads/2024/01/3.png
END:VEVENT
BEGIN:VEVENT
DTSTART;TZID=America/Winnipeg:20241003T073000
DTEND;TZID=America/Winnipeg:20241003T100000
DTSTAMP:20260424T152452
CREATED:20240924T153842Z
LAST-MODIFIED:20240924T153843Z
UID:3242-1727940600-1727949600@fareconnectevents.com
SUMMARY:Air Canada Vacations for the Breakfast Seminars- Niagara On
DESCRIPTION:Join Air Canada Vacations for the 2024/2025 #ACVDreamMakers Breakfast Seminars \nNiagara On \n7:30am till 10:00am
URL:https://fareconnectevents.com/event/air-canada-vacations-for-the-breakfast-seminars-niagara-on/
LOCATION:White Oaks Hotel & Conference Centre\, 253 Taylor Road\, Niagara\, On\, L0S 1J0\, Canada
CATEGORIES:Supplier (in person) Event
ATTACH;FMTTYPE=image/png:https://fareconnectevents.com/wp-content/uploads/2024/01/3.png
END:VEVENT
BEGIN:VEVENT
DTSTART;TZID=America/Winnipeg:20241009T063000
DTEND;TZID=America/Winnipeg:20241009T090000
DTSTAMP:20260424T152452
CREATED:20240924T154149Z
LAST-MODIFIED:20240924T154150Z
UID:3245-1728455400-1728464400@fareconnectevents.com
SUMMARY:Air Canada Vacations for the Breakfast Seminars- Barrie On
DESCRIPTION:Join Air Canada Vacations for the 2024/2025 #ACVDreamMakers Breakfast Seminars! \nBarrie ON \n7:30am till 10:00am
URL:https://fareconnectevents.com/event/air-canada-vacations-for-the-breakfast-seminars-barrie-on/
LOCATION:Liberty North\, 100 Caplan Avenue\, Unit 1\, Barrie\, Ontario\, L4N 9J2\, Canada
CATEGORIES:Supplier (in person) Event
ATTACH;FMTTYPE=image/png:https://fareconnectevents.com/wp-content/uploads/2024/01/3.png
END:VEVENT
BEGIN:VEVENT
DTSTART;TZID=America/Winnipeg:20241009T080000
DTEND;TZID=America/Winnipeg:20241009T100000
DTSTAMP:20260424T152452
CREATED:20240909T182348Z
LAST-MODIFIED:20240909T185456Z
UID:3095-1728460800-1728468000@fareconnectevents.com
SUMMARY:Orlando Canadian Sunshine Tour 2024
DESCRIPTION:We’re Brig the Sunshine to You! \nYou’re invited to Visit Orlando and partners for the Orlando Canadian Sunshine Tour 2024. Enjoy a day of the education\, networking\, prize\, and learn insider tips on selling Orlando.
URL:https://fareconnectevents.com/event/orlando-canadian-sunshine-tour-2024/
LOCATION:The Westin Ottawa\, 11 Colonel By Drive\, Ottawa\, ONT\, K1N 9H4\, Canada
CATEGORIES:Supplier (in person) Event
ATTACH;FMTTYPE=image/png:https://fareconnectevents.com/wp-content/uploads/2024/01/3.png
END:VEVENT
BEGIN:VEVENT
DTSTART;TZID=America/Winnipeg:20241010T163000
DTEND;TZID=America/Winnipeg:20241010T193000
DTSTAMP:20260424T152452
CREATED:20240909T183252Z
LAST-MODIFIED:20240909T183406Z
UID:3098-1728577800-1728588600@fareconnectevents.com
SUMMARY:Orlando Canadian Sunshine 2024
DESCRIPTION:We’re Bring the Sunshine to you! \nYou’re invited to join Orlando and partners for the Orlando Canadian Sunshine Tour 2024. Enjoy a day of education\, networking\, prizes\, and learn insider tips on selling Orlando.
URL:https://fareconnectevents.com/event/orlando-canadian-sunshine-2024/
LOCATION:Le Centre Sheraton Montreal\, 1201 Boulevard Rene- Levesque West\, Montreal\, QC\, H3B 2L7
CATEGORIES:Supplier (in person) Event
ATTACH;FMTTYPE=image/png:https://fareconnectevents.com/wp-content/uploads/2024/01/3.png
END:VEVENT
BEGIN:VEVENT
DTSTART;TZID=America/Winnipeg:20241011T063000
DTEND;TZID=America/Winnipeg:20241011T090000
DTSTAMP:20260424T152452
CREATED:20240924T155703Z
LAST-MODIFIED:20240924T161340Z
UID:3247-1728628200-1728637200@fareconnectevents.com
SUMMARY:Air Canada Vacations for the Breakfast Seminar- Pickering ON
DESCRIPTION:Join Air Canada Vacations for the 2024/2025 #ACVDreamMakers Breakfast Seminars! \nPickering ON \n7:30am till 10:00am \nThe Lake House
URL:https://fareconnectevents.com/event/air-canada-vacations-for-the-breakfast-seminar-pickering-on/
LOCATION:The Lake House\, 600 Liverpool Rd\, Pickering\, On\, L1W 1P9\, Canada
CATEGORIES:Supplier (in person) Event
ATTACH;FMTTYPE=image/png:https://fareconnectevents.com/wp-content/uploads/2024/01/3.png
END:VEVENT
BEGIN:VEVENT
DTSTART;TZID=America/Winnipeg:20241016T063000
DTEND;TZID=America/Winnipeg:20241016T090000
DTSTAMP:20260424T152452
CREATED:20240924T160105Z
LAST-MODIFIED:20240924T160106Z
UID:3250-1729060200-1729069200@fareconnectevents.com
SUMMARY:Air Canada Vacations for the Breakfast Seminars- Kitchener On
DESCRIPTION:Join Air Canada Vacations for the 2024/2025 $ACVDreamMakers Breakfast Seminars \nKitchener On \n7:30am till 10:00am \n 
URL:https://fareconnectevents.com/event/air-canada-vacations-for-the-breakfast-seminars-kitchener-on/
LOCATION:Crown Plaza\, 105 King SE\, Kitchener\, On\, N2G 2K8\, Canada
CATEGORIES:Supplier (in person) Event
ATTACH;FMTTYPE=image/png:https://fareconnectevents.com/wp-content/uploads/2024/01/3.png
END:VEVENT
BEGIN:VEVENT
DTSTART;TZID=America/Winnipeg:20241016T083000
DTEND;TZID=America/Winnipeg:20241016T110000
DTSTAMP:20260424T152452
CREATED:20240923T185628Z
LAST-MODIFIED:20240927T183451Z
UID:3191-1729067400-1729076400@fareconnectevents.com
SUMMARY:Air Canada Vacations Breakfast Seminars- Calgary
DESCRIPTION:Join Air Canada Vacations for the 2024/2025 #ACVDreamsMakers Breakfast Seminars \nOctober 16\,2024 \nHotel Blackfoot \n7:30am till 10:00am \n  \n  \n 
URL:https://fareconnectevents.com/event/air-canada-vacations-breakfast-seminars-calgary/
LOCATION:Hotel Blackfoot\, 5940 Blackfoot Trl SE\, Calgary\, AB\, T2H 2B5\, Canada
CATEGORIES:Supplier (in person) Event
ATTACH;FMTTYPE=image/png:https://fareconnectevents.com/wp-content/uploads/2024/01/3.png
END:VEVENT
BEGIN:VEVENT
DTSTART;TZID=America/Winnipeg:20241016T183000
DTEND;TZID=America/Winnipeg:20241016T213000
DTSTAMP:20260424T152452
CREATED:20240925T161019Z
LAST-MODIFIED:20240925T161114Z
UID:3287-1729103400-1729114200@fareconnectevents.com
SUMMARY:The Mini-Joint Supplier Training Series- Regina SK
DESCRIPTION:Regina SK \nAlta’s Hotel \nOctober 16\,2024 \n5:30pm till 8:30pm \n 
URL:https://fareconnectevents.com/event/the-mini-joint-supplier-training-series-regina-sk/
LOCATION:Altas Hotel\, 4177 Albert St\, Regina\, SK\, S4S 3R6\, Canada
CATEGORIES:Supplier (in person) Event
ATTACH;FMTTYPE=image/png:https://fareconnectevents.com/wp-content/uploads/2024/01/3.png
END:VEVENT
BEGIN:VEVENT
DTSTART;TZID=America/Winnipeg:20241017T063000
DTEND;TZID=America/Winnipeg:20241017T090000
DTSTAMP:20260424T152452
CREATED:20240924T160504Z
LAST-MODIFIED:20240924T160505Z
UID:3253-1729146600-1729155600@fareconnectevents.com
SUMMARY:Air Canada Vacations for the Breakfast Seminars- Ottawa ON
DESCRIPTION:Join Air Canada Vacations for the 2024/2025 #ACVDreamMakers Breakfast Seminars! \nOttawa On \n7:30am till 10:00am \n 
URL:https://fareconnectevents.com/event/air-canada-vacations-for-the-breakfast-seminars-ottawa-on/
LOCATION:Hilton Garden Inn\, 2400 Alert Road\, Ottawa\, On\, K1V 1S1\, Canada
CATEGORIES:Supplier (in person) Event
ATTACH;FMTTYPE=image/png:https://fareconnectevents.com/wp-content/uploads/2024/01/3.png
END:VEVENT
BEGIN:VEVENT
DTSTART;TZID=America/Winnipeg:20241018T190000
DTEND;TZID=America/Winnipeg:20241018T210000
DTSTAMP:20260424T152452
CREATED:20240924T173229Z
LAST-MODIFIED:20240924T173230Z
UID:3266-1729278000-1729285200@fareconnectevents.com
SUMMARY:Island Inspirations- Edmonton
DESCRIPTION:Island Inspiration: Elevate Your Jamaica Sales \nOctober 18\,2024 \nYardi Sweet Spot
URL:https://fareconnectevents.com/event/island-inspirations-edmonton/
LOCATION:Yardi Sweet Spot\, 17547 100 Ave NW\, Edmonton\, AB\, T5S 2B8\, Canada
CATEGORIES:Supplier (in person) Event
ATTACH;FMTTYPE=image/png:https://fareconnectevents.com/wp-content/uploads/2024/01/3.png
END:VEVENT
BEGIN:VEVENT
DTSTART;TZID=America/Winnipeg:20241021T190000
DTEND;TZID=America/Winnipeg:20241021T210000
DTSTAMP:20260424T152452
CREATED:20240924T173641Z
LAST-MODIFIED:20240924T181537Z
UID:3269-1729537200-1729544400@fareconnectevents.com
SUMMARY:Island Inspirations- Calgary
DESCRIPTION:Island Inspiration: Elevate Your Jamaica Sales \nOctober 21\,2024 \nKing Solomon’s Kitchen
URL:https://fareconnectevents.com/event/island-inspirations-calgary/
LOCATION:King Solomon’s Kitchen\, 104 Meridian Rd NE\, Calgary\, AB\, T1Y 3R6\, Canada
CATEGORIES:Supplier (in person) Event
ATTACH;FMTTYPE=image/png:https://fareconnectevents.com/wp-content/uploads/2024/01/3.png
END:VEVENT
BEGIN:VEVENT
DTSTART;TZID=America/Winnipeg:20241022T063000
DTEND;TZID=America/Winnipeg:20241022T090000
DTSTAMP:20260424T152452
CREATED:20240924T160919Z
LAST-MODIFIED:20240924T160920Z
UID:3256-1729578600-1729587600@fareconnectevents.com
SUMMARY:Air Canada Vacations for the Breakfast Seminars- Toronto ON
DESCRIPTION:Join Air Canada Vacations for the 2024/2025 #ACVDreamMakers Breakfast Seminars! \nToronto ON \n7:30am till 10:00 am
URL:https://fareconnectevents.com/event/air-canada-vacations-for-the-breakfast-seminars-toronto-on/
LOCATION:W Toronto\, 90 Bloor ST E 6th Floor\, Toronto\, On\, M4W 1A7\, Canada
CATEGORIES:Supplier (in person) Event
ATTACH;FMTTYPE=image/png:https://fareconnectevents.com/wp-content/uploads/2024/01/3.png
END:VEVENT
BEGIN:VEVENT
DTSTART;TZID=America/Winnipeg:20241022T073000
DTEND;TZID=America/Winnipeg:20241022T100000
DTSTAMP:20260424T152452
CREATED:20240923T191450Z
LAST-MODIFIED:20240924T154344Z
UID:3203-1729582200-1729591200@fareconnectevents.com
SUMMARY:Air Canada Vacations for the Breakfast Seminars- Winnipeg
DESCRIPTION:Join Air Canada Vacations for the 2024/2025 #ACVDreamMakers Breakfast Seminars! \nWinnipeg MB\n7:30am till 10:00am \nVictoria Inn Hotel & Convention Centre
URL:https://fareconnectevents.com/event/air-canada-vacations-for-the-breakfast-seminars-winnipeg/
LOCATION:Victoria Inn Hotel & Convention Centre\, 1808 Wellington Ave\, WINNIPEG\, MB\, R3H 0G3\, Canada
CATEGORIES:Supplier (in person) Event
ATTACH;FMTTYPE=image/png:https://fareconnectevents.com/wp-content/uploads/2024/01/3.png
END:VEVENT
BEGIN:VEVENT
DTSTART;TZID=America/Winnipeg:20241022T093000
DTEND;TZID=America/Winnipeg:20241022T120000
DTSTAMP:20260424T152452
CREATED:20240923T190703Z
LAST-MODIFIED:20240924T154308Z
UID:3199-1729589400-1729598400@fareconnectevents.com
SUMMARY:Air Canada Vacations for the Breakfast Seminars- Victoria BC
DESCRIPTION:Join Air Canada Vacations for the 2024\2025  #ACVDreamMakers Breakfast Seminars! \n7:30am till 10:00am \nVictoria B.C \nRoyal Colwood Golf Club
URL:https://fareconnectevents.com/event/air-canada-vacations-for-the-breakfast-seminars-victoria-bc/
LOCATION:Royal Colwood Golf Club\, 629 Goldsteam Ave\, Victoria\, BC\, V9B 2W9
CATEGORIES:Supplier (in person) Event
ATTACH;FMTTYPE=image/png:https://fareconnectevents.com/wp-content/uploads/2024/01/3.png
END:VEVENT
BEGIN:VEVENT
DTSTART;TZID=America/Winnipeg:20241023T063000
DTEND;TZID=America/Winnipeg:20241023T090000
DTSTAMP:20260424T152452
CREATED:20240924T161223Z
LAST-MODIFIED:20240924T161255Z
UID:3259-1729665000-1729674000@fareconnectevents.com
SUMMARY:Air Canada Vacations for the Breakfast Seminars- London ON
DESCRIPTION:Air Canada Vacations for the 2024/2025 #ACVDreamMakers Breakfast Seminars! \nLondon ON \n7:30am till 10:00am \n 
URL:https://fareconnectevents.com/event/air-canada-vacations-for-the-breakfast-seminars-london-on/
LOCATION:London Courtyard Venue\, 24-820 Wharncliffe R S\, London\, On\, N6J 2N4\, Canada
CATEGORIES:Supplier (in person) Event
ATTACH;FMTTYPE=image/png:https://fareconnectevents.com/wp-content/uploads/2024/01/3.png
END:VEVENT
BEGIN:VEVENT
DTSTART;TZID=America/Winnipeg:20241023T093000
DTEND;TZID=America/Winnipeg:20241023T120000
DTSTAMP:20260424T152452
CREATED:20240923T192108Z
LAST-MODIFIED:20240924T154429Z
UID:3206-1729675800-1729684800@fareconnectevents.com
SUMMARY:Air Canada Vacations for the Breakfast Seminars- Kelowna BC
DESCRIPTION:Join Air Canada Vacations for the 2024/2025 #ACVDreamMakers Breakfast Seminars! \nOctober 23\,2024 \n7:30am till 10:00am \nKelowna BC
URL:https://fareconnectevents.com/event/air-canada-vacations-for-the-breakfast-seminars-kelowna-bc/
LOCATION:Capri Hotel\, 1171 Harvey Ave\, Kelowna\, BC\, V1Y 6E8\, Canada
CATEGORIES:Supplier (in person) Event
ATTACH;FMTTYPE=image/png:https://fareconnectevents.com/wp-content/uploads/2024/01/3.png
END:VEVENT
BEGIN:VEVENT
DTSTART;TZID=America/Winnipeg:20241024T090000
DTEND;TZID=America/Winnipeg:20241024T150000
DTSTAMP:20260424T152452
CREATED:20241009T152851Z
LAST-MODIFIED:20241009T162721Z
UID:3386-1729760400-1729782000@fareconnectevents.com
SUMMARY:In Person ENCORE CRUISES training with Special Guest Sean Russo from VIRGIN VOYAGES- Ontario
DESCRIPTION:YOU’RE INVITED\nto join your TravelBrands BDM’s and special guest Sean Russo from Virgin Voyages\nto discover the Encore Cruise booking engine\, the benefits of booking your Cruises\nwith Encore and the latest news and updates from Virgin Voyages. \nMorning Session- 10:00am till 12:00am \nAfternoon Session- 2:00pm till 4:00pm \nToronto Boardroom- on the 4th floor \n 
URL:https://fareconnectevents.com/event/travelbrands-bdms-and-special-guest-sean-russo-from-virgin-voyages-ontario/
LOCATION:Toronto Boardroom\, 5343 Dundas St W\, Etobicoke\, ONT\, M9B 6H8\, Canada
CATEGORIES:Supplier (in person) Event
ATTACH;FMTTYPE=image/png:https://fareconnectevents.com/wp-content/uploads/2024/01/3.png
END:VEVENT
BEGIN:VEVENT
DTSTART;TZID=America/Winnipeg:20241024T173000
DTEND;TZID=America/Winnipeg:20241024T210000
DTSTAMP:20260424T152452
CREATED:20240926T153038Z
LAST-MODIFIED:20240926T161739Z
UID:3299-1729791000-1729803600@fareconnectevents.com
SUMMARY:Aloha Canada 2024- Calgary
DESCRIPTION:Join us for a fun and informative dinner event where you’ll engage with representatives and learn about incredible Hawai’i. \nOctober 24\,2024 \nCourtyard By Marriot Calgary Airport \nStampede Ballroom \n4:30pm till 8:00pm \n 
URL:https://fareconnectevents.com/event/aloha-canada-2024-calgary/
LOCATION:Courtyard by Marriott Calgary Airport\, 2500 48th Ave NE\, Calgary\, AB\, T3J 4V8\, Canada
CATEGORIES:Supplier (in person) Event
ATTACH;FMTTYPE=image/png:https://fareconnectevents.com/wp-content/uploads/2024/01/3.png
END:VEVENT
BEGIN:VEVENT
DTSTART;TZID=America/Winnipeg:20241024T180000
DTEND;TZID=America/Winnipeg:20241024T210000
DTSTAMP:20260424T152452
CREATED:20241003T161900Z
LAST-MODIFIED:20241003T161901Z
UID:3339-1729792800-1729803600@fareconnectevents.com
SUMMARY:Royal Caribbean with Manulife- Edmonton
DESCRIPTION:Royal Caribbean\, in collaboration with Manulife\, will be hosting two training dinners in Western Canada\, and we would like to invite your advisors located in Alberta. \nRegistration: 5:00pm\nDinner & Training: 5:30pm
URL:https://fareconnectevents.com/event/royal-caribbean-with-manulife-edmonton/
LOCATION:Chateau Louis Hotel\, 11727 Kingsway NW\, Edmonton\, AB\, T5G 3A1\, Canada
CATEGORIES:Supplier (in person) Event
ATTACH;FMTTYPE=image/png:https://fareconnectevents.com/wp-content/uploads/2024/01/3.png
END:VEVENT
BEGIN:VEVENT
DTSTART;TZID=America/Winnipeg:20241029T083000
DTEND;TZID=America/Winnipeg:20241029T110000
DTSTAMP:20260424T152452
CREATED:20240923T192723Z
LAST-MODIFIED:20240924T154519Z
UID:3210-1730190600-1730199600@fareconnectevents.com
SUMMARY:Air Canada Vacations for the Breakfast Seminars- Regina SK
DESCRIPTION:Join Air Canada Vacations for the 2024/2025 #ACVDreamMakers Breakfast Seminars! \nOctober 29\,2024 \n7:30am til 10:00am \nDelta Hotels Regina
URL:https://fareconnectevents.com/event/air-canada-vacations-for-the-breakfast-seminars-regina-sk/
LOCATION:Delta Hotels Regina\, 1919 Saskatchewan Drive\, Regina\, SK\, S4P 2B4
CATEGORIES:Supplier (in person) Event
ATTACH;FMTTYPE=image/png:https://fareconnectevents.com/wp-content/uploads/2024/01/3.png
END:VEVENT
BEGIN:VEVENT
DTSTART;TZID=America/Winnipeg:20241029T100000
DTEND;TZID=America/Winnipeg:20241029T113000
DTSTAMP:20260424T152452
CREATED:20241001T193406Z
LAST-MODIFIED:20241001T193407Z
UID:3321-1730196000-1730201400@fareconnectevents.com
SUMMARY:Playa Hotels & Resorts Breakfast Workshop in Edmonton
DESCRIPTION:Travel Advisor essential training for Playa Resorts and discover our brands of all-inclusive resorts. NEW RESORTS!! Learn about what’s new. We will also be offering training on our Travel Agent program. \nOctober 29\,2024 \n9:00am till 10:30am \n  \nHyatt Place Edmonton-West \n18004 100 Avenue
URL:https://fareconnectevents.com/event/playa-hotels-resorts-breakfast-workshop-in-edmonton/
LOCATION:Hyatt Place Edmonton-West\, 18004 100 Avenue\, Northwest Edmonton\, AB\, T5S 2T6\, Canada
CATEGORIES:Supplier (in person) Event
ATTACH;FMTTYPE=image/png:https://fareconnectevents.com/wp-content/uploads/2024/01/3.png
END:VEVENT
BEGIN:VEVENT
DTSTART;TZID=America/Winnipeg:20241031T083000
DTEND;TZID=America/Winnipeg:20241031T110000
DTSTAMP:20260424T152452
CREATED:20240923T193229Z
LAST-MODIFIED:20240924T154541Z
UID:3213-1730363400-1730372400@fareconnectevents.com
SUMMARY:Air Canada Vacations for the Breakfast Seminars - Saskatoon
DESCRIPTION:Join Air Canada Vacations for the 2024/2025 $ACVDreamMakers Breakfast Seminars \nOctober 31\,2024 \n7:30am till 10:00am \nSaskatoon SK
URL:https://fareconnectevents.com/event/air-canada-vacations-for-the-breakfast-seminars-saskatoon/
LOCATION:Courtyard by Marriott Saskatoon\, 333 Aerogreen Cres\, Saskatoon\, Saskatchewan\, S7L 1S4\, Canada
CATEGORIES:Supplier (in person) Event
ATTACH;FMTTYPE=image/png:https://fareconnectevents.com/wp-content/uploads/2024/01/3.png
END:VEVENT
END:VCALENDAR