BEGIN:VCALENDAR
VERSION:2.0
PRODID:-//Fareconnect Events - ECPv6.15.20//NONSGML v1.0//EN
CALSCALE:GREGORIAN
METHOD:PUBLISH
X-ORIGINAL-URL:https://fareconnectevents.com
X-WR-CALDESC:Events for Fareconnect Events
REFRESH-INTERVAL;VALUE=DURATION:PT1H
X-Robots-Tag:noindex
X-PUBLISHED-TTL:PT1H
BEGIN:VTIMEZONE
TZID:America/Winnipeg
BEGIN:DAYLIGHT
TZOFFSETFROM:-0600
TZOFFSETTO:-0500
TZNAME:CDT
DTSTART:20230312T080000
END:DAYLIGHT
BEGIN:STANDARD
TZOFFSETFROM:-0500
TZOFFSETTO:-0600
TZNAME:CST
DTSTART:20231105T070000
END:STANDARD
BEGIN:DAYLIGHT
TZOFFSETFROM:-0600
TZOFFSETTO:-0500
TZNAME:CDT
DTSTART:20240310T080000
END:DAYLIGHT
BEGIN:STANDARD
TZOFFSETFROM:-0500
TZOFFSETTO:-0600
TZNAME:CST
DTSTART:20241103T070000
END:STANDARD
BEGIN:DAYLIGHT
TZOFFSETFROM:-0600
TZOFFSETTO:-0500
TZNAME:CDT
DTSTART:20250309T080000
END:DAYLIGHT
BEGIN:STANDARD
TZOFFSETFROM:-0500
TZOFFSETTO:-0600
TZNAME:CST
DTSTART:20251102T070000
END:STANDARD
END:VTIMEZONE
BEGIN:VEVENT
DTSTART;TZID=America/Winnipeg:20240808T120000
DTEND;TZID=America/Winnipeg:20240808T143000
DTSTAMP:20260424T175623
CREATED:20240715T203223Z
LAST-MODIFIED:20240715T203223Z
UID:2688-1723118400-1723127400@fareconnectevents.com
SUMMARY:Picnic in the Park Edmonton
DESCRIPTION:This event will be fun and interactive training sessions that the below suppliers will be hosting.  Each supplier will be presenting on their product\, highlighting updates and sales tips to help you close more sales! \nWe will be providing a picnic lunch at the park.  We have reserved a canopy picnic site at Sir Wilfred Laurier Park \n  \nClick link to register:https://forms.office.com/r/BiNCmdM0p7?origin=lprLink \n  \n \nSuppliers participating: \n\n\nSharon from Exoticca\nLeslie from Globus Family of Brands\nAna from G Adventures\nJudy from Manulife\nVicky from Paul Gauguin\nJeff from RCCL\nFarole from TravelBrands\nIrene from Westjet Vacations\n\n\nSpace is limited so please ensure you RSVP early to reserve your spot!  When you register you will not receive a confirmation email (you will receive a thank you message advising you are registered.) however\, you will receive an email a few days before the event as a reminder.  If you do need to cancel your registration closer to the event\, please do so 72 hours prior.  We are ordering the picnic lunches\, and our guaranteed numbers will go into the supplier 72 hours prior to the event.
URL:https://fareconnectevents.com/event/picnic-in-the-park-edmonton/
LOCATION:Sir Wilfred Laurier Park\, 13221 Buena Vista Road\, Edmonton\, Alberta\, Canada
CATEGORIES:Supplier (in person) Event
ATTACH;FMTTYPE=image/png:https://fareconnectevents.com/wp-content/uploads/2024/01/3.png
END:VEVENT
BEGIN:VEVENT
DTSTART;TZID=America/Winnipeg:20240830T080000
DTEND;TZID=America/Winnipeg:20240830T170000
DTSTAMP:20260424T175623
CREATED:20240830T201946Z
LAST-MODIFIED:20240906T163407Z
UID:3050-1725004800-1725037200@fareconnectevents.com
SUMMARY:Granite Show
DESCRIPTION:The Granite Show will be hel  from 4h to 8hpm at: \nWinnipeg\, MB (October 7\, 2024) \nCanad Inns Destination Centre Polo Park \n1405 St. Matthews Avenue\, Winnipeg\, Manitoba\, R3G 0K5 \nRegistation Link TBA
URL:https://fareconnectevents.com/event/granite-show/
LOCATION:Canad Inns Destination Centre Polo Park\, 1405 St. Matthews Avenue\, Winnipeg\, MB\, R3G0K5
CATEGORIES:Supplier (in person) Event
ATTACH;FMTTYPE=image/png:https://fareconnectevents.com/wp-content/uploads/2024/01/3.png
END:VEVENT
END:VCALENDAR