BEGIN:VCALENDAR
VERSION:2.0
PRODID:-//Fareconnect Events - ECPv6.15.20//NONSGML v1.0//EN
CALSCALE:GREGORIAN
METHOD:PUBLISH
X-WR-CALNAME:Fareconnect Events
X-ORIGINAL-URL:https://fareconnectevents.com
X-WR-CALDESC:Events for Fareconnect Events
REFRESH-INTERVAL;VALUE=DURATION:PT1H
X-Robots-Tag:noindex
X-PUBLISHED-TTL:PT1H
BEGIN:VTIMEZONE
TZID:America/Winnipeg
BEGIN:DAYLIGHT
TZOFFSETFROM:-0600
TZOFFSETTO:-0500
TZNAME:CDT
DTSTART:20230312T080000
END:DAYLIGHT
BEGIN:STANDARD
TZOFFSETFROM:-0500
TZOFFSETTO:-0600
TZNAME:CST
DTSTART:20231105T070000
END:STANDARD
BEGIN:DAYLIGHT
TZOFFSETFROM:-0600
TZOFFSETTO:-0500
TZNAME:CDT
DTSTART:20240310T080000
END:DAYLIGHT
BEGIN:STANDARD
TZOFFSETFROM:-0500
TZOFFSETTO:-0600
TZNAME:CST
DTSTART:20241103T070000
END:STANDARD
BEGIN:DAYLIGHT
TZOFFSETFROM:-0600
TZOFFSETTO:-0500
TZNAME:CDT
DTSTART:20250309T080000
END:DAYLIGHT
BEGIN:STANDARD
TZOFFSETFROM:-0500
TZOFFSETTO:-0600
TZNAME:CST
DTSTART:20251102T070000
END:STANDARD
END:VTIMEZONE
BEGIN:VEVENT
DTSTART;TZID=America/Winnipeg:20241219T130000
DTEND;TZID=America/Winnipeg:20241219T140000
DTSTAMP:20260423T185458
CREATED:20241211T180337Z
LAST-MODIFIED:20241211T210510Z
UID:3810-1734613200-1734616800@fareconnectevents.com
SUMMARY:Fareconnect Exclusive with WestJet
DESCRIPTION:Fareconnect Exclusive with WestJet\n\nTime: Dec 19\, 2024 01:00 PM Winnipeg\n\nRegister in advance for this meeting:\nhttps://us06web.zoom.us/…/tZ0uceqvrj4sE9BlrUGtW1wxkSHAx…\n\nAfter registering\, you will receive a confirmation email containing information about joining the meeting
URL:https://fareconnectevents.com/event/fareconnect-exclusive-with-westjet/
CATEGORIES:Fareconnect Only Events,Supplier Webinar
ATTACH;FMTTYPE=image/png:https://fareconnectevents.com/wp-content/uploads/2024/01/2.png
END:VEVENT
BEGIN:VEVENT
DTSTART;TZID=America/Winnipeg:20241203T150000
DTEND;TZID=America/Winnipeg:20241203T160000
DTSTAMP:20260423T185458
CREATED:20241105T172705Z
LAST-MODIFIED:20241105T172706Z
UID:3530-1733238000-1733241600@fareconnectevents.com
SUMMARY:Fareconnect Exclusive with G Adventures
DESCRIPTION:You are invited to a Fareconnect Exclusive with G Adventures. \nWhen: Dec 3\, 2024 03:00 PM Winnipeg Time \nRegister in advance for this meeting: \nhttps://us06web.zoom.us/meeting/register/tZ0lduyurjIjH9VyV4_J_o69lbRAoeKgP57V \nAfter registering\, you will receive a confirmation email containing information about joining the meeting.
URL:https://fareconnectevents.com/event/fareconnect-exclusive-with-g-adventures/
CATEGORIES:Fareconnect Only Events,Supplier (in person) Event
ATTACH;FMTTYPE=image/png:https://fareconnectevents.com/wp-content/uploads/2024/01/2.png
END:VEVENT
BEGIN:VEVENT
DTSTART;TZID=America/Winnipeg:20241128T190000
DTEND;TZID=America/Winnipeg:20241128T200000
DTSTAMP:20260423T185458
CREATED:20241028T182020Z
LAST-MODIFIED:20241028T182021Z
UID:3488-1732820400-1732824000@fareconnectevents.com
SUMMARY:Fareconnect Open Mic Night
DESCRIPTION:Your invite to Fareconnect Open Mic Night \nWhen: Nov 28\,2024 \n7:00pm till 8:00pm \nRegister in advance for this meeting \nAfter registering\, you will receive a confirmation email containing information about joining the meeting.
URL:https://fareconnectevents.com/event/fareconnect-open-mic-night-8/
CATEGORIES:Fareconnect Only Events,Supplier Webinar
ATTACH;FMTTYPE=image/png:https://fareconnectevents.com/wp-content/uploads/2024/01/2.png
END:VEVENT
BEGIN:VEVENT
DTSTART;TZID=America/Winnipeg:20241126T150000
DTEND;TZID=America/Winnipeg:20241126T160000
DTSTAMP:20260423T185458
CREATED:20241111T215229Z
LAST-MODIFIED:20241111T215229Z
UID:3587-1732633200-1732636800@fareconnectevents.com
SUMMARY:Fareconnect Exclusive with Kensington Tours.
DESCRIPTION:When: Nov 26\, 2024 03:00 PM Winnipeg \nRegister in advance for this meeting:\nhttps://us06web.zoom.us/meeting/register/tZ0ufu2rrT4oGtOV551VVxLRgbuHAaWJxk6k \nAfter registering\, you will receive a confirmation email containing information about joining the meeting.
URL:https://fareconnectevents.com/event/fareconnect-exclusive-with-kensington-tours/
CATEGORIES:Fareconnect Only Events,Supplier Webinar
ATTACH;FMTTYPE=image/png:https://fareconnectevents.com/wp-content/uploads/2024/01/2.png
END:VEVENT
BEGIN:VEVENT
DTSTART;TZID=America/Winnipeg:20241122T150000
DTEND;TZID=America/Winnipeg:20241122T160000
DTSTAMP:20260423T185458
CREATED:20241111T212625Z
LAST-MODIFIED:20241111T212750Z
UID:3583-1732287600-1732291200@fareconnectevents.com
SUMMARY:Fareconnect Exclusive with Ocean by H10.
DESCRIPTION:When: Nov 22\, 2024 3:00 PM Winnipeg \nRegister in advance for this meeting:\nhttps://us06web.zoom.us/meeting/register/tZEuc-GrpjsjGN1uTo078xkBMh7AwxAZSAMH \nAfter registering\, you will receive a confirmation email containing information about joining the meeting. \n 
URL:https://fareconnectevents.com/event/you-are-invited-to-a-fareconnect-exclusive-with-ocean-by-h10/
CATEGORIES:Fareconnect Only Events,Supplier Webinar
ATTACH;FMTTYPE=image/png:https://fareconnectevents.com/wp-content/uploads/2024/01/2.png
END:VEVENT
BEGIN:VEVENT
DTSTART;TZID=America/Winnipeg:20241119T150000
DTEND;TZID=America/Winnipeg:20241119T160000
DTSTAMP:20260423T185458
CREATED:20241028T181439Z
LAST-MODIFIED:20241028T181440Z
UID:3486-1732028400-1732032000@fareconnectevents.com
SUMMARY:Fareconnect Exclusive with Goway. 
DESCRIPTION:When: Nov 19\, 2024 03:00 PM Winnipeg \nRegister in advance for this meeting:\nhttps://us06web.zoom.us/meeting/register/tZYvduqupzkqH9YnFQECpJDNoduJQNa8CxWN \nAfter registering\, you will receive a confirmation email containing information about joining the meeting.
URL:https://fareconnectevents.com/event/fareconnect-exclusive-with-goway-3/
CATEGORIES:Fareconnect Only Events,Supplier Webinar
ATTACH;FMTTYPE=image/png:https://fareconnectevents.com/wp-content/uploads/2024/01/2.png
END:VEVENT
BEGIN:VEVENT
DTSTART;TZID=America/Winnipeg:20241107T190000
DTEND;TZID=America/Winnipeg:20241107T210000
DTSTAMP:20260423T185458
CREATED:20241024T151416Z
LAST-MODIFIED:20241024T151658Z
UID:3471-1731006000-1731013200@fareconnectevents.com
SUMMARY:AmaWaterways’ Unparalleled River Cruise Experience- Winnipeg MB
DESCRIPTION:  \nDon’t miss out! Join us in Winnipeg for an exclusive event with AmaWaterways—your gateway to extraordinary river cruise adventures. Bring your client and sign up now on the Fareconnect event page! and Please email your form to terirecunyk@amawaterways.com \n 
URL:https://fareconnectevents.com/event/amawaterways-unparalleled-river-cruise-experience/
LOCATION:HILTON WINNIPEG AIRPORT SUITES\, 1800 Wellington Avenue\, Winnipeg\, Manitoba\, R3H 1B3\, Canada
CATEGORIES:Fareconnect Only Events,Supplier (in person) Event
ATTACH;FMTTYPE=image/png:https://fareconnectevents.com/wp-content/uploads/2024/01/4.png
END:VEVENT
BEGIN:VEVENT
DTSTART;TZID=America/Winnipeg:20241105T150000
DTEND;TZID=America/Winnipeg:20241105T160000
DTSTAMP:20260423T185458
CREATED:20241022T201944Z
LAST-MODIFIED:20241022T202056Z
UID:3459-1730818800-1730822400@fareconnectevents.com
SUMMARY:Fareconnect Exclusive with Air Canada Vacations
DESCRIPTION:You are invited to a Fareconnect Exclusive with Air Canada Vacations \nWhen: Nov 5\, 2024  \n3:00pm till 4:00pm \nWinnipeg \nAfter registering\, you will receive a confirmation email containing information about joining the meeting.
URL:https://fareconnectevents.com/event/fareconnect-exclusive-with-air-canada-vacations-2/
CATEGORIES:Fareconnect Only Events,Supplier Webinar
ATTACH;FMTTYPE=image/png:https://fareconnectevents.com/wp-content/uploads/2024/01/2.png
END:VEVENT
BEGIN:VEVENT
DTSTART;TZID=America/Winnipeg:20240725T190000
DTEND;TZID=America/Winnipeg:20240725T200000
DTSTAMP:20260423T185458
CREATED:20240624T151001Z
LAST-MODIFIED:20240723T185745Z
UID:2538-1721934000-1721937600@fareconnectevents.com
SUMMARY:Fareconnect Open Mic Night
DESCRIPTION:You are invited to Fareconnect Open Mic Night.\nWhen: Jul 25\, 2024 07:00 PM Winnipeg Time \nRegister in advance for this meeting:\nCLICK HERE \nAfter registering\, you will receive a confirmation email containing information about joining the meeting.
URL:https://fareconnectevents.com/event/fareconnect-open-mic-night-7/
CATEGORIES:Fareconnect Only Events
ATTACH;FMTTYPE=image/png:https://fareconnectevents.com/wp-content/uploads/2024/01/Open-Mic.png
END:VEVENT
BEGIN:VEVENT
DTSTART;TZID=America/Winnipeg:20240627T190000
DTEND;TZID=America/Winnipeg:20240627T200000
DTSTAMP:20260423T185458
CREATED:20240124T105120Z
LAST-MODIFIED:20240617T161404Z
UID:92-1719514800-1719518400@fareconnectevents.com
SUMMARY:Fareconnect Open Mic Night - June
DESCRIPTION:Fareconnect Open Mic Night – June \nWhen: Jun 27\, 2024 07:00 PM Winnipeg \nRegister in advance for this meeting:\nhttps://us06web.zoom.us/meeting/register/tZAkd-CurzwtGdMePtcGs8gps4B2MorfJ-gB \nAfter registering\, you will receive a confirmation email containing information about joining the meeting.
URL:https://fareconnectevents.com/event/fareconnect-open-mic-night-6/
CATEGORIES:Fareconnect Only Events
ATTACH;FMTTYPE=image/png:https://fareconnectevents.com/wp-content/uploads/2024/01/Open-Mic.png
END:VEVENT
BEGIN:VEVENT
DTSTART;TZID=America/Winnipeg:20240615T100000
DTEND;TZID=America/Winnipeg:20240615T180000
DTSTAMP:20260423T185458
CREATED:20240124T111223Z
LAST-MODIFIED:20240412T182955Z
UID:112-1718445600-1718474400@fareconnectevents.com
SUMMARY:Saskatoon Training Conference - Road Trip 2024
DESCRIPTION:Click here to RSVP\n  \nDetails: \nA full day of training with suppliers and the Fareconnect team! More information will be provided as the date gets closer. \nLocation: \nThe exact venue in the city will be secured and announced after February 29th. \nFood: \nLunch is included! \nReimbursed Cost: \n$50 CAD per person who registers will be billed to secure your spot and then refunded post-event. \nIf you need to cancel\, you can still get your money back if it is 30 days prior to the event.
URL:https://fareconnectevents.com/event/saskatoon-training-conference-road-trip-2024/
LOCATION:Courtyard by Marriott Saskatoon\, 333 Aerogreen Cres\, Saskatoon\, Saskatchewan\, S7L 1S4\, Canada
CATEGORIES:Conference,Fareconnect Only Events
ATTACH;FMTTYPE=image/png:https://fareconnectevents.com/wp-content/uploads/2024/01/Road-Trip.png
END:VEVENT
BEGIN:VEVENT
DTSTART;TZID=America/Winnipeg:20240608T080000
DTEND;TZID=America/Winnipeg:20240608T160000
DTSTAMP:20260423T185458
CREATED:20240124T111145Z
LAST-MODIFIED:20240412T183637Z
UID:110-1717833600-1717862400@fareconnectevents.com
SUMMARY:Brampton Training Conference - Road Trip 2024
DESCRIPTION:Click here to RSVP\n  \nDetails: \nA full day of training with suppliers and the Fareconnect team! More information will be provided as the date gets closer. \nFood: \nLunch is included! \nReimbursed Cost: \n$50 CAD per person who registers will be billed to secure your spot and then refunded post-event. \nIf you need to cancel\, you can still get your money back if it is 30 days prior to the event.
URL:https://fareconnectevents.com/event/waterloo-training-conference-road-trip-2024-2/
LOCATION:Courtyard by Marriott Brampton Hotel & Conference Centre Toronto-Brampton\, 90 Biscayne Crescent\, Brampton\, Ontario\, L6W 4S1\, Canada
CATEGORIES:Conference,Fareconnect Only Events
ATTACH;FMTTYPE=image/png:https://fareconnectevents.com/wp-content/uploads/2024/01/Road-Trip.png
END:VEVENT
BEGIN:VEVENT
DTSTART;TZID=America/Winnipeg:20240601T090000
DTEND;TZID=America/Winnipeg:20240601T170000
DTSTAMP:20260423T185458
CREATED:20240124T111108Z
LAST-MODIFIED:20240412T183540Z
UID:108-1717232400-1717261200@fareconnectevents.com
SUMMARY:Winnipeg Training Conference - Road Trip 2024
DESCRIPTION:Click here to RSVP\n  \nDetails: \nA full day of training with suppliers and the Fareconnect team! More information will be provided as the date gets closer. \nFood: \nLunch is included! \nReimbursed Cost: \n$50 CAD per person who registers will be billed to secure your spot and then refunded post-event. \nIf you need to cancel\, you can still get your money back if it is 30 days prior to the event.
URL:https://fareconnectevents.com/event/winnipeg-training-conference-road-trip-2024-2/
CATEGORIES:Conference,Fareconnect Only Events
ATTACH;FMTTYPE=image/png:https://fareconnectevents.com/wp-content/uploads/2024/01/Road-Trip.png
END:VEVENT
BEGIN:VEVENT
DTSTART;TZID=America/Winnipeg:20240525T100000
DTEND;TZID=America/Winnipeg:20240525T180000
DTSTAMP:20260423T185458
CREATED:20240124T111028Z
LAST-MODIFIED:20240508T190548Z
UID:106-1716631200-1716660000@fareconnectevents.com
SUMMARY:Edmonton Training Conference - Road Trip 2024
DESCRIPTION:Click here to RSVP\n  \nDetails: \nA full day of training with suppliers and the Fareconnect team! More information will be provided as the date gets closer. \nFood: \nLunch is included! \nReimbursed Cost: \n$50 CAD per person who registers will be billed to secure your spot and then refunded post-event. \nIf you need to cancel\, you can still get your money back if it is 30 days prior to the event.
URL:https://fareconnectevents.com/event/edmonton-training-conference-road-trip-2024/
LOCATION:Sandman Signature Edmonton South\, 10111 Ellerslie Road SW\, Edmonton\, Alberta\, T6X 0J3\, Canada
CATEGORIES:Conference,Fareconnect Only Events
ATTACH;FMTTYPE=image/png:https://fareconnectevents.com/wp-content/uploads/2024/01/Road-Trip.png
END:VEVENT
BEGIN:VEVENT
DTSTART;TZID=America/Winnipeg:20240523T190000
DTEND;TZID=America/Winnipeg:20240523T200000
DTSTAMP:20260423T185458
CREATED:20240124T105001Z
LAST-MODIFIED:20240509T192705Z
UID:90-1716490800-1716494400@fareconnectevents.com
SUMMARY:Fareconnect Open Mic Night - May
DESCRIPTION:Fareconnect Open Mic Night – May \nWhen: May 23\, 2024 07:00 PM Winnipeg \nRegister in advance for this meeting:\nhttps://us06web.zoom.us/meeting/register/tZUvc-6rrjwrGtNG-P53USyMVbEkTEq78zxU \nAfter registering\, you will receive a confirmation email containing information about joining the meeting.
URL:https://fareconnectevents.com/event/fareconnect-open-mic-night-5/
CATEGORIES:Fareconnect Only Events
ATTACH;FMTTYPE=image/png:https://fareconnectevents.com/wp-content/uploads/2024/01/Open-Mic.png
END:VEVENT
BEGIN:VEVENT
DTSTART;TZID=America/Winnipeg:20240425T190000
DTEND;TZID=America/Winnipeg:20240425T200000
DTSTAMP:20260423T185458
CREATED:20240124T104835Z
LAST-MODIFIED:20240319T202420Z
UID:88-1714071600-1714075200@fareconnectevents.com
SUMMARY:Fareconnect Open Mic Night - April
DESCRIPTION:Fareconnect Open Mic Night – April \nWhen: Apr 25\, 2024 07:00 PM Winnipeg \nRegister in advance for this meeting:\nhttps://us06web.zoom.us/meeting/register/tZMrce-trDIjGNE8MsQ2JQTwgQ5tZAnq_r8O \nAfter registering\, you will receive a confirmation email containing information about joining the meeting.
URL:https://fareconnectevents.com/event/fareconnect-open-mic-night-4/
CATEGORIES:Fareconnect Only Events
ATTACH;FMTTYPE=image/png:https://fareconnectevents.com/wp-content/uploads/2024/01/Open-Mic.png
END:VEVENT
BEGIN:VEVENT
DTSTART;TZID=America/Winnipeg:20240328T190000
DTEND;TZID=America/Winnipeg:20240328T200000
DTSTAMP:20260423T185458
CREATED:20240124T104725Z
LAST-MODIFIED:20240319T201119Z
UID:86-1711652400-1711656000@fareconnectevents.com
SUMMARY:Fareconnect Open Mic Night - March
DESCRIPTION:Topic: Fareconnect Open Mic Night – March \nWhen: Mar 28\, 2024 07:00 PM Winnipeg \nRegister in advance for this meeting:\nhttps://us06web.zoom.us/meeting/register/tZIpfuusrTouEtCmZhgnH6xSJtkmI_93R9MN \nAfter registering\, you will receive a confirmation email containing information about joining the meeting.
URL:https://fareconnectevents.com/event/fareconnect-open-mic-night-3/
CATEGORIES:Fareconnect Only Events
ATTACH;FMTTYPE=image/png:https://fareconnectevents.com/wp-content/uploads/2024/01/Open-Mic.png
END:VEVENT
BEGIN:VEVENT
DTSTART;TZID=America/Winnipeg:20240229T190000
DTEND;TZID=America/Winnipeg:20240229T200000
DTSTAMP:20260423T185458
CREATED:20240124T104513Z
LAST-MODIFIED:20240125T185013Z
UID:84-1709233200-1709236800@fareconnectevents.com
SUMMARY:Fareconnect Open Mic Night - February
DESCRIPTION:Fareconnect Open Mic Night – February \nWhen: Feb 29\, 2024 07:00 PM Winnipeg \nRegister in advance for this meeting:\nhttps://us06web.zoom.us/meeting/register/tZItcOyrpj0oGtYmfSWS2u23Mg77hjAlrFCs \nAfter registering\, you will receive a confirmation email containing information about joining the meeting.
URL:https://fareconnectevents.com/event/fareconnect-open-mic-night-2/
CATEGORIES:Fareconnect Only Events
ATTACH;FMTTYPE=image/png:https://fareconnectevents.com/wp-content/uploads/2024/01/Open-Mic.png
END:VEVENT
BEGIN:VEVENT
DTSTART;TZID=America/Winnipeg:20240125T190000
DTEND;TZID=America/Winnipeg:20240125T200000
DTSTAMP:20260423T185458
CREATED:20240123T191936Z
LAST-MODIFIED:20240124T134754Z
UID:17-1706209200-1706212800@fareconnectevents.com
SUMMARY:Fareconnect Open Mic Night - January
DESCRIPTION:Fareconnect Open Mic Night \nWhen: Jan 25\, 2024 07:00 PM CST \nRegister in advance for this meeting:\nhttps://us06web.zoom.us/meeting/register/tZEpdumqrT0rGdCbuimKPZ1egBEFL6OKG-IW \nAfter registering\, you will receive a confirmation email containing information about joining the meeting.
URL:https://fareconnectevents.com/event/fareconnect-open-mic-night/
CATEGORIES:Fareconnect Only Events
ATTACH;FMTTYPE=image/png:https://fareconnectevents.com/wp-content/uploads/2024/01/Open-Mic.png
END:VEVENT
END:VCALENDAR