BEGIN:VCALENDAR
VERSION:2.0
PRODID:-//Fareconnect Events - ECPv6.15.20//NONSGML v1.0//EN
CALSCALE:GREGORIAN
METHOD:PUBLISH
X-WR-CALNAME:Fareconnect Events
X-ORIGINAL-URL:https://fareconnectevents.com
X-WR-CALDESC:Events for Fareconnect Events
REFRESH-INTERVAL;VALUE=DURATION:PT1H
X-Robots-Tag:noindex
X-PUBLISHED-TTL:PT1H
BEGIN:VTIMEZONE
TZID:America/Winnipeg
BEGIN:DAYLIGHT
TZOFFSETFROM:-0600
TZOFFSETTO:-0500
TZNAME:CDT
DTSTART:20230312T080000
END:DAYLIGHT
BEGIN:STANDARD
TZOFFSETFROM:-0500
TZOFFSETTO:-0600
TZNAME:CST
DTSTART:20231105T070000
END:STANDARD
BEGIN:DAYLIGHT
TZOFFSETFROM:-0600
TZOFFSETTO:-0500
TZNAME:CDT
DTSTART:20240310T080000
END:DAYLIGHT
BEGIN:STANDARD
TZOFFSETFROM:-0500
TZOFFSETTO:-0600
TZNAME:CST
DTSTART:20241103T070000
END:STANDARD
BEGIN:DAYLIGHT
TZOFFSETFROM:-0600
TZOFFSETTO:-0500
TZNAME:CDT
DTSTART:20250309T080000
END:DAYLIGHT
BEGIN:STANDARD
TZOFFSETFROM:-0500
TZOFFSETTO:-0600
TZNAME:CST
DTSTART:20251102T070000
END:STANDARD
BEGIN:DAYLIGHT
TZOFFSETFROM:-0600
TZOFFSETTO:-0500
TZNAME:CDT
DTSTART:20260308T080000
END:DAYLIGHT
BEGIN:STANDARD
TZOFFSETFROM:-0500
TZOFFSETTO:-0600
TZNAME:CST
DTSTART:20261101T070000
END:STANDARD
END:VTIMEZONE
BEGIN:VEVENT
DTSTART;TZID=America/Winnipeg:20250415T140000
DTEND;TZID=America/Winnipeg:20250415T150000
DTSTAMP:20260423T171502
CREATED:20250411T162207Z
LAST-MODIFIED:20250411T162208Z
UID:5135-1744725600-1744729200@fareconnectevents.com
SUMMARY:Fareconnect Exclusive with Transat
DESCRIPTION:Fareconnect Exclusive with Transat \nWhen: Apr 15\,2025 \nTime: 2:00pm Winnipeg Time \nRegister in advance for this meeting: \nhttps://us06web.zoom.us/meeting/register/MylQq6UDRwmO86NoruApxg \nAfter registering\, you will receive a confirmation email containing information about joining the meeting. \n 
URL:https://fareconnectevents.com/event/fareconnect-exclusive-with-transat/
CATEGORIES:Fareconnect Only Events,Supplier Webinar
ATTACH;FMTTYPE=image/png:https://fareconnectevents.com/wp-content/uploads/2024/01/2.png
END:VEVENT
BEGIN:VEVENT
DTSTART;TZID=America/Winnipeg:20250408T140000
DTEND;TZID=America/Winnipeg:20250408T150000
DTSTAMP:20260423T171502
CREATED:20250305T191935Z
LAST-MODIFIED:20250305T191936Z
UID:4629-1744120800-1744124400@fareconnectevents.com
SUMMARY:Fareconnect Exclusive with ClientLinq
DESCRIPTION:When: Apr 8\, 2025 02:00 PM Winnipeg \nRegister in advance for this meeting: \nhttps://us06web.zoom.us/meeting/register/tZYtcuivrz8jHdOZcK6WQol4yH4Y8ArkXAd_ \nAfter registering\, you will receive a confirmation email containing information about joining the meeting.
URL:https://fareconnectevents.com/event/fareconnect-exclusive-with-clientlinq/
CATEGORIES:Fareconnect Only Events,Supplier Webinar
ATTACH;FMTTYPE=image/png:https://fareconnectevents.com/wp-content/uploads/2024/01/2.png
END:VEVENT
BEGIN:VEVENT
DTSTART;TZID=America/Winnipeg:20250403T130000
DTEND;TZID=America/Winnipeg:20250403T140000
DTSTAMP:20260423T171502
CREATED:20250305T191801Z
LAST-MODIFIED:20250305T191802Z
UID:4627-1743685200-1743688800@fareconnectevents.com
SUMMARY:Fareconnect Exclusive with Air Canada Vacations
DESCRIPTION:When: Apr 3\, 2025 01:00 PM Winnipeg \nRegister in advance for this meeting: \nhttps://us06web.zoom.us/meeting/register/xsRbe5chTSuvWEN8hYXF \nAfter registering\, you will receive a confirmation email containing information about joining the meeting.
URL:https://fareconnectevents.com/event/fareconnect-exclusive-with-air-canada-vacations-4/
CATEGORIES:Fareconnect Only Events,Supplier Webinar
ATTACH;FMTTYPE=image/png:https://fareconnectevents.com/wp-content/uploads/2024/01/2.png
END:VEVENT
BEGIN:VEVENT
DTSTART;TZID=America/Winnipeg:20250329T100000
DTEND;TZID=America/Winnipeg:20250329T110000
DTSTAMP:20260423T171502
CREATED:20250318T192057Z
LAST-MODIFIED:20250318T192106Z
UID:4758-1743242400-1743246000@fareconnectevents.com
SUMMARY:Carnival Cruise Line Coffee Talks in Kamloops
DESCRIPTION:You’re Invited – Carnival Cruise Line Coffee Talks in  Kamloops \nDesigned for home-based advisors\, but open to all\, you are invited to an exclusive Java with Joel from Carnival Cruise Line! Whether you’re new to cruising or looking for a refresher\, this is your chance to discover everything you need to grow your sales\, plus get the latest updates from the world’s largest cruise line while enjoying a coffee and light breakfast. \n  \nWhat we’ll cover: \n\nCruise 101: Tips to boost sales and build group bookings.\nWhat’s New: The latest Carnival offerings and innovations – grab a 2025 brochure!\nWhy Carnival?: Uncover the myths vs the facts of choosing fun.\n\nKAMLOOPS: CLICK HERE TO RSVP \nDate: Saturday\, March 29th\nTime: 10:00AM – 11:00AM\nLocation: He Brew’s Ahava Coffee Inc – 210 Victoria St
URL:https://fareconnectevents.com/event/carnival-cruise-line-coffee-talks-in-kamloops/
LOCATION:: He Brew’s Ahava Coffee Inc\, 210 Victoria St\, Kamloops\, BC\, V2C 2A2\, Canada
CATEGORIES:Fareconnect Only Events
ATTACH;FMTTYPE=image/png:https://fareconnectevents.com/wp-content/uploads/2024/01/3.png
END:VEVENT
BEGIN:VEVENT
DTSTART;TZID=America/Winnipeg:20250327T190000
DTEND;TZID=America/Winnipeg:20250327T200000
DTSTAMP:20260423T171502
CREATED:20250227T161608Z
LAST-MODIFIED:20250227T161828Z
UID:4462-1743102000-1743105600@fareconnectevents.com
SUMMARY:Fareconnect Open Mic Night
DESCRIPTION:Time: Mar 27\, 2025 07:00 PM Winnipeg\n\n\nRegister in advance for this meeting :\n\n\nhttps://us06web.zoom.us/meeting/register/pyh1XiSTRfOvxJ9bEGubdA\n\n\nAfter registering\, you will receive a confirmation email containing information about joining the meeting
URL:https://fareconnectevents.com/event/fareconnect-open-mic-night-9/
CATEGORIES:Fareconnect Only Events,Supplier Webinar
ATTACH;FMTTYPE=image/png:https://fareconnectevents.com/wp-content/uploads/2024/01/2.png
END:VEVENT
BEGIN:VEVENT
DTSTART;TZID=America/Winnipeg:20250325T150000
DTEND;TZID=America/Winnipeg:20250325T160000
DTSTAMP:20260423T171502
CREATED:20250305T175338Z
LAST-MODIFIED:20250305T175338Z
UID:4620-1742914800-1742918400@fareconnectevents.com
SUMMARY:Fareconnect Exclusive with Carnival Cruise Lines
DESCRIPTION:When: Mar 25\, 2025 03:00 PM Winnipeg \nRegister in advance for this meeting: \nhttps://us06web.zoom.us/meeting/register/SDxpqSLvSAOOVt37zbE4bw \nAfter registering\, you will receive a confirmation email containing information about joining the meeting.
URL:https://fareconnectevents.com/event/fareconnect-exclusive-with-carnival-cruise-lines/
CATEGORIES:Fareconnect Only Events,Supplier Webinar
ATTACH;FMTTYPE=image/png:https://fareconnectevents.com/wp-content/uploads/2024/01/2.png
END:VEVENT
BEGIN:VEVENT
DTSTART;TZID=America/Winnipeg:20250320T130000
DTEND;TZID=America/Winnipeg:20250320T140000
DTSTAMP:20260423T171502
CREATED:20250305T191333Z
LAST-MODIFIED:20250305T191346Z
UID:4622-1742475600-1742479200@fareconnectevents.com
SUMMARY:Fareconnect Exclusive with Hard Rock Resorts
DESCRIPTION:When: Mar 20\, 2025 01:00 PM Winnipeg \nRegister in advance for this meeting: \nhttps://us06web.zoom.us/meeting/register/jwdS-aVqTAOzEMZw10W-1w \nAfter registering\, you will receive a confirmation email containing information about joining the meeting.\nHi there\,
URL:https://fareconnectevents.com/event/a-fareconnect-exclusive-with-hard-rock-resorts/
CATEGORIES:Fareconnect Only Events,Supplier Webinar
ATTACH;FMTTYPE=image/png:https://fareconnectevents.com/wp-content/uploads/2024/01/2.png
END:VEVENT
BEGIN:VEVENT
DTSTART;TZID=America/Winnipeg:20250318T150000
DTEND;TZID=America/Winnipeg:20250318T160000
DTSTAMP:20260423T171502
CREATED:20250305T174224Z
LAST-MODIFIED:20250305T174319Z
UID:4618-1742310000-1742313600@fareconnectevents.com
SUMMARY:Fareconnect Exclusive with Riverside Luxury
DESCRIPTION:When: Mar 18\, 2025 03:00 PM Winnipeg \nRegister in advance for this meeting: \nhttps://us06web.zoom.us/meeting/register/iiJKj2HiR2y9SKEIRHIX5A#/registration \nAfter registering\, you will receive a confirmation email containing information about joining the meeting.
URL:https://fareconnectevents.com/event/fareconnect-exclusive-with-riverside-luxury/
CATEGORIES:Fareconnect Only Events,Supplier Webinar
ATTACH;FMTTYPE=image/png:https://fareconnectevents.com/wp-content/uploads/2024/01/2.png
END:VEVENT
BEGIN:VEVENT
DTSTART;TZID=America/Winnipeg:20250313T150000
DTEND;TZID=America/Winnipeg:20250313T160000
DTSTAMP:20260423T171502
CREATED:20250227T160504Z
LAST-MODIFIED:20250227T160505Z
UID:4458-1741878000-1741881600@fareconnectevents.com
SUMMARY:Fareconnect Exclusive with Riu
DESCRIPTION:Time: Mar 13\, 2025 03:00 PM Winnipeg\n\n\nRegister in advance for this meeting :\n\n\nhttps://us06web.zoom.us/…/register/IaRmJ3m_TIKRzrXfdeHEYw\n\n\nAfter registering\, you will receive a confirmation email containing information about joining the meeting
URL:https://fareconnectevents.com/event/fareconnect-exclusive-with-riu/
CATEGORIES:Fareconnect Only Events,Supplier Webinar
ATTACH;FMTTYPE=image/png:https://fareconnectevents.com/wp-content/uploads/2024/01/2.png
END:VEVENT
BEGIN:VEVENT
DTSTART;TZID=America/Winnipeg:20250311T140000
DTEND;TZID=America/Winnipeg:20250311T150000
DTSTAMP:20260423T171502
CREATED:20250227T160635Z
LAST-MODIFIED:20250227T160636Z
UID:4460-1741701600-1741705200@fareconnectevents.com
SUMMARY:Fareconnect Exclusive with Uniworld
DESCRIPTION:Time: Mar 11\, 2025 02:00 PM Winnipeg\n\n\nRegister in advance for this meeting :\n\n\nhttps://us06web.zoom.us/…/reg…/7gOOfcxyRFaejnqKCLmjqw…\n\n\nAfter registering\, you will receive a confirmation email containing information about joining the meeting
URL:https://fareconnectevents.com/event/fareconnect-exclusive-with-uniworld/
CATEGORIES:Fareconnect Only Events,Supplier Webinar
ATTACH;FMTTYPE=image/png:https://fareconnectevents.com/wp-content/uploads/2024/01/2.png
END:VEVENT
BEGIN:VEVENT
DTSTART;TZID=America/Winnipeg:20250306T130000
DTEND;TZID=America/Winnipeg:20250306T140000
DTSTAMP:20260423T171502
CREATED:20250106T202605Z
LAST-MODIFIED:20250106T202606Z
UID:4017-1741266000-1741269600@fareconnectevents.com
SUMMARY:Fareconnect Exclusive with ADX - Cruises
DESCRIPTION:When: Mar 6\, 2025 01:00 PM Winnipeg Time.\n\n\nRegister in advance for this meeting:\n\n\n\nAfter registering\, you will receive a confirmation email containing information about joining the meeting.
URL:https://fareconnectevents.com/event/fareconnect-exclusive-with-adx-cruises/
CATEGORIES:Fareconnect Only Events,Supplier Webinar
ATTACH;FMTTYPE=image/png:https://fareconnectevents.com/wp-content/uploads/2024/01/2.png
END:VEVENT
BEGIN:VEVENT
DTSTART;TZID=America/Winnipeg:20250305T120000
DTEND;TZID=America/Winnipeg:20250305T130000
DTSTAMP:20260423T171502
CREATED:20250227T155947Z
LAST-MODIFIED:20250227T155948Z
UID:4452-1741176000-1741179600@fareconnectevents.com
SUMMARY:Fareconnect Exclusive with Celebrity
DESCRIPTION:Time: Mar 05\, 2025 12:00 PM Winnipeg\n\n\nRegister in advance for this meeting :\n\n\nhttps://us06web.zoom.us/…/reg…/Q0BnBRhMSiuh01m8w-NN8g…\n\n\nAfter registering\, you will receive a confirmation email containing information about joining the meeting
URL:https://fareconnectevents.com/event/fareconnect-exclusive-with-celebrity/
CATEGORIES:Fareconnect Only Events,Supplier Webinar
ATTACH;FMTTYPE=image/png:https://fareconnectevents.com/wp-content/uploads/2024/01/2.png
END:VEVENT
BEGIN:VEVENT
DTSTART;TZID=America/Winnipeg:20250304T150000
DTEND;TZID=America/Winnipeg:20250304T160000
DTSTAMP:20260423T171502
CREATED:20250227T155839Z
LAST-MODIFIED:20250227T155840Z
UID:4450-1741100400-1741104000@fareconnectevents.com
SUMMARY:Fareconnect Exclusive with Globus Family of Brands
DESCRIPTION:Time: Mar 04\, 2025 03:00 PM Winnipeg\n\n\nRegister in advance for this meeting :\n\n\nhttps://us06web.zoom.us/…/reg…/Kc2IF_sST8WFeO0R-GPr6Q…\n\n\nAfter registering\, you will receive a confirmation email containing information about joining the meeting
URL:https://fareconnectevents.com/event/fareconnect-exclusive-with-globus-family-of-brands/
CATEGORIES:Fareconnect Only Events,Supplier Webinar
ATTACH;FMTTYPE=image/png:https://fareconnectevents.com/wp-content/uploads/2024/01/2.png
END:VEVENT
BEGIN:VEVENT
DTSTART;TZID=America/Winnipeg:20250227T190000
DTEND;TZID=America/Winnipeg:20250227T200000
DTSTAMP:20260423T171502
CREATED:20250227T163215Z
LAST-MODIFIED:20250227T170034Z
UID:4464-1740682800-1740686400@fareconnectevents.com
SUMMARY:Fareconnect Open Mic Night
DESCRIPTION:Time: Feb 27\, 2025 07:00 PM Winnipeg\n\n\nRegister in advance for this meeting :\n\n\nhttps://us06web.zoom.us/…/reg…/Kc2IF_sST8WFeO0R-GPr6Q…\n\n\nAfter registering\, you will receive a confirmation email containing information about joining the meeting
URL:https://fareconnectevents.com/event/fareconnect-open-mic-night-10/
CATEGORIES:Fareconnect Only Events,Supplier Webinar
ATTACH;FMTTYPE=image/png:https://fareconnectevents.com/wp-content/uploads/2024/01/2.png
END:VEVENT
BEGIN:VEVENT
DTSTART;TZID=America/Winnipeg:20250227T130000
DTEND;TZID=America/Winnipeg:20250227T140000
DTSTAMP:20260423T171502
CREATED:20241211T205856Z
LAST-MODIFIED:20241211T205857Z
UID:3826-1740661200-1740664800@fareconnectevents.com
SUMMARY:Fareconnect Exclusive with Manulife
DESCRIPTION:Fareconnect Exclusive with Manulife\n\n\n\nTime: Feb 27\, 2025 01:00 PM Winnipeg\n\n\n\nRegister in advance for this meeting :\nhttps://us06web.zoom.us/meeting/register/tZ0kduiorTosE9AT_EmYhHpBstrEQ4kixGok\n\n\n\nAfter registering\, you will receive a confirmation email containing information about joining the meeting
URL:https://fareconnectevents.com/event/fareconnect-exclusive-with-manulife-5/
CATEGORIES:Fareconnect Only Events,Supplier Webinar
ATTACH;FMTTYPE=image/png:https://fareconnectevents.com/wp-content/uploads/2024/01/2.png
END:VEVENT
BEGIN:VEVENT
DTSTART;TZID=America/Winnipeg:20250220T130000
DTEND;TZID=America/Winnipeg:20250220T140000
DTSTAMP:20260423T171502
CREATED:20250106T202355Z
LAST-MODIFIED:20250106T202356Z
UID:4012-1740056400-1740060000@fareconnectevents.com
SUMMARY:Fareconnect Exclusive with ADX - ADX - Itinerary Builder & Ask Us Anything
DESCRIPTION:When: Feb 20\, 2025 01:00 PM Winnipeg Time.\n\n\nRegister in advance for this meeting:\n\n\n\nAfter registering\, you will receive a confirmation email containing information about joining the meeting.
URL:https://fareconnectevents.com/event/fareconnect-exclusive-with-adx-adx-itinerary-builder-ask-us-anything/
CATEGORIES:Fareconnect Only Events,Supplier Webinar
ATTACH;FMTTYPE=image/png:https://fareconnectevents.com/wp-content/uploads/2024/01/2.png
END:VEVENT
BEGIN:VEVENT
DTSTART;TZID=America/Winnipeg:20250213T130000
DTEND;TZID=America/Winnipeg:20250213T140000
DTSTAMP:20260423T171502
CREATED:20241211T205559Z
LAST-MODIFIED:20241211T205559Z
UID:3823-1739451600-1739455200@fareconnectevents.com
SUMMARY:Fareconnect Exclusive with Manulife
DESCRIPTION:Fareconnect Exclusive with Manulife\n\n\n\nTime: Feb 13\, 2025 01:00 PM Winnipeg\n\n\n\nRegister in advance for this meeting :\n\n\nhttps://us06web.zoom.us/meeting/register/tZYtd-uvqj8tH9eata6TWnv5GlSzS65vAer6\n\n\n\nAfter registering\, you will receive a confirmation email containing information about joining the meeting
URL:https://fareconnectevents.com/event/fareconnect-exclusive-with-manulife-4/
CATEGORIES:Fareconnect Only Events,Supplier Webinar
ATTACH;FMTTYPE=image/png:https://fareconnectevents.com/wp-content/uploads/2024/01/2.png
END:VEVENT
BEGIN:VEVENT
DTSTART;TZID=America/Winnipeg:20250211T150000
DTEND;TZID=America/Winnipeg:20250211T160000
DTSTAMP:20260423T171502
CREATED:20250107T210415Z
LAST-MODIFIED:20250107T210416Z
UID:4039-1739286000-1739289600@fareconnectevents.com
SUMMARY:Fareconnect Exclusive with CIE
DESCRIPTION:When: Feb 11\, 2025 03:00 PM Winnipeg \nRegister in advance for this meeting \nAfter registering\, you will receive a confirmation email containing information about joining the meeting.
URL:https://fareconnectevents.com/event/fareconnect-exclusive-with-cie/
CATEGORIES:Fareconnect Only Events,Supplier Webinar
ATTACH;FMTTYPE=image/png:https://fareconnectevents.com/wp-content/uploads/2024/01/2.png
END:VEVENT
BEGIN:VEVENT
DTSTART;TZID=America/Winnipeg:20250206T130000
DTEND;TZID=America/Winnipeg:20250206T140000
DTSTAMP:20260423T171502
CREATED:20250106T202153Z
LAST-MODIFIED:20250106T202154Z
UID:4006-1738846800-1738850400@fareconnectevents.com
SUMMARY:Fareconnect Exclusive ADX - ADX - Hotel
DESCRIPTION:When: Feb 6\, 2025 01:00 PM Winnipeg Time.\n\n\nRegister in advance for this meeting:\n\n\n\nAfter registering\, you will receive a confirmation email containing information about joining the meeting.
URL:https://fareconnectevents.com/event/fareconnect-exclusive-adx-adx-hotel/
CATEGORIES:Fareconnect Only Events,Supplier Webinar
ATTACH;FMTTYPE=image/png:https://fareconnectevents.com/wp-content/uploads/2024/01/2.png
END:VEVENT
BEGIN:VEVENT
DTSTART;TZID=America/Winnipeg:20250204T150000
DTEND;TZID=America/Winnipeg:20250204T160000
DTSTAMP:20260423T171502
CREATED:20241211T210335Z
LAST-MODIFIED:20241211T210336Z
UID:3830-1738681200-1738684800@fareconnectevents.com
SUMMARY:Fareconnect Exclusive with Collette
DESCRIPTION:Fareconnect Exclusive with Collette\n\nTime: Feb 13\, 2025 01:00 PM Winnipeg\n\nRegister in advance for this meeting :\nhttps://us06web.zoom.us/meeting/register/tZUlfuiopz0sEtYYrvjK1KgWiXGlDQIdHII4\n\nAfter registering\, you will receive a confirmation email containing information about joining the meeting
URL:https://fareconnectevents.com/event/fareconnect-exclusive-with-collette/
CATEGORIES:Fareconnect Only Events,Supplier Webinar
ATTACH;FMTTYPE=image/png:https://fareconnectevents.com/wp-content/uploads/2024/01/2.png
END:VEVENT
BEGIN:VEVENT
DTSTART;TZID=America/Winnipeg:20250130T130000
DTEND;TZID=America/Winnipeg:20250130T140000
DTSTAMP:20260423T171502
CREATED:20241211T205114Z
LAST-MODIFIED:20241211T205115Z
UID:3821-1738242000-1738245600@fareconnectevents.com
SUMMARY:Fareconnect Exclusive with Manulife
DESCRIPTION:Fareconnect Exclusive with Manulife\n\nTime: Jan 30\, 2025 01:00 PM Winnipeg\n\nRegister in advance for this meeting :\nhttps://us06web.zoom.us/meeting/register/tZYvdOGvpjsoHNODAqYCbMkgvC9PBzRck9Xc\n\nAfter registering\, you will receive a confirmation email containing information about joining the meeting
URL:https://fareconnectevents.com/event/fareconnect-exclusive-with-manulife-3/
CATEGORIES:Fareconnect Only Events,Supplier Webinar
ATTACH;FMTTYPE=image/png:https://fareconnectevents.com/wp-content/uploads/2024/01/2.png
END:VEVENT
BEGIN:VEVENT
DTSTART;TZID=America/Winnipeg:20250128T150000
DTEND;TZID=America/Winnipeg:20250128T160000
DTSTAMP:20260423T171502
CREATED:20241211T180204Z
LAST-MODIFIED:20241211T181354Z
UID:3808-1738076400-1738080000@fareconnectevents.com
SUMMARY:Fareconnect Exclusive with Disney Cruise Lines
DESCRIPTION:Fareconnect Exclusive with Disney Cruise Lines\n*** THIS WILL NOT BE RECORDED ***\n\n\nTime: Jan 28\, 2025 03:00 PM Winnipeg\n\n\n\nRegister in advance for this meeting:\n\n\n\nhttps://us06web.zoom.us/…/tZIld…\n\n\n\nAfter registering\, you will receive a confirmation email containing information about joining the meeting
URL:https://fareconnectevents.com/event/fareconnect-exclusive-with-disney-cruise-lines/
CATEGORIES:Fareconnect Only Events,Supplier Webinar
ATTACH;FMTTYPE=image/png:https://fareconnectevents.com/wp-content/uploads/2024/01/2.png
END:VEVENT
BEGIN:VEVENT
DTSTART;TZID=America/Winnipeg:20250123T130000
DTEND;TZID=America/Winnipeg:20250123T140000
DTSTAMP:20260423T171502
CREATED:20250106T201840Z
LAST-MODIFIED:20250106T201841Z
UID:4004-1737637200-1737640800@fareconnectevents.com
SUMMARY:Fareconnect Exclusive with ADX - ADX - air
DESCRIPTION:When: Jan 23\, 2025 01:00 PM Winnipeg Time.\n\n\nRegister in advance for this meeting:\n\n\n\nAfter registering\, you will receive a confirmation email containing information about joining the meeting.
URL:https://fareconnectevents.com/event/fareconnect-exclusive-with-adx-adx-air/
CATEGORIES:Fareconnect Only Events,Supplier Webinar
ATTACH;FMTTYPE=image/png:https://fareconnectevents.com/wp-content/uploads/2024/01/2.png
END:VEVENT
BEGIN:VEVENT
DTSTART;TZID=America/Winnipeg:20250121T150000
DTEND;TZID=America/Winnipeg:20250121T160000
DTSTAMP:20260423T171502
CREATED:20250102T212208Z
LAST-MODIFIED:20250102T212209Z
UID:3973-1737471600-1737475200@fareconnectevents.com
SUMMARY:Fareconnect Exclusive with Windstar
DESCRIPTION:When: Jan 21\, 2025 03:00 PM Winnipeg \nRegister in advance for this meeting \nAfter registering\, you will receive a confirmation email containing information about joining the meeting.
URL:https://fareconnectevents.com/event/fareconnect-exclusive-with-windstar/
CATEGORIES:Fareconnect Only Events,Supplier (in person) Event
ATTACH;FMTTYPE=image/png:https://fareconnectevents.com/wp-content/uploads/2024/01/2.png
END:VEVENT
BEGIN:VEVENT
DTSTART;TZID=America/Winnipeg:20250116T150000
DTEND;TZID=America/Winnipeg:20250116T160000
DTSTAMP:20260423T171502
CREATED:20241211T204334Z
LAST-MODIFIED:20241211T204335Z
UID:3819-1737039600-1737043200@fareconnectevents.com
SUMMARY:Fareconnect Exclusive with Manulife
DESCRIPTION:Fareconnect Exclusive with Manulife\n\nTime: Jan 16\, 2025 03:00 PM Winnipeg\n\nRegister in advance for this meeting :\nhttps://us06web.zoom.us/meeting/register/tZMtce-opzkjE9SAOsfU_X62VOHraxAeqXLe\n\nAfter registering\, you will receive a confirmation email containing information about joining the meeting
URL:https://fareconnectevents.com/event/fareconnect-exclusive-with-manulife-2/
CATEGORIES:Fareconnect Only Events,Supplier Webinar
ATTACH;FMTTYPE=image/png:https://fareconnectevents.com/wp-content/uploads/2024/01/2.png
END:VEVENT
BEGIN:VEVENT
DTSTART;TZID=America/Winnipeg:20250114T150000
DTEND;TZID=America/Winnipeg:20250114T160000
DTSTAMP:20260423T171502
CREATED:20241121T210324Z
LAST-MODIFIED:20241121T210504Z
UID:3653-1736866800-1736870400@fareconnectevents.com
SUMMARY:Fareconnect Exclusive with NCL
DESCRIPTION:When: Jan 14\, 2025 03:00 PM Winnipeg \nRegister in advance for this meeting \nAfter registering\, you will receive a confirmation email containing information about joining the meeting.
URL:https://fareconnectevents.com/event/fareconnect-exclusive-with-ncl-2/
CATEGORIES:Fareconnect Only Events,Supplier Webinar
ATTACH;FMTTYPE=image/png:https://fareconnectevents.com/wp-content/uploads/2024/01/2.png
END:VEVENT
BEGIN:VEVENT
DTSTART;TZID=America/Winnipeg:20250109T130000
DTEND;TZID=America/Winnipeg:20250109T140000
DTSTAMP:20260423T171502
CREATED:20250106T201448Z
LAST-MODIFIED:20250106T201449Z
UID:4000-1736427600-1736431200@fareconnectevents.com
SUMMARY:You are invited to a Fareconnect Exclusive with ADX - 101.
DESCRIPTION:When: Jan 9\, 2025 01:00 PM Winnipeg Time.\n\n\nRegister in advance for this meeting:\n\n\n\nAfter registering\, you will receive a confirmation email containing information about joining the meeting.
URL:https://fareconnectevents.com/event/you-are-invited-to-a-fareconnect-exclusive-with-adx-101/
CATEGORIES:Fareconnect Only Events,Supplier Webinar
ATTACH;FMTTYPE=image/png:https://fareconnectevents.com/wp-content/uploads/2024/01/2.png
END:VEVENT
BEGIN:VEVENT
DTSTART;TZID=America/Winnipeg:20250107T150000
DTEND;TZID=America/Winnipeg:20250107T160000
DTSTAMP:20260423T171502
CREATED:20241121T203311Z
LAST-MODIFIED:20241121T210629Z
UID:3651-1736262000-1736265600@fareconnectevents.com
SUMMARY:Fareconnect Exclusive with Seabourn
DESCRIPTION:When: Jan 7\, 2025 03:00 PM Winnipeg \nRegister in advance for this meeting \nAfter registering\, you will receive a confirmation email containing information about joining the meeting.
URL:https://fareconnectevents.com/event/fareconnect-exclusive-with-seabourn/
CATEGORIES:Fareconnect Only Events,Supplier Webinar
ATTACH;FMTTYPE=image/png:https://fareconnectevents.com/wp-content/uploads/2024/01/2.png
END:VEVENT
BEGIN:VEVENT
DTSTART;TZID=America/Winnipeg:20250102T130000
DTEND;TZID=America/Winnipeg:20250102T140000
DTSTAMP:20260423T171502
CREATED:20241230T192003Z
LAST-MODIFIED:20241230T192004Z
UID:3957-1735822800-1735826400@fareconnectevents.com
SUMMARY:Fareconnect Exclusive with Air Canada Vacations
DESCRIPTION:When: Jan 2\, 2025 01:00 PM Winnipeg \nRegister in advance for this meeting \nAfter registering\, you will receive a confirmation email containing information about joining the meeting.
URL:https://fareconnectevents.com/event/fareconnect-exclusive-with-air-canada-vacations-3/
CATEGORIES:Fareconnect Only Events,Supplier Webinar
ATTACH;FMTTYPE=image/png:https://fareconnectevents.com/wp-content/uploads/2024/01/2.png
END:VEVENT
BEGIN:VEVENT
DTSTART;TZID=America/Winnipeg:20241220T130000
DTEND;TZID=America/Winnipeg:20241220T140000
DTSTAMP:20260423T171502
CREATED:20241213T212411Z
LAST-MODIFIED:20241213T212412Z
UID:3839-1734699600-1734703200@fareconnectevents.com
SUMMARY:Fareconnect Exclusive with Innstant
DESCRIPTION:Fareconnect Exclusive with Innstant\nTime: Dec 20\, 2024 01:00 PM Winnipeg\nRegister in advance for this meeting:\nhttps://us06web.zoom.us/…/tZwvd-6rpjkuGtahxd…\nAfter registering\, you will receive a confirmation email containing information about joining the meeting
URL:https://fareconnectevents.com/event/fareconnect-exclusive-with-innstant/
CATEGORIES:Fareconnect Only Events,Supplier Webinar
ATTACH;FMTTYPE=image/png:https://fareconnectevents.com/wp-content/uploads/2024/01/2.png
END:VEVENT
END:VCALENDAR