BEGIN:VCALENDAR
VERSION:2.0
PRODID:-//Fareconnect Events - ECPv6.15.20//NONSGML v1.0//EN
CALSCALE:GREGORIAN
METHOD:PUBLISH
X-ORIGINAL-URL:https://fareconnectevents.com
X-WR-CALDESC:Events for Fareconnect Events
REFRESH-INTERVAL;VALUE=DURATION:PT1H
X-Robots-Tag:noindex
X-PUBLISHED-TTL:PT1H
BEGIN:VTIMEZONE
TZID:America/Winnipeg
BEGIN:DAYLIGHT
TZOFFSETFROM:-0600
TZOFFSETTO:-0500
TZNAME:CDT
DTSTART:20240310T080000
END:DAYLIGHT
BEGIN:STANDARD
TZOFFSETFROM:-0500
TZOFFSETTO:-0600
TZNAME:CST
DTSTART:20241103T070000
END:STANDARD
BEGIN:DAYLIGHT
TZOFFSETFROM:-0600
TZOFFSETTO:-0500
TZNAME:CDT
DTSTART:20250309T080000
END:DAYLIGHT
BEGIN:STANDARD
TZOFFSETFROM:-0500
TZOFFSETTO:-0600
TZNAME:CST
DTSTART:20251102T070000
END:STANDARD
BEGIN:DAYLIGHT
TZOFFSETFROM:-0600
TZOFFSETTO:-0500
TZNAME:CDT
DTSTART:20260308T080000
END:DAYLIGHT
BEGIN:STANDARD
TZOFFSETFROM:-0500
TZOFFSETTO:-0600
TZNAME:CST
DTSTART:20261101T070000
END:STANDARD
END:VTIMEZONE
BEGIN:VEVENT
DTSTART;TZID=America/Winnipeg:20250318T150000
DTEND;TZID=America/Winnipeg:20250318T160000
DTSTAMP:20260424T165819
CREATED:20250305T174224Z
LAST-MODIFIED:20250305T174319Z
UID:4618-1742310000-1742313600@fareconnectevents.com
SUMMARY:Fareconnect Exclusive with Riverside Luxury
DESCRIPTION:When: Mar 18\, 2025 03:00 PM Winnipeg \nRegister in advance for this meeting: \nhttps://us06web.zoom.us/meeting/register/iiJKj2HiR2y9SKEIRHIX5A#/registration \nAfter registering\, you will receive a confirmation email containing information about joining the meeting.
URL:https://fareconnectevents.com/event/fareconnect-exclusive-with-riverside-luxury/
CATEGORIES:Fareconnect Only Events,Supplier Webinar
ATTACH;FMTTYPE=image/png:https://fareconnectevents.com/wp-content/uploads/2024/01/2.png
END:VEVENT
BEGIN:VEVENT
DTSTART;TZID=America/Winnipeg:20250320T130000
DTEND;TZID=America/Winnipeg:20250320T140000
DTSTAMP:20260424T165819
CREATED:20250305T191333Z
LAST-MODIFIED:20250305T191346Z
UID:4622-1742475600-1742479200@fareconnectevents.com
SUMMARY:Fareconnect Exclusive with Hard Rock Resorts
DESCRIPTION:When: Mar 20\, 2025 01:00 PM Winnipeg \nRegister in advance for this meeting: \nhttps://us06web.zoom.us/meeting/register/jwdS-aVqTAOzEMZw10W-1w \nAfter registering\, you will receive a confirmation email containing information about joining the meeting.\nHi there\,
URL:https://fareconnectevents.com/event/a-fareconnect-exclusive-with-hard-rock-resorts/
CATEGORIES:Fareconnect Only Events,Supplier Webinar
ATTACH;FMTTYPE=image/png:https://fareconnectevents.com/wp-content/uploads/2024/01/2.png
END:VEVENT
BEGIN:VEVENT
DTSTART;TZID=America/Winnipeg:20250325T150000
DTEND;TZID=America/Winnipeg:20250325T160000
DTSTAMP:20260424T165819
CREATED:20250305T175338Z
LAST-MODIFIED:20250305T175338Z
UID:4620-1742914800-1742918400@fareconnectevents.com
SUMMARY:Fareconnect Exclusive with Carnival Cruise Lines
DESCRIPTION:When: Mar 25\, 2025 03:00 PM Winnipeg \nRegister in advance for this meeting: \nhttps://us06web.zoom.us/meeting/register/SDxpqSLvSAOOVt37zbE4bw \nAfter registering\, you will receive a confirmation email containing information about joining the meeting.
URL:https://fareconnectevents.com/event/fareconnect-exclusive-with-carnival-cruise-lines/
CATEGORIES:Fareconnect Only Events,Supplier Webinar
ATTACH;FMTTYPE=image/png:https://fareconnectevents.com/wp-content/uploads/2024/01/2.png
END:VEVENT
BEGIN:VEVENT
DTSTART;TZID=America/Winnipeg:20250327T190000
DTEND;TZID=America/Winnipeg:20250327T200000
DTSTAMP:20260424T165819
CREATED:20250227T161608Z
LAST-MODIFIED:20250227T161828Z
UID:4462-1743102000-1743105600@fareconnectevents.com
SUMMARY:Fareconnect Open Mic Night
DESCRIPTION:Time: Mar 27\, 2025 07:00 PM Winnipeg\n\n\nRegister in advance for this meeting :\n\n\nhttps://us06web.zoom.us/meeting/register/pyh1XiSTRfOvxJ9bEGubdA\n\n\nAfter registering\, you will receive a confirmation email containing information about joining the meeting
URL:https://fareconnectevents.com/event/fareconnect-open-mic-night-9/
CATEGORIES:Fareconnect Only Events,Supplier Webinar
ATTACH;FMTTYPE=image/png:https://fareconnectevents.com/wp-content/uploads/2024/01/2.png
END:VEVENT
BEGIN:VEVENT
DTSTART;TZID=America/Winnipeg:20250329T100000
DTEND;TZID=America/Winnipeg:20250329T110000
DTSTAMP:20260424T165819
CREATED:20250318T192057Z
LAST-MODIFIED:20250318T192106Z
UID:4758-1743242400-1743246000@fareconnectevents.com
SUMMARY:Carnival Cruise Line Coffee Talks in Kamloops
DESCRIPTION:You’re Invited – Carnival Cruise Line Coffee Talks in  Kamloops \nDesigned for home-based advisors\, but open to all\, you are invited to an exclusive Java with Joel from Carnival Cruise Line! Whether you’re new to cruising or looking for a refresher\, this is your chance to discover everything you need to grow your sales\, plus get the latest updates from the world’s largest cruise line while enjoying a coffee and light breakfast. \n  \nWhat we’ll cover: \n\nCruise 101: Tips to boost sales and build group bookings.\nWhat’s New: The latest Carnival offerings and innovations – grab a 2025 brochure!\nWhy Carnival?: Uncover the myths vs the facts of choosing fun.\n\nKAMLOOPS: CLICK HERE TO RSVP \nDate: Saturday\, March 29th\nTime: 10:00AM – 11:00AM\nLocation: He Brew’s Ahava Coffee Inc – 210 Victoria St
URL:https://fareconnectevents.com/event/carnival-cruise-line-coffee-talks-in-kamloops/
LOCATION:: He Brew’s Ahava Coffee Inc\, 210 Victoria St\, Kamloops\, BC\, V2C 2A2\, Canada
CATEGORIES:Fareconnect Only Events
ATTACH;FMTTYPE=image/png:https://fareconnectevents.com/wp-content/uploads/2024/01/3.png
END:VEVENT
BEGIN:VEVENT
DTSTART;TZID=America/Winnipeg:20250403T130000
DTEND;TZID=America/Winnipeg:20250403T140000
DTSTAMP:20260424T165819
CREATED:20250305T191801Z
LAST-MODIFIED:20250305T191802Z
UID:4627-1743685200-1743688800@fareconnectevents.com
SUMMARY:Fareconnect Exclusive with Air Canada Vacations
DESCRIPTION:When: Apr 3\, 2025 01:00 PM Winnipeg \nRegister in advance for this meeting: \nhttps://us06web.zoom.us/meeting/register/xsRbe5chTSuvWEN8hYXF \nAfter registering\, you will receive a confirmation email containing information about joining the meeting.
URL:https://fareconnectevents.com/event/fareconnect-exclusive-with-air-canada-vacations-4/
CATEGORIES:Fareconnect Only Events,Supplier Webinar
ATTACH;FMTTYPE=image/png:https://fareconnectevents.com/wp-content/uploads/2024/01/2.png
END:VEVENT
BEGIN:VEVENT
DTSTART;TZID=America/Winnipeg:20250408T140000
DTEND;TZID=America/Winnipeg:20250408T150000
DTSTAMP:20260424T165819
CREATED:20250305T191935Z
LAST-MODIFIED:20250305T191936Z
UID:4629-1744120800-1744124400@fareconnectevents.com
SUMMARY:Fareconnect Exclusive with ClientLinq
DESCRIPTION:When: Apr 8\, 2025 02:00 PM Winnipeg \nRegister in advance for this meeting: \nhttps://us06web.zoom.us/meeting/register/tZYtcuivrz8jHdOZcK6WQol4yH4Y8ArkXAd_ \nAfter registering\, you will receive a confirmation email containing information about joining the meeting.
URL:https://fareconnectevents.com/event/fareconnect-exclusive-with-clientlinq/
CATEGORIES:Fareconnect Only Events,Supplier Webinar
ATTACH;FMTTYPE=image/png:https://fareconnectevents.com/wp-content/uploads/2024/01/2.png
END:VEVENT
BEGIN:VEVENT
DTSTART;TZID=America/Winnipeg:20250415T140000
DTEND;TZID=America/Winnipeg:20250415T150000
DTSTAMP:20260424T165819
CREATED:20250411T162207Z
LAST-MODIFIED:20250411T162208Z
UID:5135-1744725600-1744729200@fareconnectevents.com
SUMMARY:Fareconnect Exclusive with Transat
DESCRIPTION:Fareconnect Exclusive with Transat \nWhen: Apr 15\,2025 \nTime: 2:00pm Winnipeg Time \nRegister in advance for this meeting: \nhttps://us06web.zoom.us/meeting/register/MylQq6UDRwmO86NoruApxg \nAfter registering\, you will receive a confirmation email containing information about joining the meeting. \n 
URL:https://fareconnectevents.com/event/fareconnect-exclusive-with-transat/
CATEGORIES:Fareconnect Only Events,Supplier Webinar
ATTACH;FMTTYPE=image/png:https://fareconnectevents.com/wp-content/uploads/2024/01/2.png
END:VEVENT
BEGIN:VEVENT
DTSTART;TZID=America/Winnipeg:20250417T130000
DTEND;TZID=America/Winnipeg:20250417T140000
DTSTAMP:20260424T165819
CREATED:20250411T162707Z
LAST-MODIFIED:20250411T162708Z
UID:5143-1744894800-1744898400@fareconnectevents.com
SUMMARY:Fareconnect Exclusive with Sunwing
DESCRIPTION:Fareconnect Exclusive with Sunwing \nWhen: Apr 17\,2025 \nTime: 1:00pm Winnipeg Time \nRegister in advance for this meeting: \nhttps://us06web.zoom.us/meeting/register/7v3d5EvGSUa1Y2eF8pQ97A \nAfter registering\, you will receive a confirmation email containing information about joining the meeting.
URL:https://fareconnectevents.com/event/fareconnect-exclusive-with-sunwing/
CATEGORIES:Fareconnect Only Events,Supplier Webinar
ATTACH;FMTTYPE=image/png:https://fareconnectevents.com/wp-content/uploads/2024/01/2.png
END:VEVENT
BEGIN:VEVENT
DTSTART;TZID=America/Winnipeg:20250422T150000
DTEND;TZID=America/Winnipeg:20250422T160000
DTSTAMP:20260424T165819
CREATED:20250325T160642Z
LAST-MODIFIED:20250325T160643Z
UID:4870-1745334000-1745337600@fareconnectevents.com
SUMMARY:Fareconnect Exclusive with WestJet Vacations
DESCRIPTION:Fareconnect Exclusive with WestJet Vacations\n\n\nTime :Apr 22\, 2025 03:00 PM Winnipeg\n\n\nRegister in advance for this meeting :\n\n\nhttps://us06web.zoom.us/…/reg…/ExUGiQwbS8m8MKAKQn4EKg…\n\n\nAfter registering\, you will receive a confirmation email containing information about joining the meeting
URL:https://fareconnectevents.com/event/fareconnect-exclusive-with-westjet-vacations/
CATEGORIES:Fareconnect Only Events,Supplier Webinar
ATTACH;FMTTYPE=image/png:https://fareconnectevents.com/wp-content/uploads/2024/01/2.png
END:VEVENT
BEGIN:VEVENT
DTSTART;TZID=America/Winnipeg:20250424T130000
DTEND;TZID=America/Winnipeg:20250424T140000
DTSTAMP:20260424T165819
CREATED:20250411T162928Z
LAST-MODIFIED:20250411T162929Z
UID:5145-1745499600-1745503200@fareconnectevents.com
SUMMARY:Fareconnect Exclusive with Goway
DESCRIPTION:Fareconnect Exclusive with Goway \nWhen: Apr 24\,2025 \nTime: 1:00pm Winnipeg Time \nRegister in advance for this meeting: \nhttps://us06web.zoom.us/meeting/register/2RkBolNrSGqsfM_VzPzAXQ \nAfter registering\, you will receive a confirmation email containing information about joining the meeting.
URL:https://fareconnectevents.com/event/fareconnect-exclusive-with-goway-4/
CATEGORIES:Fareconnect Only Events,Supplier Webinar
ATTACH;FMTTYPE=image/png:https://fareconnectevents.com/wp-content/uploads/2024/01/2.png
END:VEVENT
BEGIN:VEVENT
DTSTART;TZID=America/Winnipeg:20250429T150000
DTEND;TZID=America/Winnipeg:20250429T160000
DTSTAMP:20260424T165819
CREATED:20250422T175217Z
LAST-MODIFIED:20250422T175218Z
UID:5322-1745938800-1745942400@fareconnectevents.com
SUMMARY:Fareconnect Exclusive with AmaWaterways
DESCRIPTION:You are invited to a Fareconnect Exclusive with AmaWaterways.\nWhen: Apr 29\, 2025 03:00 PM Winnipeg \nRegister in advance for this meeting:\nhttps://us06web.zoom.us/meeting/register/L0yE6DaWRoOQ_eMJtkRZkA \nAfter registering\, you will receive a confirmation email containing information about joining the meeting.
URL:https://fareconnectevents.com/event/fareconnect-exclusive-with-amawaterways/
CATEGORIES:Fareconnect Only Events,Supplier Webinar
ATTACH;FMTTYPE=image/png:https://fareconnectevents.com/wp-content/uploads/2024/01/2.png
END:VEVENT
BEGIN:VEVENT
DTSTART;TZID=America/Winnipeg:20250501T130000
DTEND;TZID=America/Winnipeg:20250501T140000
DTSTAMP:20260424T165819
CREATED:20250414T193148Z
LAST-MODIFIED:20250414T193149Z
UID:5204-1746104400-1746108000@fareconnectevents.com
SUMMARY:Fareconnect Exclusive with Innstant
DESCRIPTION:Fareconnect Exclusive with Innstant \nTime :May 01\, 2025 01:00 PM Winnipeg \nRegister in advance for this meeting : \nhttps://us06web.zoom.us/meeting/register/NbanV4x-RICzDXFxyYEXnw#/registration \nAfter registering\, you will receive a confirmation email containing information about joining the meeting
URL:https://fareconnectevents.com/event/fareconnect-exclusive-with-innstant-2/
CATEGORIES:Fareconnect Only Events,Supplier Webinar
ATTACH;FMTTYPE=image/png:https://fareconnectevents.com/wp-content/uploads/2024/01/2.png
END:VEVENT
BEGIN:VEVENT
DTSTART;TZID=America/Winnipeg:20250506T150000
DTEND;TZID=America/Winnipeg:20250506T160000
DTSTAMP:20260424T165819
CREATED:20250421T194858Z
LAST-MODIFIED:20250421T194900Z
UID:5310-1746543600-1746547200@fareconnectevents.com
SUMMARY:Fareconnect Exclusive with Bedsonline
DESCRIPTION:Fareconnect Exclusive with Bedsonline \nTime :May 06\, 2025 03:00 PM Winnipeg \nRegister in advance for this meeting : \nhttps://us06web.zoom.us/meeting/register/ZaGPsfa2RES8eI-JoW-u0g \nAfter registering\, you will receive a confirmation email containing information about joining the meetings
URL:https://fareconnectevents.com/event/fareconnect-exclusive-with-bedsonline/
CATEGORIES:Fareconnect Only Events,Supplier Webinar
ATTACH;FMTTYPE=image/png:https://fareconnectevents.com/wp-content/uploads/2024/01/2.png
END:VEVENT
BEGIN:VEVENT
DTSTART;TZID=America/Winnipeg:20250508T130000
DTEND;TZID=America/Winnipeg:20250508T140000
DTSTAMP:20260424T165819
CREATED:20250421T195439Z
LAST-MODIFIED:20250421T195440Z
UID:5312-1746709200-1746712800@fareconnectevents.com
SUMMARY:Fareconnect Exclusive With TravelBrands
DESCRIPTION:You are invited to a Fareconnect Exclusive with TravelBrands\n\n\nWhen: May 08\, 2025 01:00 PM Winnipeg Time.\n\n\nRegister in advance for this meeting:\n\n\nhttps://us06web.zoom.us/meeting/register/bkQgKTEpT_-5fGpHbDQwpw\n\n\nAfter registering\, you will receive a confirmation email containing information about joining the meeting.
URL:https://fareconnectevents.com/event/fareconnect-exclusive-with-travelbrands/
CATEGORIES:Fareconnect Only Events,Supplier Webinar
ATTACH;FMTTYPE=image/png:https://fareconnectevents.com/wp-content/uploads/2024/01/2.png
END:VEVENT
BEGIN:VEVENT
DTSTART;TZID=America/Winnipeg:20250513T150000
DTEND;TZID=America/Winnipeg:20250513T160000
DTSTAMP:20260424T165819
CREATED:20250429T160714Z
LAST-MODIFIED:20250429T160715Z
UID:5404-1747148400-1747152000@fareconnectevents.com
SUMMARY:Fareconnect Exclusive with Goway Groups
DESCRIPTION:You are invited to a Fareconnect Exclusive with Goway Groups.\n\n\nWhen: May 13\, 2025 03:00 PM Winnipeg Time.\n\n\nRegister in advance for this meeting:\n\n\nhttps://us06web.zoom.us/…/register/dSZz6z4tRSGizyfmXDdX-Q\n\n\nAfter registering\, you will receive a confirmation email containing information about joining the meeting.
URL:https://fareconnectevents.com/event/fareconnect-exclusive-with-goway-groups/
CATEGORIES:Fareconnect Only Events,Supplier Webinar
ATTACH;FMTTYPE=image/png:https://fareconnectevents.com/wp-content/uploads/2024/01/2.png
END:VEVENT
BEGIN:VEVENT
DTSTART;TZID=America/Winnipeg:20250515T130000
DTEND;TZID=America/Winnipeg:20250515T140000
DTSTAMP:20260424T165819
CREATED:20250421T164423Z
LAST-MODIFIED:20250421T165033Z
UID:5298-1747314000-1747317600@fareconnectevents.com
SUMMARY:Fareconnect Exclusive with Intrepid
DESCRIPTION:You are invited to a Fareconnect Exclusive with Intrepid\n\n\nWhen: May 15\, 2025 01:00 PM Winnipeg Time.\n\n\nRegister in advance for this meeting:\n\n\nhttps://us06web.zoom.us/…/register/uvVREidxRFOEa_jqKCKyKw\n\n\nAfter registering\, you will receive a confirmation email containing information about joining the meeting.
URL:https://fareconnectevents.com/event/fareconnect-exclusive-with-intrepid/
CATEGORIES:Fareconnect Only Events,Supplier Webinar
ATTACH;FMTTYPE=image/png:https://fareconnectevents.com/wp-content/uploads/2024/01/2.png
END:VEVENT
BEGIN:VEVENT
DTSTART;TZID=America/Winnipeg:20250520T150000
DTEND;TZID=America/Winnipeg:20250520T160000
DTSTAMP:20260424T165819
CREATED:20250505T205049Z
LAST-MODIFIED:20250505T205051Z
UID:5489-1747753200-1747756800@fareconnectevents.com
SUMMARY:Fareconnect Exclusive with Ensemble
DESCRIPTION:Fareconnect Exclusive with Ensemble\n\n\nTime :May 20\, 2025 03:00 PM Winnipeg\n\n\nRegister in advance for this meeting :\nhttps://us06web.zoom.us/meeting/register/1g02LL27TMOvHFrISu8dKQ\nAfter registering\, you will receive a confirmation email containing information about joining the meeting
URL:https://fareconnectevents.com/event/fareconnect-exclusive-with-ensemble/
CATEGORIES:Fareconnect Only Events,Supplier Webinar
ATTACH;FMTTYPE=image/png:https://fareconnectevents.com/wp-content/uploads/2024/01/2.png
END:VEVENT
BEGIN:VEVENT
DTSTART;TZID=America/Winnipeg:20250522T130000
DTEND;TZID=America/Winnipeg:20250522T140000
DTSTAMP:20260424T165819
CREATED:20250505T204822Z
LAST-MODIFIED:20250505T205231Z
UID:5484-1747918800-1747922400@fareconnectevents.com
SUMMARY:Fareconnect Exclusive with ADX - 101 & Back to Basics
DESCRIPTION:Fareconnect Exclusive with ADX – 101 & Back to Basics\n\n\nTime :May 22\, 2025 01:00 PM Winnipeg\n\n\nRegister in advance for this meeting :\nhttps://us06web.zoom.us/meeting/register/c5UB5VvISpuA_bjydlVZ6A\n\nAfter registering\, you will receive a confirmation email containing information about joining the meeting
URL:https://fareconnectevents.com/event/fareconnect-exclusive-with-adx-101-back-to-basics/
LOCATION:https://us06web.zoom.us/meeting/register/c5UB5VvISpuA_bjydlVZ6A
CATEGORIES:Fareconnect Only Events,Supplier Webinar
ATTACH;FMTTYPE=image/png:https://fareconnectevents.com/wp-content/uploads/2024/01/2.png
END:VEVENT
BEGIN:VEVENT
DTSTART;TZID=America/Winnipeg:20250527T150000
DTEND;TZID=America/Winnipeg:20250527T160000
DTSTAMP:20260424T165819
CREATED:20250516T151546Z
LAST-MODIFIED:20250516T151606Z
UID:5638-1748358000-1748361600@fareconnectevents.com
SUMMARY:Fareconnect Exclusive with Regent Seven Seas
DESCRIPTION:Fareconnect Exclusive with Regent Seven Seas \nTime :May 27\, 2025 03:00 PM Winnipeg \nRegister in advance for this meeting : \nhttps://us06web.zoom.us/meeting/register/x9AfHJOGSn2vqPn7Luzu7Q#/registration \nAfter registering\, you will receive a confirmation email containing information about joining the meeting
URL:https://fareconnectevents.com/event/fareconnect-exclusive-with-regent-seven-seas/
CATEGORIES:Fareconnect Only Events,Supplier Webinar
ATTACH;FMTTYPE=image/png:https://fareconnectevents.com/wp-content/uploads/2024/01/2.png
END:VEVENT
BEGIN:VEVENT
DTSTART;TZID=America/Winnipeg:20250529T190000
DTEND;TZID=America/Winnipeg:20250529T200000
DTSTAMP:20260424T165819
CREATED:20250506T170343Z
LAST-MODIFIED:20250506T170344Z
UID:5504-1748545200-1748548800@fareconnectevents.com
SUMMARY:Fareconnect Open Mic Night
DESCRIPTION:Fareconnect Open Mic Night\n\n\n\nTime :May 29\, 2025 07:00 PM Winnipeg\n\n\n\nRegister in advance for this meeting :\n\n\n\nhttps://us06web.zoom.us/…/reg…/i46KZzrdStW7BUsLje2lUA…\n\n\n\nAfter registering\, you will receive a confirmation email containing information about joining the meeting
URL:https://fareconnectevents.com/event/fareconnect-open-mic-night-11/
CATEGORIES:Fareconnect Only Events,Supplier Webinar
ATTACH;FMTTYPE=image/png:https://fareconnectevents.com/wp-content/uploads/2024/01/Open-Mic.png
END:VEVENT
BEGIN:VEVENT
DTSTART;TZID=America/Winnipeg:20250603T150000
DTEND;TZID=America/Winnipeg:20250603T160000
DTSTAMP:20260424T165819
CREATED:20250512T164708Z
LAST-MODIFIED:20250512T174505Z
UID:5584-1748962800-1748966400@fareconnectevents.com
SUMMARY:Fareconnect Exclusive with ADX - Hotels
DESCRIPTION:Fareconnect Exclusive with ADX – Hotels\n\n\nTime : June 3rd\, 2025 03:00 PM Winnipeg\n\n\nRegister in advance for this meeting :\n\n\nhttps://us06web.zoom.us/…/register/CnB_Sww_SgyhIyV8gj078w\n\n\nAfter registering\, you will receive a confirmation email containing information about joining the meeting
URL:https://fareconnectevents.com/event/fareconnect-exclusive-with-adx-hotels-2/
CATEGORIES:Fareconnect Only Events,Supplier Webinar
ATTACH;FMTTYPE=image/png:https://fareconnectevents.com/wp-content/uploads/2024/01/2.png
END:VEVENT
BEGIN:VEVENT
DTSTART;TZID=America/Winnipeg:20250605T130000
DTEND;TZID=America/Winnipeg:20250605T140000
DTSTAMP:20260424T165819
CREATED:20250520T183531Z
LAST-MODIFIED:20250520T183616Z
UID:5691-1749128400-1749132000@fareconnectevents.com
SUMMARY:Fareconnect Exclusive with 5Continents
DESCRIPTION:Fareconnect Exclusive with 5Continents \nTime : June 5th\, 2025 01:00 PM Winnipeg \nRegister in advance for this meeting : \nhttps://us06web.zoom.us/meeting/register/CYDYlPAXScqQ5EtbXSEmPw \nAfter registering\, you will receive a confirmation email containing information about joining the meeting
URL:https://fareconnectevents.com/event/fareconnect-exclusive-with-adx-hotels-3/
CATEGORIES:Fareconnect Only Events,Supplier Webinar
ATTACH;FMTTYPE=image/png:https://fareconnectevents.com/wp-content/uploads/2024/01/2.png
END:VEVENT
BEGIN:VEVENT
DTSTART;TZID=America/Winnipeg:20250610T150000
DTEND;TZID=America/Winnipeg:20250610T160000
DTSTAMP:20260424T165819
CREATED:20250604T180444Z
LAST-MODIFIED:20250604T191433Z
UID:5846-1749567600-1749571200@fareconnectevents.com
SUMMARY:Fareconnect Exclusive with Anderson Vacations
DESCRIPTION:Fareconnect Exclusive with Anderson Vacations \nTime : June 10th\, 2025 03:00 PM Winnipeg \nRegister in advance for this meeting : \nhttps://us06web.zoom.us/meeting/register/rMyvTz-zQKOwlEGmfQezmA \nAfter registering\, you will receive a confirmation email containing information about joining the meeting
URL:https://fareconnectevents.com/event/5846/
CATEGORIES:Fareconnect Only Events,Supplier Webinar
ATTACH;FMTTYPE=image/png:https://fareconnectevents.com/wp-content/uploads/2024/01/2.png
END:VEVENT
BEGIN:VEVENT
DTSTART;TZID=America/Winnipeg:20250612T130000
DTEND;TZID=America/Winnipeg:20250612T140000
DTSTAMP:20260424T165819
CREATED:20250604T180619Z
LAST-MODIFIED:20250604T180620Z
UID:5848-1749733200-1749736800@fareconnectevents.com
SUMMARY:Fareconnect Exclusive with Kensington Tours
DESCRIPTION:Fareconnect Exclusive with Kensington Tours\n\n\n\nTime : June 12th\, 2025 01:00 PM Winnipeg\n\n\n\nRegister in advance for this meeting :\n\n\nhttps://us06web.zoom.us/…/register/0Uz2nLLDQressN9BXNMglA\n\n\n\nAfter registering\, you will receive a confirmation email containing\ninformation about joining the meeting
URL:https://fareconnectevents.com/event/fareconnect-exclusive-with-kensington-tours-2/
CATEGORIES:Fareconnect Only Events,Supplier Webinar
ATTACH;FMTTYPE=image/png:https://fareconnectevents.com/wp-content/uploads/2024/01/2.png
END:VEVENT
BEGIN:VEVENT
DTSTART;TZID=America/Winnipeg:20250617T150000
DTEND;TZID=America/Winnipeg:20250617T160000
DTSTAMP:20260424T165819
CREATED:20250604T180807Z
LAST-MODIFIED:20250604T180819Z
UID:5850-1750172400-1750176000@fareconnectevents.com
SUMMARY:Fareconnect Exclusive with ADX - Hotels
DESCRIPTION:Fareconnect Exclusive with ADX – Hotels\n\n\n\nTime : June 17th\, 2025 03:00 PM Winnipeg\n\n\n\nRegister in advance for this meeting :\n\n\nhttps://us06web.zoom.us/…/register/KL3jtBYhSeuFm6X8mQiDww\n\n\n\nAfter registering\, you will receive a confirmation email containing information about joining the meeting
URL:https://fareconnectevents.com/event/fareconnect-exclusive-with-adx-hotels-4/
CATEGORIES:Fareconnect Only Events,Supplier Webinar
ATTACH;FMTTYPE=image/png:https://fareconnectevents.com/wp-content/uploads/2024/01/2.png
END:VEVENT
BEGIN:VEVENT
DTSTART;TZID=America/Winnipeg:20250619T130000
DTEND;TZID=America/Winnipeg:20250619T140000
DTSTAMP:20260424T165819
CREATED:20250604T180924Z
LAST-MODIFIED:20250604T180933Z
UID:5852-1750338000-1750341600@fareconnectevents.com
SUMMARY:Fareconnect Exclusive with WestJet Airlines
DESCRIPTION:Fareconnect Exclusive with WestJet Airlines\n\n\n\nTime : June 19th\, 2025 01:00 PM Winnipeg\n\n\n\nRegister in advance for this meeting :\n\n\nhttps://us06web.zoom.us/…/register/YjsENN4hT52afAwzvjASCA\n\n\n\nAfter registering\, you will receive a confirmation email containing information about joining the meeting
URL:https://fareconnectevents.com/event/fareconnect-exclusive-with-westjet-airlines/
CATEGORIES:Fareconnect Only Events,Supplier Webinar
ATTACH;FMTTYPE=image/png:https://fareconnectevents.com/wp-content/uploads/2024/01/2.png
END:VEVENT
BEGIN:VEVENT
DTSTART;TZID=America/Winnipeg:20250624T150000
DTEND;TZID=America/Winnipeg:20250624T160000
DTSTAMP:20260424T165819
CREATED:20250611T162017Z
LAST-MODIFIED:20250611T162018Z
UID:5932-1750777200-1750780800@fareconnectevents.com
SUMMARY:Fareconnect Exclusive with Air Canada Airlines
DESCRIPTION:Fareconnect Exclusive with Air Canada Airlines \nTime : June 24th\, 2025 03:00 PM Winnipeg \nRegister in advance for this meeting : \nhttps://us06web.zoom.us/meeting/register/wQ5bjuAwT2StpqAEznk0HQ \nAfter registering\, you will receive a confirmation email containing information about joining the meeting
URL:https://fareconnectevents.com/event/fareconnect-exclusive-with-air-canada-airlines/
CATEGORIES:Fareconnect Only Events,Supplier Webinar
ATTACH;FMTTYPE=image/png:https://fareconnectevents.com/wp-content/uploads/2024/01/2.png
END:VEVENT
BEGIN:VEVENT
DTSTART;TZID=America/Winnipeg:20250626T130000
DTEND;TZID=America/Winnipeg:20250626T140000
DTSTAMP:20260424T165819
CREATED:20250611T161914Z
LAST-MODIFIED:20250611T161915Z
UID:5929-1750942800-1750946400@fareconnectevents.com
SUMMARY:﻿Fareconnect Exclusive with ADX - AirConcierge
DESCRIPTION:Fareconnect Exclusive with ADX – AirConcierge \nTime : June 26th\, 2025 01:00 PM Winnipeg \nRegister in advance for this meeting : \nhttps://us06web.zoom.us/meeting/register/DnZeYSdZSpCu6dv0n20KdQ \nAfter registering\, you will receive a confirmation email containing information about joining the meeting
URL:https://fareconnectevents.com/event/fareconnect-exclusive-with-adx-airconcierge/
CATEGORIES:Fareconnect Only Events,Supplier Webinar
ATTACH;FMTTYPE=image/png:https://fareconnectevents.com/wp-content/uploads/2024/01/2.png
END:VEVENT
BEGIN:VEVENT
DTSTART;TZID=America/Winnipeg:20250626T180000
DTEND;TZID=America/Winnipeg:20250626T190000
DTSTAMP:20260424T165819
CREATED:20250604T181212Z
LAST-MODIFIED:20250611T162057Z
UID:5855-1750960800-1750964400@fareconnectevents.com
SUMMARY:Fareconnect Open Mic Night
DESCRIPTION:Fareconnect Open Mic Night\n\n\n\nTime :Jun 26\, 2025 07:00 PM Winnipeg\n\n\n\nRegister in advance for this meeting :\n\n\nhttps://us06web.zoom.us/…/register/z9dqELytS1SQ3Km3DaHTQA\n\n\n\nAfter registering\, you will receive a confirmation email containing information about joining the meeting
URL:https://fareconnectevents.com/event/fareconnect-open-mic-night-12/
CATEGORIES:Fareconnect Only Events,Supplier Webinar
ATTACH;FMTTYPE=image/png:https://fareconnectevents.com/wp-content/uploads/2024/01/Open-Mic.png
END:VEVENT
END:VCALENDAR