BEGIN:VCALENDAR
VERSION:2.0
PRODID:-//Fareconnect Events - ECPv6.15.20//NONSGML v1.0//EN
CALSCALE:GREGORIAN
METHOD:PUBLISH
X-ORIGINAL-URL:https://fareconnectevents.com
X-WR-CALDESC:Events for Fareconnect Events
REFRESH-INTERVAL;VALUE=DURATION:PT1H
X-Robots-Tag:noindex
X-PUBLISHED-TTL:PT1H
BEGIN:VTIMEZONE
TZID:America/Winnipeg
BEGIN:DAYLIGHT
TZOFFSETFROM:-0600
TZOFFSETTO:-0500
TZNAME:CDT
DTSTART:20250309T080000
END:DAYLIGHT
BEGIN:STANDARD
TZOFFSETFROM:-0500
TZOFFSETTO:-0600
TZNAME:CST
DTSTART:20251102T070000
END:STANDARD
BEGIN:DAYLIGHT
TZOFFSETFROM:-0600
TZOFFSETTO:-0500
TZNAME:CDT
DTSTART:20260308T080000
END:DAYLIGHT
BEGIN:STANDARD
TZOFFSETFROM:-0500
TZOFFSETTO:-0600
TZNAME:CST
DTSTART:20261101T070000
END:STANDARD
BEGIN:DAYLIGHT
TZOFFSETFROM:-0600
TZOFFSETTO:-0500
TZNAME:CDT
DTSTART:20270314T080000
END:DAYLIGHT
BEGIN:STANDARD
TZOFFSETFROM:-0500
TZOFFSETTO:-0600
TZNAME:CST
DTSTART:20271107T070000
END:STANDARD
END:VTIMEZONE
BEGIN:VEVENT
DTSTART;TZID=America/Winnipeg:20260428T150000
DTEND;TZID=America/Winnipeg:20260428T160000
DTSTAMP:20260423T102418
CREATED:20260409T162053Z
LAST-MODIFIED:20260409T162054Z
UID:9360-1777388400-1777392000@fareconnectevents.com
SUMMARY:Fareconnect Exclusive with WestJet Vacations
DESCRIPTION:You are invited to a Fareconnect Exclusive with WestJet Vacations\nWhen: Apr 28\, 2026 03:00 PM Winnipeg \nRegister in advance for this meeting:\nhttps://us06web.zoom.us/meeting/register/uo0RlUvNT2yBiGPU25OjHQ \nAfter registering\, you will receive a confirmation email containing information about joining the meeting.
URL:https://fareconnectevents.com/event/fareconnect-exclusive-with-westjet-vacations-3/
CATEGORIES:Fareconnect Only Events,Supplier Webinar
ATTACH;FMTTYPE=image/jpeg:https://fareconnectevents.com/wp-content/uploads/2025/07/Screenshot_18-7-2025_104546_fareconnectevents.com_.jpeg
END:VEVENT
BEGIN:VEVENT
DTSTART;TZID=America/Winnipeg:20260430T130000
DTEND;TZID=America/Winnipeg:20260430T140000
DTSTAMP:20260423T102418
CREATED:20260409T162218Z
LAST-MODIFIED:20260409T162219Z
UID:9362-1777554000-1777557600@fareconnectevents.com
SUMMARY:Fareconnect Exclusive with Adventure Canada
DESCRIPTION:You are invited to a Fareconnect Exclusive with Adventure Canada\nWhen: Apr 30\, 2026 01:00 PM Winnipeg \nRegister in advance for this meeting:\nhttps://us06web.zoom.us/meeting/register/QGAyZYYzTIGGQ4jJZ928QQ \nAfter registering\, you will receive a confirmation email containing information about joining the meeting.
URL:https://fareconnectevents.com/event/fareconnect-exclusive-with-adventure-canada-2/
CATEGORIES:Fareconnect Only Events,Supplier Webinar
ATTACH;FMTTYPE=image/jpeg:https://fareconnectevents.com/wp-content/uploads/2025/07/Screenshot_18-7-2025_104546_fareconnectevents.com_.jpeg
END:VEVENT
BEGIN:VEVENT
DTSTART;TZID=America/Winnipeg:20260430T190000
DTEND;TZID=America/Winnipeg:20260430T200000
DTSTAMP:20260423T102418
CREATED:20260409T162420Z
LAST-MODIFIED:20260409T162430Z
UID:9364-1777575600-1777579200@fareconnectevents.com
SUMMARY:Fareconnect Open Mic Night
DESCRIPTION:You are invited to a Fareconnect Open Mic Night \nRegister in advance for this meeting:\nhttps://us06web.zoom.us/meeting/register/vLo-Mov9TuWxCD1V4eSRJw \nAfter registering\, you will receive a confirmation email containing information about joining the meeting.
URL:https://fareconnectevents.com/event/fareconnect-open-mic-night-17/
CATEGORIES:Fareconnect Only Events,Supplier Webinar
END:VEVENT
BEGIN:VEVENT
DTSTART;TZID=America/Winnipeg:20261015T140000
DTEND;TZID=America/Winnipeg:20261018T110000
DTSTAMP:20260423T102418
CREATED:20260226T211201Z
LAST-MODIFIED:20260306T190452Z
UID:9001-1792072800-1792321200@fareconnectevents.com
SUMMARY:Fareconnect Conference 2026
DESCRIPTION:Fareconnect Conference 2026  \nOctober 15–18\, 2026  \n Sandman Signature Winnipeg Airport Hotel & Suites\n1760 Sargent Ave\, Winnipeg\, MB R3H 0C7  \nWe are excited to welcome you to the Fareconnect Conference 2026 — four days of connection\, education\, supplier engagement\, and celebration with your Fareconnect community.  \nTentative Schedule  \nOctober 15 (Starting at 2PM CT)\nAfternoon Business Development Session\nEvening Meet & Greet  \nOctober 16\nMorning & Afternoon Training Sessions\nEvening Fun Night  \nOctober 17\nMorning & Afternoon Training Sessions\nEvening Gala Celebration  \nOctober 18\nDeparture Day  \n  \nConference Registration Fees  \nEarly Bird Rate: $100 + GST (until June 30\, 2026)\nAgents who register at the Early Bird rate will be entered to win one of two $250 WestJet gift cards.  \nStandard Rate: $150 + GST (as of July 1\, 2026)  \nPlease note: The conference fee is a flat rate. There are no discounted rates for partial attendance.  \nGala Dinner Guest: $75 + GST\nGuest fees will be charged at the time you submit payment for your conference registration. \nHotel Information  \nGroup Rate: $199.00 per night\nAvailable October 14–19\, 2026\nUse this link to book your stay: \nhttps://reservations.sandmanhotels.com/9879385?&groupID=5140317#/\n  \nThe hotel offers a complimentary airport shuttle.\nCall 204-421-7263 ext. 0 to arrange pickup.  \nPlease pre-book your departure shuttles the night before. \nFlights \nWestJet Airlines Discount Code \n\nEvent in Canada:    \n\n5% off Econo* and 10% off EconoFlex and Premium base fares for travel within Canada and 2% off Econo*\, 5% off EconoFlex and 10% off Premium base fares for travel between Canada and US \nNo discount will apply to Ultra Basic or Business class bookings. To take advantage of this offer\, you will need the discount code listed. Please visit WestJet Direct to make a booking online\n*or copy and paste this link into your browser.\nhttps://westjetagentdirect.westjet.com/login-agent.html \nApplicable Rules \n\nThe booking is to be made to the following city: Winnipeg\nThe travel period begins: 10/7/2026\nThe travel period ends: 10/26/2026\n\n\n\n\nCoupon Code: Guest web/Travel Agent web\n5O6L7ZW\n\n\n\n Confirmed Suppliers (More to Come)  \n\nVirgin Voyages \n\n\nRiverside Luxury Cruises \n\n\nSilversea \n\n\nCollette \n\n\nBedsonline \n\n\nGoway Travel \n\n\nPrincess Cruises \n\n…with more to be announced.  \nWe look forward to bringing our Fareconnect community together in Winnipeg to grow your business\, strengthen supplier partnerships\, and celebrate your success.  \nPlease complete the registration form to reserve your place at the conference. \nOnce your form has been submitted\, you will receive a secure payment link by email to remit your conference fee. Your registration will be confirmed once full payment has been received. \nTo access the registration form\, visit the Fareconnect Resource Site\, select Forms from the menu\, and click Fareconnect Conference 2026. \nhttp://www.fareconnectagent.com \n*Registration closes September 15\, 2026  \nWe look forward to welcoming you once your spot is secured. 
URL:https://fareconnectevents.com/event/fareconnect-conference-2026/
LOCATION:Sandman Signature Winnipeg Airport Hotel & Suites\, 1750 Sargent Ave\, Winnipeg\, MB\, R3H 0C7\, Canada
CATEGORIES:Fareconnect Only Events,Supplier (in person) Event
ATTACH;FMTTYPE=image/jpeg:https://fareconnectevents.com/wp-content/uploads/2026/02/c168df66-1a04-4db4-8c80-33557a66cb2d.jpg
END:VEVENT
END:VCALENDAR