BEGIN:VCALENDAR
VERSION:2.0
PRODID:-//Fareconnect Events - ECPv6.15.20//NONSGML v1.0//EN
CALSCALE:GREGORIAN
METHOD:PUBLISH
X-WR-CALNAME:Fareconnect Events
X-ORIGINAL-URL:https://fareconnectevents.com
X-WR-CALDESC:Events for Fareconnect Events
REFRESH-INTERVAL;VALUE=DURATION:PT1H
X-Robots-Tag:noindex
X-PUBLISHED-TTL:PT1H
BEGIN:VTIMEZONE
TZID:America/Winnipeg
BEGIN:DAYLIGHT
TZOFFSETFROM:-0600
TZOFFSETTO:-0500
TZNAME:CDT
DTSTART:20250309T080000
END:DAYLIGHT
BEGIN:STANDARD
TZOFFSETFROM:-0500
TZOFFSETTO:-0600
TZNAME:CST
DTSTART:20251102T070000
END:STANDARD
BEGIN:DAYLIGHT
TZOFFSETFROM:-0600
TZOFFSETTO:-0500
TZNAME:CDT
DTSTART:20260308T080000
END:DAYLIGHT
BEGIN:STANDARD
TZOFFSETFROM:-0500
TZOFFSETTO:-0600
TZNAME:CST
DTSTART:20261101T070000
END:STANDARD
BEGIN:DAYLIGHT
TZOFFSETFROM:-0600
TZOFFSETTO:-0500
TZNAME:CDT
DTSTART:20270314T080000
END:DAYLIGHT
BEGIN:STANDARD
TZOFFSETFROM:-0500
TZOFFSETTO:-0600
TZNAME:CST
DTSTART:20271107T070000
END:STANDARD
END:VTIMEZONE
BEGIN:VEVENT
DTSTART;TZID=America/Winnipeg:20260113T150000
DTEND;TZID=America/Winnipeg:20260113T160000
DTSTAMP:20260423T170459
CREATED:20260102T204337Z
LAST-MODIFIED:20260102T204337Z
UID:8573-1768316400-1768320000@fareconnectevents.com
SUMMARY:Fareconnect Exclusive with G Adventures
DESCRIPTION:Fareconnect Exclusive with G Adventures \nWhen: Jan 13\, 2026 03:00 PM Winnipeg \nRegister in advance for this meeting:\nhttps://us06web.zoom.us/meeting/register/bAnLYUMsRwKboiko_YRMLQ \nAfter registering\, you will receive a confirmation email containing information about joining the meeting.
URL:https://fareconnectevents.com/event/fareconnect-exclusive-with-g-adventures-2/
CATEGORIES:Fareconnect Only Events,Supplier Webinar
ATTACH;FMTTYPE=image/jpeg:https://fareconnectevents.com/wp-content/uploads/2025/07/Screenshot_18-7-2025_104546_fareconnectevents.com_.jpeg
END:VEVENT
BEGIN:VEVENT
DTSTART;TZID=America/Winnipeg:20260115T130000
DTEND;TZID=America/Winnipeg:20260115T140000
DTSTAMP:20260423T170459
CREATED:20260102T204511Z
LAST-MODIFIED:20260102T204512Z
UID:8575-1768482000-1768485600@fareconnectevents.com
SUMMARY:Fareconnect Exclusive with AmaWaterways
DESCRIPTION:Fareconnect Exclusive with AmaWaterways \nWhen: Jan 15\, 2026 01:00 PM Winnipeg \nRegister in advance for this meeting:\nhttps://us06web.zoom.us/meeting/register/VRX4k4F8RFGr94ZO6uMY7w \nAfter registering\, you will receive a confirmation email containing information about joining the meeting.
URL:https://fareconnectevents.com/event/fareconnect-exclusive-with-amawaterways-2/
CATEGORIES:Fareconnect Only Events,Supplier Webinar
END:VEVENT
BEGIN:VEVENT
DTSTART;TZID=America/Winnipeg:20260120T150000
DTEND;TZID=America/Winnipeg:20260120T160000
DTSTAMP:20260423T170459
CREATED:20251205T173247Z
LAST-MODIFIED:20251209T161629Z
UID:8313-1768921200-1768924800@fareconnectevents.com
SUMMARY:Fareconnect Exclusive with Riverside Luxury Cruises
DESCRIPTION:When: Jan  20\, 2026 03:00 PM Winnipeg \nRegister in advance for this meeting:\nhttps://us06web.zoom.us/meeting/register/OoIG0Y5rSbSPO4pEFjJxkQ \nAfter registering\, you will receive a confirmation email containing information about joining the meeting.
URL:https://fareconnectevents.com/event/fareconnect-exclusive-with-riverside-luxury-cruises/
CATEGORIES:Fareconnect Only Events,Supplier Webinar
ATTACH;FMTTYPE=image/jpeg:https://fareconnectevents.com/wp-content/uploads/2025/07/Screenshot_18-7-2025_104546_fareconnectevents.com_.jpeg
END:VEVENT
BEGIN:VEVENT
DTSTART;TZID=America/Winnipeg:20260122T130000
DTEND;TZID=America/Winnipeg:20260122T140000
DTSTAMP:20260423T170459
CREATED:20260112T223105Z
LAST-MODIFIED:20260112T223141Z
UID:8614-1769086800-1769090400@fareconnectevents.com
SUMMARY:Fareconnect Exclusive with El Cid Resorts.
DESCRIPTION:You are invited to a Fareconnect Exclusive with El Cid Resorts.\nThose attending the live session will be entered into a draw for a 3 night stay and the El Cid Castilla Beach. \nWhen: Jan 22\, 2026 01:00 PM Winnipeg \nRegister in advance for this meeting: \n[https://us06web.zoom.us/meeting/register/0JWLJTFESIqHm2GIY-VVjA] \nAfter registering\, you will receive a confirmation email containing information about joining the meeting.
URL:https://fareconnectevents.com/event/you-are-invited-to-a-fareconnect-exclusive-with-el-cid-resorts/
CATEGORIES:Fareconnect Only Events,Supplier Webinar
ATTACH;FMTTYPE=image/jpeg:https://fareconnectevents.com/wp-content/uploads/2025/07/Screenshot_18-7-2025_104546_fareconnectevents.com_.jpeg
END:VEVENT
BEGIN:VEVENT
DTSTART;TZID=America/Winnipeg:20260127T150000
DTEND;TZID=America/Winnipeg:20260127T160000
DTSTAMP:20260423T170459
CREATED:20260116T191852Z
LAST-MODIFIED:20260116T191853Z
UID:8650-1769526000-1769529600@fareconnectevents.com
SUMMARY:Fareconnect Exclusive with Manulife - Adapting to Change.
DESCRIPTION:You are invited to a Fareconnect Exclusive with Manulife – Adapting to Change. \nWhen: Jan 27\, 2026 03:00 PM Winnipeg \nRegister in advance for this meeting:\nhttps://us06web.zoom.us/meeting/register/tsQjPWgpRMmOvgx7VmXIWA \nAfter registering\, you will receive a confirmation email containing information about joining the meeting.
URL:https://fareconnectevents.com/event/fareconnect-exclusive-with-manulife-adapting-to-change/
CATEGORIES:Fareconnect Only Events,Supplier Webinar
ATTACH;FMTTYPE=image/jpeg:https://fareconnectevents.com/wp-content/uploads/2025/07/Screenshot_18-7-2025_104546_fareconnectevents.com_.jpeg
END:VEVENT
BEGIN:VEVENT
DTSTART;TZID=America/Winnipeg:20260129T080000
DTEND;TZID=America/Winnipeg:20260204T170000
DTSTAMP:20260423T170459
CREATED:20260129T185432Z
LAST-MODIFIED:20260129T190350Z
UID:8803-1769673600-1770224400@fareconnectevents.com
SUMMARY:Exclusive Invite from Hyatt's Inclusive Collection Event:
DESCRIPTION:  Exclusive Invite from Hyatt’s Inclusive Collection Event: \n\n\n\nYou’re invited to attend the Destination Wedding Road Show with Hyatt Inclusive Collection—an exclusive opportunity designed for partners who want to grow their destination wedding business. \nWhy you shouldn’t miss this event: \n💍 Meet 20 Wedding & Sales Managers\nEngage in a speed-dating–style networking session with wedding and sales managers travelling exclusively from Mexico and the Caribbean. Build direct relationships\, ask questions\, and gain insider knowledge to better serve your wedding clients. \n🌴 Expert Insights from Hyatt Inclusive Collection\nFollowing the networking session\, enjoy a focused presentation led by our Groups BDM Specialist\, highlighting the latest updates\, trends\, and opportunities within the Hyatt Inclusive Collection portfolio. \n🍽️ Meal Included \nThis road show is designed to be high-impact\, informative\, and relationship-driven—making it a must-attend event for anyone serious about destination weddings. \nWe look forward to welcoming you for an evening of connection\, insight\, and inspiration. \nToronto Lunch Event – Monday\, February 9\, 11:00am-2:30pm\nThe Vue & Clubhouse Event Space – 195 Galaxy Blvd\, Etobicoke\n\n\n\n\n\n\n\n\n\n\n\n\n\n\n\n\n\n\nTORONTO RSVP\n\n\n\n\n\n\n\n\n\n\nVancouver Dinner Event – Tuesday\, February 10\, 5:30pm-9:00pm\nMayfair Lakes Golf & Country Club – 5460 Number 7 Rd\, Richmond\n\n\n\n\n\n\n\n\n\n\nVANCOUVER RSVP\n\n\n\n\n\n\n\n\n\n\nSaskatoon Dinner Event – Wednesday\, February 11\, 5:30pm-9:00pm\nDelta Hotels Bess borough – 601 Spadina Crescent East\, Saskatoon\n\n\n\n\n\n\n\n\n\n\nSASKATOON RSVP\n\n\n\n\n\n\n\n\n\n\nCalgary Dinner Event – Thursday\, February 12\, 5:30pm-9:00pm\nThe Hamptons Golf Club – 69 Hamptons Dr NW\, Calgary\, Alberta\n\n\n\n\n\n\n\n\n\n\nCALGARY RSVP\n\n\n\n\n\n\n\n\n\n\n\n\n\n\n\n\n\n\n  \nEdmonton Dinner Event – Friday\, February 13\, 2:30pm-6:00pm \nRoyal Glenora Club – 11160 River Valley Rd NW\, Edmonton\n\n\n\n\n\n\n\n\n\n\n\n\n\n\n\n\n\n\nEDMONTON RSVP\n\n\n\n\n\n\n\n\n\n\n  \n\n\n\n\n\n\n\n          Deadline to Register – Wednesday\, February 4th  \nLimited space available. Prompt RSVP appreciated.
URL:https://fareconnectevents.com/event/exclusive-invite-from-hyatts-inclusive-collection-event/
CATEGORIES:Fareconnect Only Events,Supplier (in person) Event
END:VEVENT
BEGIN:VEVENT
DTSTART;TZID=America/Winnipeg:20260129T130000
DTEND;TZID=America/Winnipeg:20260129T140000
DTSTAMP:20260423T170459
CREATED:20260116T191710Z
LAST-MODIFIED:20260116T191710Z
UID:8646-1769691600-1769695200@fareconnectevents.com
SUMMARY:Fareconnect Exclusive with Viking Cruises
DESCRIPTION:You are invited to a Fareconnect Exclusive with Viking Cruises.\nWhen: Jan 29\, 2026 01:00 PM Winnipeg \nRegister in advance for this meeting:\nhttps://us06web.zoom.us/meeting/register/0GxQOjq8QmStASYITs1Q0Q \nAfter registering\, you will receive a confirmation email containing information about joining the meeting.
URL:https://fareconnectevents.com/event/fareconnect-exclusive-with-viking-cruises/
CATEGORIES:Fareconnect Only Events,Supplier Webinar
END:VEVENT
BEGIN:VEVENT
DTSTART;TZID=America/Winnipeg:20260129T190000
DTEND;TZID=America/Winnipeg:20260129T200000
DTSTAMP:20260423T170459
CREATED:20251205T173557Z
LAST-MODIFIED:20251205T173649Z
UID:8319-1769713200-1769716800@fareconnectevents.com
SUMMARY:Fareconnect Open Mic Night
DESCRIPTION:When: Jan 29\, 2026 07:00 PM Winnipeg \nRegister in advance for this meeting:\nhttps://us06web.zoom.us/meeting/register/VfpspQQsTfWsi2o_73TVJQ \nAfter registering\, you will receive a confirmation email containing information about joining the meeting.
URL:https://fareconnectevents.com/event/fareconnect-open-mic-night-15/
CATEGORIES:Fareconnect Only Events,Supplier Webinar
ATTACH;FMTTYPE=image/jpeg:https://fareconnectevents.com/wp-content/uploads/2025/07/Screenshot_18-7-2025_104546_fareconnectevents.com_.jpeg
END:VEVENT
END:VCALENDAR