BEGIN:VCALENDAR
VERSION:2.0
PRODID:-//Fareconnect Events - ECPv6.15.20//NONSGML v1.0//EN
CALSCALE:GREGORIAN
METHOD:PUBLISH
X-WR-CALNAME:Fareconnect Events
X-ORIGINAL-URL:https://fareconnectevents.com
X-WR-CALDESC:Events for Fareconnect Events
REFRESH-INTERVAL;VALUE=DURATION:PT1H
X-Robots-Tag:noindex
X-PUBLISHED-TTL:PT1H
BEGIN:VTIMEZONE
TZID:America/Winnipeg
BEGIN:DAYLIGHT
TZOFFSETFROM:-0600
TZOFFSETTO:-0500
TZNAME:CDT
DTSTART:20240310T080000
END:DAYLIGHT
BEGIN:STANDARD
TZOFFSETFROM:-0500
TZOFFSETTO:-0600
TZNAME:CST
DTSTART:20241103T070000
END:STANDARD
BEGIN:DAYLIGHT
TZOFFSETFROM:-0600
TZOFFSETTO:-0500
TZNAME:CDT
DTSTART:20250309T080000
END:DAYLIGHT
BEGIN:STANDARD
TZOFFSETFROM:-0500
TZOFFSETTO:-0600
TZNAME:CST
DTSTART:20251102T070000
END:STANDARD
BEGIN:DAYLIGHT
TZOFFSETFROM:-0600
TZOFFSETTO:-0500
TZNAME:CDT
DTSTART:20260308T080000
END:DAYLIGHT
BEGIN:STANDARD
TZOFFSETFROM:-0500
TZOFFSETTO:-0600
TZNAME:CST
DTSTART:20261101T070000
END:STANDARD
END:VTIMEZONE
BEGIN:VEVENT
DTSTART;TZID=America/Winnipeg:20250403T130000
DTEND;TZID=America/Winnipeg:20250403T140000
DTSTAMP:20260424T062339
CREATED:20250305T191801Z
LAST-MODIFIED:20250305T191802Z
UID:4627-1743685200-1743688800@fareconnectevents.com
SUMMARY:Fareconnect Exclusive with Air Canada Vacations
DESCRIPTION:When: Apr 3\, 2025 01:00 PM Winnipeg \nRegister in advance for this meeting: \nhttps://us06web.zoom.us/meeting/register/xsRbe5chTSuvWEN8hYXF \nAfter registering\, you will receive a confirmation email containing information about joining the meeting.
URL:https://fareconnectevents.com/event/fareconnect-exclusive-with-air-canada-vacations-4/
CATEGORIES:Fareconnect Only Events,Supplier Webinar
ATTACH;FMTTYPE=image/png:https://fareconnectevents.com/wp-content/uploads/2024/01/2.png
END:VEVENT
BEGIN:VEVENT
DTSTART;TZID=America/Winnipeg:20250408T140000
DTEND;TZID=America/Winnipeg:20250408T150000
DTSTAMP:20260424T062339
CREATED:20250305T191935Z
LAST-MODIFIED:20250305T191936Z
UID:4629-1744120800-1744124400@fareconnectevents.com
SUMMARY:Fareconnect Exclusive with ClientLinq
DESCRIPTION:When: Apr 8\, 2025 02:00 PM Winnipeg \nRegister in advance for this meeting: \nhttps://us06web.zoom.us/meeting/register/tZYtcuivrz8jHdOZcK6WQol4yH4Y8ArkXAd_ \nAfter registering\, you will receive a confirmation email containing information about joining the meeting.
URL:https://fareconnectevents.com/event/fareconnect-exclusive-with-clientlinq/
CATEGORIES:Fareconnect Only Events,Supplier Webinar
ATTACH;FMTTYPE=image/png:https://fareconnectevents.com/wp-content/uploads/2024/01/2.png
END:VEVENT
BEGIN:VEVENT
DTSTART;TZID=America/Winnipeg:20250415T140000
DTEND;TZID=America/Winnipeg:20250415T150000
DTSTAMP:20260424T062339
CREATED:20250411T162207Z
LAST-MODIFIED:20250411T162208Z
UID:5135-1744725600-1744729200@fareconnectevents.com
SUMMARY:Fareconnect Exclusive with Transat
DESCRIPTION:Fareconnect Exclusive with Transat \nWhen: Apr 15\,2025 \nTime: 2:00pm Winnipeg Time \nRegister in advance for this meeting: \nhttps://us06web.zoom.us/meeting/register/MylQq6UDRwmO86NoruApxg \nAfter registering\, you will receive a confirmation email containing information about joining the meeting. \n 
URL:https://fareconnectevents.com/event/fareconnect-exclusive-with-transat/
CATEGORIES:Fareconnect Only Events,Supplier Webinar
ATTACH;FMTTYPE=image/png:https://fareconnectevents.com/wp-content/uploads/2024/01/2.png
END:VEVENT
BEGIN:VEVENT
DTSTART;TZID=America/Winnipeg:20250417T130000
DTEND;TZID=America/Winnipeg:20250417T140000
DTSTAMP:20260424T062339
CREATED:20250411T162707Z
LAST-MODIFIED:20250411T162708Z
UID:5143-1744894800-1744898400@fareconnectevents.com
SUMMARY:Fareconnect Exclusive with Sunwing
DESCRIPTION:Fareconnect Exclusive with Sunwing \nWhen: Apr 17\,2025 \nTime: 1:00pm Winnipeg Time \nRegister in advance for this meeting: \nhttps://us06web.zoom.us/meeting/register/7v3d5EvGSUa1Y2eF8pQ97A \nAfter registering\, you will receive a confirmation email containing information about joining the meeting.
URL:https://fareconnectevents.com/event/fareconnect-exclusive-with-sunwing/
CATEGORIES:Fareconnect Only Events,Supplier Webinar
ATTACH;FMTTYPE=image/png:https://fareconnectevents.com/wp-content/uploads/2024/01/2.png
END:VEVENT
BEGIN:VEVENT
DTSTART;TZID=America/Winnipeg:20250422T150000
DTEND;TZID=America/Winnipeg:20250422T160000
DTSTAMP:20260424T062339
CREATED:20250325T160642Z
LAST-MODIFIED:20250325T160643Z
UID:4870-1745334000-1745337600@fareconnectevents.com
SUMMARY:Fareconnect Exclusive with WestJet Vacations
DESCRIPTION:Fareconnect Exclusive with WestJet Vacations\n\n\nTime :Apr 22\, 2025 03:00 PM Winnipeg\n\n\nRegister in advance for this meeting :\n\n\nhttps://us06web.zoom.us/…/reg…/ExUGiQwbS8m8MKAKQn4EKg…\n\n\nAfter registering\, you will receive a confirmation email containing information about joining the meeting
URL:https://fareconnectevents.com/event/fareconnect-exclusive-with-westjet-vacations/
CATEGORIES:Fareconnect Only Events,Supplier Webinar
ATTACH;FMTTYPE=image/png:https://fareconnectevents.com/wp-content/uploads/2024/01/2.png
END:VEVENT
BEGIN:VEVENT
DTSTART;TZID=America/Winnipeg:20250424T130000
DTEND;TZID=America/Winnipeg:20250424T140000
DTSTAMP:20260424T062339
CREATED:20250411T162928Z
LAST-MODIFIED:20250411T162929Z
UID:5145-1745499600-1745503200@fareconnectevents.com
SUMMARY:Fareconnect Exclusive with Goway
DESCRIPTION:Fareconnect Exclusive with Goway \nWhen: Apr 24\,2025 \nTime: 1:00pm Winnipeg Time \nRegister in advance for this meeting: \nhttps://us06web.zoom.us/meeting/register/2RkBolNrSGqsfM_VzPzAXQ \nAfter registering\, you will receive a confirmation email containing information about joining the meeting.
URL:https://fareconnectevents.com/event/fareconnect-exclusive-with-goway-4/
CATEGORIES:Fareconnect Only Events,Supplier Webinar
ATTACH;FMTTYPE=image/png:https://fareconnectevents.com/wp-content/uploads/2024/01/2.png
END:VEVENT
BEGIN:VEVENT
DTSTART;TZID=America/Winnipeg:20250429T150000
DTEND;TZID=America/Winnipeg:20250429T160000
DTSTAMP:20260424T062339
CREATED:20250422T175217Z
LAST-MODIFIED:20250422T175218Z
UID:5322-1745938800-1745942400@fareconnectevents.com
SUMMARY:Fareconnect Exclusive with AmaWaterways
DESCRIPTION:You are invited to a Fareconnect Exclusive with AmaWaterways.\nWhen: Apr 29\, 2025 03:00 PM Winnipeg \nRegister in advance for this meeting:\nhttps://us06web.zoom.us/meeting/register/L0yE6DaWRoOQ_eMJtkRZkA \nAfter registering\, you will receive a confirmation email containing information about joining the meeting.
URL:https://fareconnectevents.com/event/fareconnect-exclusive-with-amawaterways/
CATEGORIES:Fareconnect Only Events,Supplier Webinar
ATTACH;FMTTYPE=image/png:https://fareconnectevents.com/wp-content/uploads/2024/01/2.png
END:VEVENT
END:VCALENDAR