BEGIN:VCALENDAR
VERSION:2.0
PRODID:-//Fareconnect Events - ECPv6.15.20//NONSGML v1.0//EN
CALSCALE:GREGORIAN
METHOD:PUBLISH
X-WR-CALNAME:Fareconnect Events
X-ORIGINAL-URL:https://fareconnectevents.com
X-WR-CALDESC:Events for Fareconnect Events
REFRESH-INTERVAL;VALUE=DURATION:PT1H
X-Robots-Tag:noindex
X-PUBLISHED-TTL:PT1H
BEGIN:VTIMEZONE
TZID:America/Winnipeg
BEGIN:DAYLIGHT
TZOFFSETFROM:-0600
TZOFFSETTO:-0500
TZNAME:CDT
DTSTART:20240310T080000
END:DAYLIGHT
BEGIN:STANDARD
TZOFFSETFROM:-0500
TZOFFSETTO:-0600
TZNAME:CST
DTSTART:20241103T070000
END:STANDARD
BEGIN:DAYLIGHT
TZOFFSETFROM:-0600
TZOFFSETTO:-0500
TZNAME:CDT
DTSTART:20250309T080000
END:DAYLIGHT
BEGIN:STANDARD
TZOFFSETFROM:-0500
TZOFFSETTO:-0600
TZNAME:CST
DTSTART:20251102T070000
END:STANDARD
BEGIN:DAYLIGHT
TZOFFSETFROM:-0600
TZOFFSETTO:-0500
TZNAME:CDT
DTSTART:20260308T080000
END:DAYLIGHT
BEGIN:STANDARD
TZOFFSETFROM:-0500
TZOFFSETTO:-0600
TZNAME:CST
DTSTART:20261101T070000
END:STANDARD
END:VTIMEZONE
BEGIN:VEVENT
DTSTART;TZID=America/Winnipeg:20250506T000000
DTEND;TZID=America/Winnipeg:20250511T235959
DTSTAMP:20260424T113407
CREATED:20250228T163106Z
LAST-MODIFIED:20250228T163522Z
UID:4490-1746489600-1747007999@fareconnectevents.com
SUMMARY:Carnival Firenze FAM
DESCRIPTION:We are hosting a dedicated Seminar At Sea cruise\, presented by the Carnival Independent Advisor Team. \nJoin us for a special 5-day Baja California cruise on Carnival Firenze from May 6 -11\, 2025. We will host seminars during the week in the morning only on sea days. The sailing will be yours to enjoy as an in-person learning experience! \nThere are only 25 cabins available at this special price so if you’re interested in attending\, please RSVP ASAP. \nCarnival Firenze Seminar at Sea 06MAY2025 V1
URL:https://fareconnectevents.com/event/carnival-firenze-fam/
CATEGORIES:FAM Trip,Fareconnect FAM Trip
ATTACH;FMTTYPE=image/png:https://fareconnectevents.com/wp-content/uploads/2024/01/5.png
END:VEVENT
BEGIN:VEVENT
DTSTART;TZID=America/Winnipeg:20250511T000000
DTEND;TZID=America/Winnipeg:20250517T235959
DTSTAMP:20260424T113407
CREATED:20250228T163450Z
LAST-MODIFIED:20250228T163450Z
UID:4499-1746921600-1747526399@fareconnectevents.com
SUMMARY:Carnival Celebration FAM
DESCRIPTION:We are hosting a dedicated Seminar At Sea cruise\, presented by the Carnival Independent Advisor Team. \nJoin us for a special 6-day Eastern Caribbean cruise on Carnival Celebration from May 11 -17\, 2025. We will host seminars during the week in the morning only on sea days. The sailing will be yours to enjoy as an in-person learning experience! \nThere are only 25 cabins available at this special price so if you’re interested in attending\, please RSVP ASAP. \nCarnival Celebration Seminar at Sea 11MAY2025 V1 \n 
URL:https://fareconnectevents.com/event/carnival-celebration-fam/
CATEGORIES:FAM Trip,Fareconnect FAM Trip
ATTACH;FMTTYPE=image/png:https://fareconnectevents.com/wp-content/uploads/2024/01/5.png
END:VEVENT
BEGIN:VEVENT
DTSTART;TZID=America/Winnipeg:20250517T000000
DTEND;TZID=America/Winnipeg:20250523T235959
DTSTAMP:20260424T113407
CREATED:20241204T204747Z
LAST-MODIFIED:20241204T204748Z
UID:3751-1747440000-1748044799@fareconnectevents.com
SUMMARY:Sandos Hotels & Resorts FAM Trip with Fareconnect
DESCRIPTION:We are thrilled to extend an opportunity for you to register for our exclusive FAM Trip hosted by Sandos Hotels & Resorts in partnership with Fareconnect. Join us from\nMay 17th to May 23rd\nfor an unforgettable journey through Sandos Playacar\, Sandos Caracol and Sandos Cancun. \nClosing for Register is on January 10\,2025 \nplease complete the form on the resource site \n  \n 
URL:https://fareconnectevents.com/event/sandos-hotels-resorts-fam-trip-with-fareconnect/
CATEGORIES:Fareconnect FAM Trip
ATTACH;FMTTYPE=image/png:https://fareconnectevents.com/wp-content/uploads/2024/01/6.png
END:VEVENT
END:VCALENDAR