BEGIN:VCALENDAR
VERSION:2.0
PRODID:-//Fareconnect Events - ECPv6.15.20//NONSGML v1.0//EN
CALSCALE:GREGORIAN
METHOD:PUBLISH
X-ORIGINAL-URL:https://fareconnectevents.com
X-WR-CALDESC:Events for Fareconnect Events
REFRESH-INTERVAL;VALUE=DURATION:PT1H
X-Robots-Tag:noindex
X-PUBLISHED-TTL:PT1H
BEGIN:VTIMEZONE
TZID:America/Winnipeg
BEGIN:DAYLIGHT
TZOFFSETFROM:-0600
TZOFFSETTO:-0500
TZNAME:CDT
DTSTART:20230312T080000
END:DAYLIGHT
BEGIN:STANDARD
TZOFFSETFROM:-0500
TZOFFSETTO:-0600
TZNAME:CST
DTSTART:20231105T070000
END:STANDARD
BEGIN:DAYLIGHT
TZOFFSETFROM:-0600
TZOFFSETTO:-0500
TZNAME:CDT
DTSTART:20240310T080000
END:DAYLIGHT
BEGIN:STANDARD
TZOFFSETFROM:-0500
TZOFFSETTO:-0600
TZNAME:CST
DTSTART:20241103T070000
END:STANDARD
BEGIN:DAYLIGHT
TZOFFSETFROM:-0600
TZOFFSETTO:-0500
TZNAME:CDT
DTSTART:20250309T080000
END:DAYLIGHT
BEGIN:STANDARD
TZOFFSETFROM:-0500
TZOFFSETTO:-0600
TZNAME:CST
DTSTART:20251102T070000
END:STANDARD
END:VTIMEZONE
BEGIN:VEVENT
DTSTART;TZID=America/Winnipeg:20240423T000000
DTEND;TZID=America/Winnipeg:20240428T235959
DTSTAMP:20260425T052416
CREATED:20240124T113138Z
LAST-MODIFIED:20240125T102631Z
UID:129-1713830400-1714348799@fareconnectevents.com
SUMMARY:Melia FAM (Fareconnect Exclusive)
DESCRIPTION:Paradisus Cancun April 23-25 2024 \nMelia CZM April 25-26. 2024 \nParadisus La Perla: 26-28. 2024 \nFlights\, Transfers and Insurance is not included.\n\n\n  \nAll information and registration are available here: https://form.jotform.com/240045297476259
URL:https://fareconnectevents.com/event/melia-fam/
LOCATION:Cancun\, Cancun\, Mexico
CATEGORIES:Fareconnect FAM Trip
ATTACH;FMTTYPE=image/png:https://fareconnectevents.com/wp-content/uploads/2024/01/6.png
END:VEVENT
END:VCALENDAR