BEGIN:VCALENDAR
VERSION:2.0
PRODID:-//Fareconnect Events - ECPv6.15.20//NONSGML v1.0//EN
CALSCALE:GREGORIAN
METHOD:PUBLISH
X-WR-CALNAME:Fareconnect Events
X-ORIGINAL-URL:https://fareconnectevents.com
X-WR-CALDESC:Events for Fareconnect Events
REFRESH-INTERVAL;VALUE=DURATION:PT1H
X-Robots-Tag:noindex
X-PUBLISHED-TTL:PT1H
BEGIN:VTIMEZONE
TZID:America/Winnipeg
BEGIN:DAYLIGHT
TZOFFSETFROM:-0600
TZOFFSETTO:-0500
TZNAME:CDT
DTSTART:20240310T080000
END:DAYLIGHT
BEGIN:STANDARD
TZOFFSETFROM:-0500
TZOFFSETTO:-0600
TZNAME:CST
DTSTART:20241103T070000
END:STANDARD
BEGIN:DAYLIGHT
TZOFFSETFROM:-0600
TZOFFSETTO:-0500
TZNAME:CDT
DTSTART:20250309T080000
END:DAYLIGHT
BEGIN:STANDARD
TZOFFSETFROM:-0500
TZOFFSETTO:-0600
TZNAME:CST
DTSTART:20251102T070000
END:STANDARD
BEGIN:DAYLIGHT
TZOFFSETFROM:-0600
TZOFFSETTO:-0500
TZNAME:CDT
DTSTART:20260308T080000
END:DAYLIGHT
BEGIN:STANDARD
TZOFFSETFROM:-0500
TZOFFSETTO:-0600
TZNAME:CST
DTSTART:20261101T070000
END:STANDARD
END:VTIMEZONE
BEGIN:VEVENT
DTSTART;TZID=America/Winnipeg:20251104T000000
DTEND;TZID=America/Winnipeg:20251110T235959
DTSTAMP:20260424T021008
CREATED:20250523T164941Z
LAST-MODIFIED:20250523T164941Z
UID:5740-1762214400-1762819199@fareconnectevents.com
SUMMARY:West Coast/Mexico Nov 4th - 10th - Quantum of the Seas - Hosted by TBD
DESCRIPTION:Royal Caribbean would like to invite you to one of four Seminar at Sea training opportunities. If you’re interested in attending\, please register for one of the Seminar’s below.  Priority will be given to Travel Partners with a Travel Partner as a guest\, If you do not have a Travel Partner as a guest\, you can register with another guest over the age of 21.\n\n**Registering does not confirm your attendance; we will reach out once you’ve been selected.\nAll Seminar’s will be hosted in English!\n\nDates / Itinerary / Ship / Host Details below:\n\nPRICING\nAll Accommodation offered will be in ocean view balcony staterooms. \nWest Coast/Mexico Nov 4th – 10th – Quantum of the Seas – Hosted by TBD\n6 Night\nDouble occupancy – $737 USD per Travel Advisor & $737 USD per Guest\nSingle occupancy – $1\,193 USD per guest \nRegister link down below \n[https://forms.office.com/r/QzQFEssapK] \nHave a Royal Day\, \nRyan Lowe \nStrategic Account Manager \nRoyal Caribbean International
URL:https://fareconnectevents.com/event/west-coast-mexico-nov-4th-10th-quantum-of-the-seas-hosted-by-tbd/
CATEGORIES:FAM Trip
ATTACH;FMTTYPE=image/png:https://fareconnectevents.com/wp-content/uploads/2024/01/FAM.png
END:VEVENT
END:VCALENDAR