BEGIN:VCALENDAR
VERSION:2.0
PRODID:-//Fareconnect Events - ECPv6.15.20//NONSGML v1.0//EN
CALSCALE:GREGORIAN
METHOD:PUBLISH
X-ORIGINAL-URL:https://fareconnectevents.com
X-WR-CALDESC:Events for Fareconnect Events
REFRESH-INTERVAL;VALUE=DURATION:PT1H
X-Robots-Tag:noindex
X-PUBLISHED-TTL:PT1H
BEGIN:VTIMEZONE
TZID:America/Winnipeg
BEGIN:DAYLIGHT
TZOFFSETFROM:-0600
TZOFFSETTO:-0500
TZNAME:CDT
DTSTART:20230312T080000
END:DAYLIGHT
BEGIN:STANDARD
TZOFFSETFROM:-0500
TZOFFSETTO:-0600
TZNAME:CST
DTSTART:20231105T070000
END:STANDARD
BEGIN:DAYLIGHT
TZOFFSETFROM:-0600
TZOFFSETTO:-0500
TZNAME:CDT
DTSTART:20240310T080000
END:DAYLIGHT
BEGIN:STANDARD
TZOFFSETFROM:-0500
TZOFFSETTO:-0600
TZNAME:CST
DTSTART:20241103T070000
END:STANDARD
BEGIN:DAYLIGHT
TZOFFSETFROM:-0600
TZOFFSETTO:-0500
TZNAME:CDT
DTSTART:20250309T080000
END:DAYLIGHT
BEGIN:STANDARD
TZOFFSETFROM:-0500
TZOFFSETTO:-0600
TZNAME:CST
DTSTART:20251102T070000
END:STANDARD
END:VTIMEZONE
BEGIN:VEVENT
DTSTART;TZID=America/Winnipeg:20240416T120000
DTEND;TZID=America/Winnipeg:20240416T123000
DTSTAMP:20260423T215117
CREATED:20240210T111533Z
LAST-MODIFIED:20240408T145525Z
UID:1493-1713268800-1713270600@fareconnectevents.com
SUMMARY:Social Media Audit with Emma
DESCRIPTION:Let’s all level up on our Social Media together! \nDuring this session\, anyone can show up and together we can look at each other’s Social Media profiles and learn from each other. \nCome ready to share your Instagram or Facebook or TikTok (?!) or just attend to learn something. \nThis session will be run by Emma from Head Office. \nWhen: April 16th\, 2024 12:00 PM Winnipeg \nRegister in advance for this meeting:\nhttps://us06web.zoom.us/meeting/register/tZAqf-2gqz8pGNe36eKu6848GWTQZ3HOG89y \nAfter registering\, you will receive a confirmation email containing information about joining the meeting.
URL:https://fareconnectevents.com/event/social-media-audit-with-emma/
CATEGORIES:Business
ATTACH;FMTTYPE=image/png:https://fareconnectevents.com/wp-content/uploads/2024/02/Screenshot-2024-02-10-at-11.57.45.png
END:VEVENT
BEGIN:VEVENT
DTSTART;TZID=America/Winnipeg:20240328T120000
DTEND;TZID=America/Winnipeg:20240328T123000
DTSTAMP:20260423T215117
CREATED:20240322T160939Z
LAST-MODIFIED:20240322T160939Z
UID:1878-1711627200-1711629000@fareconnectevents.com
SUMMARY:Social Media Audit with Emma
DESCRIPTION:Let’s all level up on our Social Media together! \nDuring this session\, anyone can show up and together we can look at each other’s Social Media profiles and learn from each other. \nCome ready to share your Instagram or Facebook or TikTok (?!) or just attend to learn something. \nThis session will be run by Emma from Head Office. \nWhen: April 6th\, 2024 12:00 PM Winnipeg \nRegister in advance for this meeting:\nhttps://us06web.zoom.us/meeting/register/tZEkf-GgrzMtGNXK6INifVOuJh9Zrd3_Tx6K \nAfter registering\, you will receive a confirmation email containing information about joining the meeting.
URL:https://fareconnectevents.com/event/social-media-audit-with-emma-2/
CATEGORIES:Business
ATTACH;FMTTYPE=image/png:https://fareconnectevents.com/wp-content/uploads/2024/02/Screenshot-2024-02-10-at-11.57.45.png
END:VEVENT
BEGIN:VEVENT
DTSTART;TZID=America/Winnipeg:20240325T123000
DTEND;TZID=America/Winnipeg:20240325T130000
DTSTAMP:20260423T215117
CREATED:20240223T135250Z
LAST-MODIFIED:20240309T103706Z
UID:1686-1711369800-1711371600@fareconnectevents.com
SUMMARY:Ask Me Anything: Sales with Cindy
DESCRIPTION:This is an Ask Me Anything session on Sales for any Fareconnect members hosted by Cindy. \nWhen: Mar 25\, 2024 12:30 PM Winnipeg \nRegister in advance for this meeting:\nhttps://us06web.zoom.us/meeting/register/tZ0ld-urrjMiHNGpZJt4PROxNFicIUg-JOvQ \nAfter registering\, you will receive a confirmation email containing information about joining the meeting.
URL:https://fareconnectevents.com/event/ask-me-anything-sales-with-cindy-3/
CATEGORIES:Business
ATTACH;FMTTYPE=image/png:https://fareconnectevents.com/wp-content/uploads/2024/01/12.png
END:VEVENT
BEGIN:VEVENT
DTSTART;TZID=America/Winnipeg:20240309T100000
DTEND;TZID=America/Winnipeg:20240309T110000
DTSTAMP:20260423T215117
CREATED:20240125T184013Z
LAST-MODIFIED:20240309T103606Z
UID:274-1709978400-1709982000@fareconnectevents.com
SUMMARY:Social Media Audit
DESCRIPTION:Let’s all level up on our Social Media together!\n\nDuring this session\, anyone can show up and together we can look at each other’s Social Media profiles and learn from each other.\n\nCome ready to share your Instagram or Facebook or TikTok (?!) or just attend to learn something.\n\nThis session will be run by Emma from Head Office.\n\nWhen: Mar 9\, 2024 10:00 AM Winnipeg \nRegister in advance for this meeting:\nhttps://us06web.zoom.us/meeting/register/tZwvcO-sqTIqGdefTr6R0nVe5HEw9-pgw-jN \nAfter registering\, you will receive a confirmation email containing information about joining the meeting.
URL:https://fareconnectevents.com/event/social-media-audit-2/
CATEGORIES:Business
ATTACH;FMTTYPE=image/png:https://fareconnectevents.com/wp-content/uploads/2024/01/13.png
END:VEVENT
BEGIN:VEVENT
DTSTART;TZID=America/Winnipeg:20240304T123000
DTEND;TZID=America/Winnipeg:20240304T130000
DTSTAMP:20260423T215117
CREATED:20240223T135338Z
LAST-MODIFIED:20240223T135338Z
UID:1685-1709555400-1709557200@fareconnectevents.com
SUMMARY:Ask Me Anything: Sales with Cindy
DESCRIPTION:This is an Ask Me Anything session on Sales for any Fareconnect members hosted by Cindy. \nWhen: Mar 4\, 2024 12:30 PM Winnipeg \nRegister in advance for this meeting:\nhttps://us06web.zoom.us/meeting/register/tZYkdO2prTIsGN2CT-q-UiLo16OI_NvFX7xZ \nAfter registering\, you will receive a confirmation email containing information about joining the meeting.
URL:https://fareconnectevents.com/event/ask-me-anything-sales-with-cindy-4/
CATEGORIES:Business
ATTACH;FMTTYPE=image/png:https://fareconnectevents.com/wp-content/uploads/2024/01/12.png
END:VEVENT
BEGIN:VEVENT
DTSTART;TZID=America/Winnipeg:20240224T100000
DTEND;TZID=America/Winnipeg:20240224T110000
DTSTAMP:20260423T215117
CREATED:20240125T183814Z
LAST-MODIFIED:20240223T134230Z
UID:272-1708768800-1708772400@fareconnectevents.com
SUMMARY:E-mail Marketing Made Easy
DESCRIPTION:Let’s Talk about how you can get a e-mail marketing funnel set up in 2024 that WORKS FOR YOU!\n\nThis session will be run by Emma from Head Office.\n\nWhen: Feb 24\, 2024 10:00 AM Winnipeg \nRegister in advance for this meeting:\nhttps://us06web.zoom.us/meeting/register/tZEqcOuprzwqH9Y_pi22HJ08glVP8LGaab-2 \nAfter registering\, you will receive a confirmation email containing information about joining the meeting.
URL:https://fareconnectevents.com/event/e-mail-marketing-made-easy/
CATEGORIES:Business
ATTACH;FMTTYPE=image/png:https://fareconnectevents.com/wp-content/uploads/2024/01/13.png
END:VEVENT
BEGIN:VEVENT
DTSTART;TZID=America/Winnipeg:20240220T123000
DTEND;TZID=America/Winnipeg:20240220T130000
DTSTAMP:20260423T215117
CREATED:20240125T204936Z
LAST-MODIFIED:20240212T184729Z
UID:293-1708432200-1708434000@fareconnectevents.com
SUMMARY:Ask Me Anything: Sales with Cindy
DESCRIPTION:This is an Ask Me Anything session on Sales for any Fareconnect members hosted by Cindy. \n  \nWhen: Feb 20\, 2024 12:30 PM Winnipeg \nRegister in advance for this meeting:\nhttps://us06web.zoom.us/meeting/register/tZ0tc-CtrTIiH9brvv2IuKXx6uRiLFN5VMnh \nAfter registering\, you will receive a confirmation email containing information about joining the meeting.
URL:https://fareconnectevents.com/event/ask-me-anything-sales-with-cindy-2/
CATEGORIES:Business
ATTACH;FMTTYPE=image/png:https://fareconnectevents.com/wp-content/uploads/2024/01/12.png
END:VEVENT
BEGIN:VEVENT
DTSTART;TZID=America/Winnipeg:20240210T100000
DTEND;TZID=America/Winnipeg:20240210T110000
DTSTAMP:20260423T215117
CREATED:20240125T183456Z
LAST-MODIFIED:20240210T110509Z
UID:268-1707559200-1707562800@fareconnectevents.com
SUMMARY:Social Media Audit
DESCRIPTION:Let’s all level up on our Social Media together!\n\nDuring this session\, anyone can show up and together we can look at each other’s Social Media profiles and learn from each other.\n\nCome ready to share your Instagram or Facebook or TikTok (?!) or just attend to learn something.\n\nThis session will be run by Emma from Head Office.\n\nWhen: Feb 10\, 2024 10:00 AM Winnipeg \nRegister in advance for this meeting:\nhttps://us06web.zoom.us/meeting/register/tZ0odO-rqDMjE9V0zyDbr9Ti_mD4BmqKJiix \nAfter registering\, you will receive a confirmation email containing information about joining the meeting.
URL:https://fareconnectevents.com/event/social-media-audit/
CATEGORIES:Business
ATTACH;FMTTYPE=image/png:https://fareconnectevents.com/wp-content/uploads/2024/01/13.png
END:VEVENT
BEGIN:VEVENT
DTSTART;TZID=America/Winnipeg:20240205T123000
DTEND;TZID=America/Winnipeg:20240205T130000
DTSTAMP:20260423T215117
CREATED:20240125T204628Z
LAST-MODIFIED:20240125T204642Z
UID:290-1707136200-1707138000@fareconnectevents.com
SUMMARY:Ask Me Anything: Sales with Cindy
DESCRIPTION:This is an Ask Me Anything session for anyone at Fareconnect to come and ask Sales questions to Cindy. \nWhen: Feb 5\, 2024 12:30 PM Winnipeg \nRegister in advance for this meeting:\nhttps://us06web.zoom.us/meeting/register/tZYlcu6qrj4vGtcrWbnwMrkh2BNxKYvGVfs1 \nAfter registering\, you will receive a confirmation email containing information about joining the meeting.
URL:https://fareconnectevents.com/event/ask-me-anything-sales-with-cindy/
CATEGORIES:Business
ATTACH;FMTTYPE=image/png:https://fareconnectevents.com/wp-content/uploads/2024/01/12.png
END:VEVENT
END:VCALENDAR