BEGIN:VCALENDAR
VERSION:2.0
PRODID:-//Fareconnect Events - ECPv6.15.20//NONSGML v1.0//EN
CALSCALE:GREGORIAN
METHOD:PUBLISH
X-WR-CALNAME:Fareconnect Events
X-ORIGINAL-URL:https://fareconnectevents.com
X-WR-CALDESC:Events for Fareconnect Events
REFRESH-INTERVAL;VALUE=DURATION:PT1H
X-Robots-Tag:noindex
X-PUBLISHED-TTL:PT1H
BEGIN:VTIMEZONE
TZID:America/Winnipeg
BEGIN:DAYLIGHT
TZOFFSETFROM:-0600
TZOFFSETTO:-0500
TZNAME:CDT
DTSTART:20230312T080000
END:DAYLIGHT
BEGIN:STANDARD
TZOFFSETFROM:-0500
TZOFFSETTO:-0600
TZNAME:CST
DTSTART:20231105T070000
END:STANDARD
BEGIN:DAYLIGHT
TZOFFSETFROM:-0600
TZOFFSETTO:-0500
TZNAME:CDT
DTSTART:20240310T080000
END:DAYLIGHT
BEGIN:STANDARD
TZOFFSETFROM:-0500
TZOFFSETTO:-0600
TZNAME:CST
DTSTART:20241103T070000
END:STANDARD
BEGIN:DAYLIGHT
TZOFFSETFROM:-0600
TZOFFSETTO:-0500
TZNAME:CDT
DTSTART:20250309T080000
END:DAYLIGHT
BEGIN:STANDARD
TZOFFSETFROM:-0500
TZOFFSETTO:-0600
TZNAME:CST
DTSTART:20251102T070000
END:STANDARD
END:VTIMEZONE
BEGIN:VEVENT
DTSTART;TZID=America/Winnipeg:20240304T123000
DTEND;TZID=America/Winnipeg:20240304T130000
DTSTAMP:20260425T100226
CREATED:20240223T135338Z
LAST-MODIFIED:20240223T135338Z
UID:1685-1709555400-1709557200@fareconnectevents.com
SUMMARY:Ask Me Anything: Sales with Cindy
DESCRIPTION:This is an Ask Me Anything session on Sales for any Fareconnect members hosted by Cindy. \nWhen: Mar 4\, 2024 12:30 PM Winnipeg \nRegister in advance for this meeting:\nhttps://us06web.zoom.us/meeting/register/tZYkdO2prTIsGN2CT-q-UiLo16OI_NvFX7xZ \nAfter registering\, you will receive a confirmation email containing information about joining the meeting.
URL:https://fareconnectevents.com/event/ask-me-anything-sales-with-cindy-4/
CATEGORIES:Business
ATTACH;FMTTYPE=image/png:https://fareconnectevents.com/wp-content/uploads/2024/01/12.png
END:VEVENT
BEGIN:VEVENT
DTSTART;TZID=America/Winnipeg:20240309T100000
DTEND;TZID=America/Winnipeg:20240309T110000
DTSTAMP:20260425T100226
CREATED:20240125T184013Z
LAST-MODIFIED:20240309T103606Z
UID:274-1709978400-1709982000@fareconnectevents.com
SUMMARY:Social Media Audit
DESCRIPTION:Let’s all level up on our Social Media together!\n\nDuring this session\, anyone can show up and together we can look at each other’s Social Media profiles and learn from each other.\n\nCome ready to share your Instagram or Facebook or TikTok (?!) or just attend to learn something.\n\nThis session will be run by Emma from Head Office.\n\nWhen: Mar 9\, 2024 10:00 AM Winnipeg \nRegister in advance for this meeting:\nhttps://us06web.zoom.us/meeting/register/tZwvcO-sqTIqGdefTr6R0nVe5HEw9-pgw-jN \nAfter registering\, you will receive a confirmation email containing information about joining the meeting.
URL:https://fareconnectevents.com/event/social-media-audit-2/
CATEGORIES:Business
ATTACH;FMTTYPE=image/png:https://fareconnectevents.com/wp-content/uploads/2024/01/13.png
END:VEVENT
BEGIN:VEVENT
DTSTART;TZID=America/Winnipeg:20240325T123000
DTEND;TZID=America/Winnipeg:20240325T130000
DTSTAMP:20260425T100226
CREATED:20240223T135250Z
LAST-MODIFIED:20240309T103706Z
UID:1686-1711369800-1711371600@fareconnectevents.com
SUMMARY:Ask Me Anything: Sales with Cindy
DESCRIPTION:This is an Ask Me Anything session on Sales for any Fareconnect members hosted by Cindy. \nWhen: Mar 25\, 2024 12:30 PM Winnipeg \nRegister in advance for this meeting:\nhttps://us06web.zoom.us/meeting/register/tZ0ld-urrjMiHNGpZJt4PROxNFicIUg-JOvQ \nAfter registering\, you will receive a confirmation email containing information about joining the meeting.
URL:https://fareconnectevents.com/event/ask-me-anything-sales-with-cindy-3/
CATEGORIES:Business
ATTACH;FMTTYPE=image/png:https://fareconnectevents.com/wp-content/uploads/2024/01/12.png
END:VEVENT
BEGIN:VEVENT
DTSTART;TZID=America/Winnipeg:20240328T120000
DTEND;TZID=America/Winnipeg:20240328T123000
DTSTAMP:20260425T100226
CREATED:20240322T160939Z
LAST-MODIFIED:20240322T160939Z
UID:1878-1711627200-1711629000@fareconnectevents.com
SUMMARY:Social Media Audit with Emma
DESCRIPTION:Let’s all level up on our Social Media together! \nDuring this session\, anyone can show up and together we can look at each other’s Social Media profiles and learn from each other. \nCome ready to share your Instagram or Facebook or TikTok (?!) or just attend to learn something. \nThis session will be run by Emma from Head Office. \nWhen: April 6th\, 2024 12:00 PM Winnipeg \nRegister in advance for this meeting:\nhttps://us06web.zoom.us/meeting/register/tZEkf-GgrzMtGNXK6INifVOuJh9Zrd3_Tx6K \nAfter registering\, you will receive a confirmation email containing information about joining the meeting.
URL:https://fareconnectevents.com/event/social-media-audit-with-emma-2/
CATEGORIES:Business
ATTACH;FMTTYPE=image/png:https://fareconnectevents.com/wp-content/uploads/2024/02/Screenshot-2024-02-10-at-11.57.45.png
END:VEVENT
END:VCALENDAR